Workbook

Sheet Cover

Sheet List
B1: ALBERT NESTLER SLIDE RULES | G1: (Andreas Faßbender)
B2: Model Numbers used from 1905 to 1957
C3: (cm)
A4: # | B4: Model | C4: Length | D4: Type | E4: Material | G4: Begin | H4: End | I4: Type | J4: Material | L4: Begin | M4: End | N4: Type | O4: Material | Q4: Begin | R4: End | S4: Type | T4: Material | V4: Begin | W4: End
A5: 1 | B5: 1 | C5: 12.5 | D5: Mannheim | E5: Boxwood | F5: =VLOOKUP(E5,$E$220:$G$235,2) -> B | G5: 1911 | H5: 1927 | K5: =IFERROR(VLOOKUP(J5,$E$220:$G$235,2),"") | P5: =IFERROR(VLOOKUP(O5,$E$220:$G$235,2),"") | U5: =IFERROR(VLOOKUP(T5,$E$220:$G$235,2),"")
A6: 2 | B6: 1 | C6: 25 | D6: Mannheim | E6: Boxwood | F6: =VLOOKUP(E6,$E$220:$G$235,2) -> B | G6: 1905 | H6: 1910 | I6: Mannheim | J6: Rowan | K6: =IFERROR(VLOOKUP(J6,$E$220:$G$235,2),"") -> R | L6: 1928 | M6: 1933 | N6: Mannheim | O6: Mahogany | P6: =IFERROR(VLOOKUP(O6,$E$220:$G$235,2),"") -> M | Q6: 1934 | R6: 1949 | U6: =IFERROR(VLOOKUP(T6,$E$220:$G$235,2),"")
A7: 3 | B7: 1a | C7: 25 | D7: Mannheim | E7: Boxwood | F7: =VLOOKUP(E7,$E$220:$G$235,2) -> B | G7: 1911 | H7: 1927 | K7: =IFERROR(VLOOKUP(J7,$E$220:$G$235,2),"") | P7: =IFERROR(VLOOKUP(O7,$E$220:$G$235,2),"") | U7: =IFERROR(VLOOKUP(T7,$E$220:$G$235,2),"")
A8: 4 | B8: 1c | C8: 25 | D8: Mannheim | E8: Rowan | F8: =VLOOKUP(E8,$E$220:$G$235,2) -> R | G8: 1924 | H8: 1930 | K8: =IFERROR(VLOOKUP(J8,$E$220:$G$235,2),"") | P8: =IFERROR(VLOOKUP(O8,$E$220:$G$235,2),"") | U8: =IFERROR(VLOOKUP(T8,$E$220:$G$235,2),"")
A9: 5 | B9: 1Z | C9: 12.5 | D9: Mannheim | E9: Boxwood | F9: =VLOOKUP(E9,$E$220:$G$235,2) -> B | G9: 1914 | H9: 1921 | K9: =IFERROR(VLOOKUP(J9,$E$220:$G$235,2),"") | P9: =IFERROR(VLOOKUP(O9,$E$220:$G$235,2),"") | U9: =IFERROR(VLOOKUP(T9,$E$220:$G$235,2),"")
A10: 6 | B10: 2 | C10: 12.5 | D10: Mannheim | E10: Boxwood | F10: =VLOOKUP(E10,$E$220:$G$235,2) -> B | G10: 1922 | H10: 1927 | K10: =IFERROR(VLOOKUP(J10,$E$220:$G$235,2),"") | P10: =IFERROR(VLOOKUP(O10,$E$220:$G$235,2),"") | U10: =IFERROR(VLOOKUP(T10,$E$220:$G$235,2),"")
A11: 7 | B11: 2 | C11: 20 | D11: Soho | E11: Boxwood | F11: =VLOOKUP(E11,$E$220:$G$235,2) -> B | G11: 1905 | H11: 1921 | K11: =IFERROR(VLOOKUP(J11,$E$220:$G$235,2),"") | P11: =IFERROR(VLOOKUP(O11,$E$220:$G$235,2),"") | U11: =IFERROR(VLOOKUP(T11,$E$220:$G$235,2),"")
A12: 8 | B12: 2 | C12: 25 | D12: Mannheim | E12: Mahogany | F12: =VLOOKUP(E12,$E$220:$G$235,2) -> M | G12: 1934 | H12: 1949 | K12: =IFERROR(VLOOKUP(J12,$E$220:$G$235,2),"") | P12: =IFERROR(VLOOKUP(O12,$E$220:$G$235,2),"") | U12: =IFERROR(VLOOKUP(T12,$E$220:$G$235,2),"")
A13: 9 | B13: 2a | C13: 25 | D13: Mannheim | E13: Boxwood | F13: =VLOOKUP(E13,$E$220:$G$235,2) -> B | G13: 1922 | H13: 1927 | K13: =IFERROR(VLOOKUP(J13,$E$220:$G$235,2),"") | P13: =IFERROR(VLOOKUP(O13,$E$220:$G$235,2),"") | U13: =IFERROR(VLOOKUP(T13,$E$220:$G$235,2),"")
A14: 10 | B14: 2c | C14: 25 | D14: Mannheim | E14: Rowan | F14: =VLOOKUP(E14,$E$220:$G$235,2) -> R | G14: 1924 | H14: 1927 | K14: =IFERROR(VLOOKUP(J14,$E$220:$G$235,2),"") | P14: =IFERROR(VLOOKUP(O14,$E$220:$G$235,2),"") | U14: =IFERROR(VLOOKUP(T14,$E$220:$G$235,2),"")
A15: 11 | B15: 3 | C15: 25 | D15: Soho | E15: Boxwood | F15: =VLOOKUP(E15,$E$220:$G$235,2) -> B | G15: 1905 | H15: 1921 | I15: Mannheim | J15: Rowan | K15: =IFERROR(VLOOKUP(J15,$E$220:$G$235,2),"") -> R | L15: 1928 | M15: 1933 | N15: Mannheim | O15: Mahogany | P15: =IFERROR(VLOOKUP(O15,$E$220:$G$235,2),"") -> M | Q15: 1934 | R15: 1949 | U15: =IFERROR(VLOOKUP(T15,$E$220:$G$235,2),"")
A16: 12 | B16: 4 | C16: 20 | D16: Mannheim | E16: Boxwood | F16: =VLOOKUP(E16,$E$220:$G$235,2) -> B | G16: 1905 | H16: 1921 | K16: =IFERROR(VLOOKUP(J16,$E$220:$G$235,2),"") | P16: =IFERROR(VLOOKUP(O16,$E$220:$G$235,2),"") | U16: =IFERROR(VLOOKUP(T16,$E$220:$G$235,2),"")
A17: 13 | B17: 4 | C17: 25 | D17: Mannheim | E17: Boxwood | F17: =VLOOKUP(E17,$E$220:$G$235,2) -> B | G17: 1914 | H17: 1921 | I17: Mannheim | J17: Boxwood | K17: =IFERROR(VLOOKUP(J17,$E$220:$G$235,2),"") -> B | L17: 1928 | M17: 1933 | N17: Mannheim | O17: Mahogany | P17: =IFERROR(VLOOKUP(O17,$E$220:$G$235,2),"") -> M | Q17: 1934 | R17: 1949 | U17: =IFERROR(VLOOKUP(T17,$E$220:$G$235,2),"")
A18: 14 | B18: 5 | C18: 12.5 | D18: Mannheim | E18: Boxwood | F18: =VLOOKUP(E18,$E$220:$G$235,2) -> B | G18: 1928 | H18: 1930 | I18: Mannheim | J18: Maple | K18: =IFERROR(VLOOKUP(J18,$E$220:$G$235,2),"") -> L | L18: 1931 | M18: 1940 | P18: =IFERROR(VLOOKUP(O18,$E$220:$G$235,2),"") | U18: =IFERROR(VLOOKUP(T18,$E$220:$G$235,2),"")
A19: 15 | B19: 5 | C19: 25 | D19: Mannheim | E19: Boxwood | F19: =VLOOKUP(E19,$E$220:$G$235,2) -> B | G19: 1905 | H19: 1927 | I19: Mannheim | J19: Boxwood | K19: =IFERROR(VLOOKUP(J19,$E$220:$G$235,2),"") -> B | L19: 1928 | M19: 1930 | N19: Mannheim | O19: Maple | P19: =IFERROR(VLOOKUP(O19,$E$220:$G$235,2),"") -> L | Q19: 1931 | R19: 1949 | U19: =IFERROR(VLOOKUP(T19,$E$220:$G$235,2),"")
A20: 16 | B20: 5 | C20: 36 | D20: Mannheim | E20: Boxwood | F20: =VLOOKUP(E20,$E$220:$G$235,2) -> B | G20: 1914 | H20: 1921 | K20: =IFERROR(VLOOKUP(J20,$E$220:$G$235,2),"") | P20: =IFERROR(VLOOKUP(O20,$E$220:$G$235,2),"") | U20: =IFERROR(VLOOKUP(T20,$E$220:$G$235,2),"")
A21: 17 | B21: 5 | C21: 50 | D21: Mannheim | E21: Boxwood | F21: =VLOOKUP(E21,$E$220:$G$235,2) -> B | G21: 1914 | H21: 1921 | K21: =IFERROR(VLOOKUP(J21,$E$220:$G$235,2),"") | P21: =IFERROR(VLOOKUP(O21,$E$220:$G$235,2),"") | U21: =IFERROR(VLOOKUP(T21,$E$220:$G$235,2),"")
A22: 18 | B22: 5D | C22: 100 | D22: Mannheim | E22: Poplar | F22: =VLOOKUP(E22,$E$220:$G$235,2) -> P | G22: 1934 | H22: 1949 | K22: =IFERROR(VLOOKUP(J22,$E$220:$G$235,2),"") | P22: =IFERROR(VLOOKUP(O22,$E$220:$G$235,2),"") | U22: =IFERROR(VLOOKUP(T22,$E$220:$G$235,2),"")
A23: 19 | B23: 6 | C23: 10 | D23: Mannheim | E23: Immitation ivory | F23: =VLOOKUP(E23,$E$220:$G$235,2) -> I | G23: 1928 | H23: 1933 | K23: =IFERROR(VLOOKUP(J23,$E$220:$G$235,2),"") | P23: =IFERROR(VLOOKUP(O23,$E$220:$G$235,2),"") | U23: =IFERROR(VLOOKUP(T23,$E$220:$G$235,2),"")
A24: 20 | B24: 6 | C24: 12.5 | D24: Mannheim | E24: Ivory | F24: =VLOOKUP(E24,$E$220:$G$235,2) -> E | G24: 1911 | H24: 1927 | I24: Mannheim | J24: Immitation ivory | K24: =IFERROR(VLOOKUP(J24,$E$220:$G$235,2),"") -> I | L24: 1928 | M24: 1933 | P24: =IFERROR(VLOOKUP(O24,$E$220:$G$235,2),"") | U24: =IFERROR(VLOOKUP(T24,$E$220:$G$235,2),"")
A25: 21 | B25: 6 | C25: 25 | D25: Mannheim | E25: Boxwood | F25: =VLOOKUP(E25,$E$220:$G$235,2) -> B | G25: 1905 | H25: 1910 | K25: =IFERROR(VLOOKUP(J25,$E$220:$G$235,2),"") | P25: =IFERROR(VLOOKUP(O25,$E$220:$G$235,2),"") | U25: =IFERROR(VLOOKUP(T25,$E$220:$G$235,2),"")
A26: 22 | B26: 6a | C26: 12.5 | D26: Mannheim | E26: Ivory | F26: =VLOOKUP(E26,$E$220:$G$235,2) -> E | G26: 1905 | H26: 1910 | I26: Mannheim | J26: Immitation ivory | K26: =IFERROR(VLOOKUP(J26,$E$220:$G$235,2),"") -> I | L26: 1928 | M26: 1933 | P26: =IFERROR(VLOOKUP(O26,$E$220:$G$235,2),"") | U26: =IFERROR(VLOOKUP(T26,$E$220:$G$235,2),"")
A27: 23 | B27: 7 | C27: 20 | D27: Mannheim | E27: Ivory | F27: =VLOOKUP(E27,$E$220:$G$235,2) -> E | G27: 1905 | H27: 1921 | K27: =IFERROR(VLOOKUP(J27,$E$220:$G$235,2),"") | P27: =IFERROR(VLOOKUP(O27,$E$220:$G$235,2),"") | U27: =IFERROR(VLOOKUP(T27,$E$220:$G$235,2),"")
A28: 24 | B28: 7 | C28: 25 | D28: Commercial | E28: Boxwood | F28: =VLOOKUP(E28,$E$220:$G$235,2) -> B | G28: 1928 | H28: 1930 | I28: Commercial | J28: Maple | K28: =IFERROR(VLOOKUP(J28,$E$220:$G$235,2),"") -> L | L28: 1931 | M28: 1949 | P28: =IFERROR(VLOOKUP(O28,$E$220:$G$235,2),"") | U28: =IFERROR(VLOOKUP(T28,$E$220:$G$235,2),"")
A29: 25 | B29: 7a | C29: 25 | D29: Commercial | E29: Mahogany | F29: =VLOOKUP(E29,$E$220:$G$235,2) -> M | G29: 1938 | H29: 1949 | K29: =IFERROR(VLOOKUP(J29,$E$220:$G$235,2),"") | P29: =IFERROR(VLOOKUP(O29,$E$220:$G$235,2),"") | U29: =IFERROR(VLOOKUP(T29,$E$220:$G$235,2),"")
A30: 26 | B30: 7D | C30: 100 | D30: Commercial | E30: Poplar | F30: =VLOOKUP(E30,$E$220:$G$235,2) -> P | G30: 1934 | H30: 1940 | K30: =IFERROR(VLOOKUP(J30,$E$220:$G$235,2),"") | P30: =IFERROR(VLOOKUP(O30,$E$220:$G$235,2),"") | U30: =IFERROR(VLOOKUP(T30,$E$220:$G$235,2),"")
A31: 27 | B31: 7/52 | C31: 25 | D31: Commercial | E31: Anagit | F31: =VLOOKUP(E31,$E$220:$G$235,2) -> A | G31: 1952 | H31: 1957 | K31: =IFERROR(VLOOKUP(J31,$E$220:$G$235,2),"") | P31: =IFERROR(VLOOKUP(O31,$E$220:$G$235,2),"") | U31: =IFERROR(VLOOKUP(T31,$E$220:$G$235,2),"")
A32: 28 | B32: 8 | C32: 25 | D32: Mannheim | E32: Ivory | F32: =VLOOKUP(E32,$E$220:$G$235,2) -> E | G32: 1905 | H32: 1921 | I32: Rietz | J32: Boxwood | K32: =IFERROR(VLOOKUP(J32,$E$220:$G$235,2),"") -> B | L32: 1928 | M32: 1930 | N32: Rietz | O32: Maple | P32: =IFERROR(VLOOKUP(O32,$E$220:$G$235,2),"") -> L | Q32: 1931 | R32: 1949 | U32: =IFERROR(VLOOKUP(T32,$E$220:$G$235,2),"")
A33: 29 | B33: 8D | C33: 100 | D33: Rietz | E33: Poplar | F33: =VLOOKUP(E33,$E$220:$G$235,2) -> P | G33: 1934 | H33: 1949 | K33: =IFERROR(VLOOKUP(J33,$E$220:$G$235,2),"") | P33: =IFERROR(VLOOKUP(O33,$E$220:$G$235,2),"") | U33: =IFERROR(VLOOKUP(T33,$E$220:$G$235,2),"")
A34: 30 | B34: 9 | C34: 25 | D34: Mannheim | E34: German Silver | F34: =VLOOKUP(E34,$E$220:$G$235,2) -> G | G34: 1905 | H34: 1921 | I34: Rietz | J34: Mahogany | K34: =IFERROR(VLOOKUP(J34,$E$220:$G$235,2),"") -> M | L34: 1934 | M34: 1949 | N34: Rietz | O34: Wood | P34: =IFERROR(VLOOKUP(O34,$E$220:$G$235,2),"") -> W | Q34: 1951 | R34: 1955 | U34: =IFERROR(VLOOKUP(T34,$E$220:$G$235,2),"")
A35: 31 | B35: 9a | C35: 40 | D35: Spanish Tacheometer | E35: German Silver | F35: =VLOOKUP(E35,$E$220:$G$235,2) -> G | G35: 1911 | H35: 1921 | K35: =IFERROR(VLOOKUP(J35,$E$220:$G$235,2),"") | P35: =IFERROR(VLOOKUP(O35,$E$220:$G$235,2),"") | U35: =IFERROR(VLOOKUP(T35,$E$220:$G$235,2),"")
A36: 32 | B36: 9/53 | C36: 25 | D36: Rietz | E36: Anagit | F36: =VLOOKUP(E36,$E$220:$G$235,2) -> A | G36: 1956 | H36: 1957 | K36: =IFERROR(VLOOKUP(J36,$E$220:$G$235,2),"") | P36: =IFERROR(VLOOKUP(O36,$E$220:$G$235,2),"") | U36: =IFERROR(VLOOKUP(T36,$E$220:$G$235,2),"")
A37: 33 | B37: 10 | C37: 20 | D37: Mannheim | E37: Mahogany | F37: =VLOOKUP(E37,$E$220:$G$235,2) -> M | G37: 1905 | H37: 1910 | K37: =IFERROR(VLOOKUP(J37,$E$220:$G$235,2),"") | P37: =IFERROR(VLOOKUP(O37,$E$220:$G$235,2),"") | U37: =IFERROR(VLOOKUP(T37,$E$220:$G$235,2),"")
A38: 34 | B38: 10 | C38: 25 | D38: Mannheim | E38: Mahogany | F38: =VLOOKUP(E38,$E$220:$G$235,2) -> M | G38: 1911 | H38: 1913 | I38: Mannheim | J38: Mahogany/Walnut | K38: =IFERROR(VLOOKUP(J38,$E$220:$G$235,2),"") -> O | L38: 1914 | M38: 1927 | N38: Mannheim | O38: Mahogany | P38: =IFERROR(VLOOKUP(O38,$E$220:$G$235,2),"") -> M | Q38: 1928 | R38: 1949 | U38: =IFERROR(VLOOKUP(T38,$E$220:$G$235,2),"")
A39: 35 | B39: 10a | C39: 25 | D39: Mannheim | E39: Mahogany | F39: =VLOOKUP(E39,$E$220:$G$235,2) -> M | G39: 1911 | H39: 1913 | I39: Mannheim | J39: Mahogany/Walnut | K39: =IFERROR(VLOOKUP(J39,$E$220:$G$235,2),"") -> O | L39: 1914 | M39: 1921 | P39: =IFERROR(VLOOKUP(O39,$E$220:$G$235,2),"") | U39: =IFERROR(VLOOKUP(T39,$E$220:$G$235,2),"")
A40: 36 | B40: 11 | C40: 12.5 | D40: Mannheim | E40: Mahogany | F40: =VLOOKUP(E40,$E$220:$G$235,2) -> M | G40: 1911 | H40: 1913 | I40: Mannheim | J40: Mahogany/Walnut | K40: =IFERROR(VLOOKUP(J40,$E$220:$G$235,2),"") -> O | L40: 1914 | M40: 1927 | N40: Mannheim | O40: Mahogany | P40: =IFERROR(VLOOKUP(O40,$E$220:$G$235,2),"") -> M | Q40: 1928 | R40: 1940 | U40: =IFERROR(VLOOKUP(T40,$E$220:$G$235,2),"")
A41: 37 | B41: 11 | C41: 25 | D41: Mannheim | E41: Mahogany | F41: =VLOOKUP(E41,$E$220:$G$235,2) -> M | G41: 1905 | H41: 1910 | K41: =IFERROR(VLOOKUP(J41,$E$220:$G$235,2),"") | P41: =IFERROR(VLOOKUP(O41,$E$220:$G$235,2),"") | U41: =IFERROR(VLOOKUP(T41,$E$220:$G$235,2),"")
A42: 38 | B42: 11a | C42: 10 | D42: Mannheim | E42: Mahogany | F42: =VLOOKUP(E42,$E$220:$G$235,2) -> M | G42: 1928 | H42: 1930 | K42: =IFERROR(VLOOKUP(J42,$E$220:$G$235,2),"") | P42: =IFERROR(VLOOKUP(O42,$E$220:$G$235,2),"") | U42: =IFERROR(VLOOKUP(T42,$E$220:$G$235,2),"")
A43: 39 | B43: 11b | C43: 12.5 | D43: Mannheim | E43: Mahogany | F43: =VLOOKUP(E43,$E$220:$G$235,2) -> M | G43: 1928 | H43: 1930 | K43: =IFERROR(VLOOKUP(J43,$E$220:$G$235,2),"") | P43: =IFERROR(VLOOKUP(O43,$E$220:$G$235,2),"") | U43: =IFERROR(VLOOKUP(T43,$E$220:$G$235,2),"")
A44: 40 | B44: 11CM | C44: 12.5 | D44: Mannheim | E44: Mahogany | F44: =VLOOKUP(E44,$E$220:$G$235,2) -> M | G44: 1934 | H44: 1934 | K44: =IFERROR(VLOOKUP(J44,$E$220:$G$235,2),"") | P44: =IFERROR(VLOOKUP(O44,$E$220:$G$235,2),"") | U44: =IFERROR(VLOOKUP(T44,$E$220:$G$235,2),"")
A45: 41 | B45: 11CO | C45: 12.5 | D45: Mannheim | E45: Mahogany | F45: =VLOOKUP(E45,$E$220:$G$235,2) -> M | G45: 1934 | H45: 1934 | K45: =IFERROR(VLOOKUP(J45,$E$220:$G$235,2),"") | P45: =IFERROR(VLOOKUP(O45,$E$220:$G$235,2),"") | U45: =IFERROR(VLOOKUP(T45,$E$220:$G$235,2),"")
A46: 42 | B46: 11CR | C46: 12.5 | D46: Mannheim | E46: Mahogany | F46: =VLOOKUP(E46,$E$220:$G$235,2) -> M | G46: 1934 | H46: 1934 | K46: =IFERROR(VLOOKUP(J46,$E$220:$G$235,2),"") | P46: =IFERROR(VLOOKUP(O46,$E$220:$G$235,2),"") | U46: =IFERROR(VLOOKUP(T46,$E$220:$G$235,2),"")
A47: 43 | B47: 11B | C47: 12.5 | D47: Steel Concrete | E47: Celluloid | F47: =VLOOKUP(E47,$E$220:$G$235,2) -> C | G47: 1952 | H47: 1957 | K47: =IFERROR(VLOOKUP(J47,$E$220:$G$235,2),"") | P47: =IFERROR(VLOOKUP(O47,$E$220:$G$235,2),"") | U47: =IFERROR(VLOOKUP(T47,$E$220:$G$235,2),"")
A48: 44 | B48: 11D | C48: 12.5 | D48: Darmstadt | E48: Celluloid | F48: =VLOOKUP(E48,$E$220:$G$235,2) -> C | G48: 1951 | H48: 1957 | K48: =IFERROR(VLOOKUP(J48,$E$220:$G$235,2),"") | P48: =IFERROR(VLOOKUP(O48,$E$220:$G$235,2),"") | U48: =IFERROR(VLOOKUP(T48,$E$220:$G$235,2),"")
A49: 45 | B49: 11E | C49: 12.5 | D49: Mannheim | E49: Immitation ivory | F49: =VLOOKUP(E49,$E$220:$G$235,2) -> I | G49: 1931 | H49: 1933 | I49: Electro | J49: Celluloid | K49: =IFERROR(VLOOKUP(J49,$E$220:$G$235,2),"") -> C | L49: 1952 | M49: 1957 | P49: =IFERROR(VLOOKUP(O49,$E$220:$G$235,2),"") | U49: =IFERROR(VLOOKUP(T49,$E$220:$G$235,2),"")
A50: 46 | B50: 11G | C50: 12.5 | D50: Weight | E50: Celluloid | F50: =VLOOKUP(E50,$E$220:$G$235,2) -> C | G50: 1956 | H50: 1957 | K50: =IFERROR(VLOOKUP(J50,$E$220:$G$235,2),"") | P50: =IFERROR(VLOOKUP(O50,$E$220:$G$235,2),"") | U50: =IFERROR(VLOOKUP(T50,$E$220:$G$235,2),"")
A51: 47 | B51: 11H | C51: 12.5 | D51: Timber trade | E51: Celluloid | F51: =VLOOKUP(E51,$E$220:$G$235,2) -> C | G51: 1952 | H51: 1957 | K51: =IFERROR(VLOOKUP(J51,$E$220:$G$235,2),"") | P51: =IFERROR(VLOOKUP(O51,$E$220:$G$235,2),"") | U51: =IFERROR(VLOOKUP(T51,$E$220:$G$235,2),"")
A52: 48 | B52: 11K | C52: 12.5 | D52: Commercial | E52: Celluloid | F52: =VLOOKUP(E52,$E$220:$G$235,2) -> C | G52: 1952 | H52: 1957 | K52: =IFERROR(VLOOKUP(J52,$E$220:$G$235,2),"") | P52: =IFERROR(VLOOKUP(O52,$E$220:$G$235,2),"") | U52: =IFERROR(VLOOKUP(T52,$E$220:$G$235,2),"")
A53: 49 | B53: 11M | C53: 12.5 | D53: Mannheim | E53: Celluloid | F53: =VLOOKUP(E53,$E$220:$G$235,2) -> C | G53: 1952 | H53: 1957 | K53: =IFERROR(VLOOKUP(J53,$E$220:$G$235,2),"") | P53: =IFERROR(VLOOKUP(O53,$E$220:$G$235,2),"") | U53: =IFERROR(VLOOKUP(T53,$E$220:$G$235,2),"")
A54: 50 | B54: 11O | C54: 12.5 | D54: Mannheim | E54: Celluloid | F54: =VLOOKUP(E54,$E$220:$G$235,2) -> C | G54: 1952 | H54: 1957 | K54: =IFERROR(VLOOKUP(J54,$E$220:$G$235,2),"") | P54: =IFERROR(VLOOKUP(O54,$E$220:$G$235,2),"") | U54: =IFERROR(VLOOKUP(T54,$E$220:$G$235,2),"")
A55: 51 | B55: 11R | C55: 12.5 | D55: Rietz | E55: Celluloid | F55: =VLOOKUP(E55,$E$220:$G$235,2) -> C | G55: 1952 | H55: 1957 | K55: =IFERROR(VLOOKUP(J55,$E$220:$G$235,2),"") | P55: =IFERROR(VLOOKUP(O55,$E$220:$G$235,2),"") | U55: =IFERROR(VLOOKUP(T55,$E$220:$G$235,2),"")
A56: 52 | B56: 11ZB | C56: 12.5 | D56: Steel Concrete | E56: Celluloid | F56: =VLOOKUP(E56,$E$220:$G$235,2) -> C | G56: 1938 | H56: 1951 | K56: =IFERROR(VLOOKUP(J56,$E$220:$G$235,2),"") | P56: =IFERROR(VLOOKUP(O56,$E$220:$G$235,2),"") | U56: =IFERROR(VLOOKUP(T56,$E$220:$G$235,2),"")
A57: 53 | B57: 11ZE | C57: 12.5 | D57: Electro | E57: Celluloid | F57: =VLOOKUP(E57,$E$220:$G$235,2) -> C | G57: 1934 | H57: 1951 | K57: =IFERROR(VLOOKUP(J57,$E$220:$G$235,2),"") | P57: =IFERROR(VLOOKUP(O57,$E$220:$G$235,2),"") | U57: =IFERROR(VLOOKUP(T57,$E$220:$G$235,2),"")
A58: 54 | B58: 11ZF | C58: 12.5 | D58: Velocity | E58: Celluloid | F58: =VLOOKUP(E58,$E$220:$G$235,2) -> C | G58: 1942 | H58: 1945 | K58: =IFERROR(VLOOKUP(J58,$E$220:$G$235,2),"") | P58: =IFERROR(VLOOKUP(O58,$E$220:$G$235,2),"") | U58: =IFERROR(VLOOKUP(T58,$E$220:$G$235,2),"")
A59: 55 | B59: 11ZH | C59: 12.5 | D59: Timber trade | E59: Celluloid | F59: =VLOOKUP(E59,$E$220:$G$235,2) -> C | G59: 1950 | H59: 1951 | K59: =IFERROR(VLOOKUP(J59,$E$220:$G$235,2),"") | P59: =IFERROR(VLOOKUP(O59,$E$220:$G$235,2),"") | U59: =IFERROR(VLOOKUP(T59,$E$220:$G$235,2),"")
A60: 56 | B60: 11ZK | C60: 12.5 | D60: Commercial | E60: Celluloid | F60: =VLOOKUP(E60,$E$220:$G$235,2) -> C | G60: 1934 | H60: 1951 | K60: =IFERROR(VLOOKUP(J60,$E$220:$G$235,2),"") | P60: =IFERROR(VLOOKUP(O60,$E$220:$G$235,2),"") | U60: =IFERROR(VLOOKUP(T60,$E$220:$G$235,2),"")
A61: 57 | B61: 11ZM | C61: 12.5 | D61: Mannheim | E61: Celluloid | F61: =VLOOKUP(E61,$E$220:$G$235,2) -> C | G61: 1934 | H61: 1951 | K61: =IFERROR(VLOOKUP(J61,$E$220:$G$235,2),"") | P61: =IFERROR(VLOOKUP(O61,$E$220:$G$235,2),"") | U61: =IFERROR(VLOOKUP(T61,$E$220:$G$235,2),"")
... A63: 59 | B63: 11ZR | C63: 12.5 | D63: Rietz | E63: Celluloid | F63: =VLOOKUP(E63,$E$220:$G$235,2) -> C | G63: 1934 | H63: 1951 | K63: =IFERROR(VLOOKUP(J63,$E$220:$G$235,2),"") | P63: =IFERROR(VLOOKUP(O63,$E$220:$G$235,2),"") | U63: =IFERROR(VLOOKUP(T63,$E$220:$G$235,2),"")
A64: 60 | B64: 12 | C64: 12.5 | D64: Mannheim | E64: Mahogany | F64: =VLOOKUP(E64,$E$220:$G$235,2) -> M | G64: 1905 | H64: 1913 | I64: Mannheim | J64: Mahogany/Walnut | K64: =IFERROR(VLOOKUP(J64,$E$220:$G$235,2),"") -> O | L64: 1914 | M64: 1927 | N64: Mannheim | O64: Mahogany | P64: =IFERROR(VLOOKUP(O64,$E$220:$G$235,2),"") -> M | Q64: 1928 | R64: 1934 | U64: =IFERROR(VLOOKUP(T64,$E$220:$G$235,2),"")
A65: 61 | B65: 12a | C65: 12.5 | D65: Mannheim | E65: Mahogany | F65: =VLOOKUP(E65,$E$220:$G$235,2) -> M | G65: 1911 | H65: 1913 | I65: Mannheim | J65: Mahogany/Walnut | K65: =IFERROR(VLOOKUP(J65,$E$220:$G$235,2),"") -> O | L65: 1914 | M65: 1927 | N65: Mannheim | O65: Mahogany | P65: =IFERROR(VLOOKUP(O65,$E$220:$G$235,2),"") -> M | Q65: 1928 | R65: 1940 | U65: =IFERROR(VLOOKUP(T65,$E$220:$G$235,2),"")
A66: 62 | B66: 12b | C66: 12.5 | D66: Mannheim | E66: Mahogany | F66: =VLOOKUP(E66,$E$220:$G$235,2) -> M | G66: 1911 | H66: 1913 | I66: Mannheim | J66: Mahogany/Walnut | K66: =IFERROR(VLOOKUP(J66,$E$220:$G$235,2),"") -> O | L66: 1914 | M66: 1927 | N66: Mannheim | O66: Mahogany | P66: =IFERROR(VLOOKUP(O66,$E$220:$G$235,2),"") -> M | Q66: 1928 | R66: 1940 | U66: =IFERROR(VLOOKUP(T66,$E$220:$G$235,2),"")
A67: 63 | B67: 12c | C67: 15 | D67: Mannheim | E67: Mahogany | F67: =VLOOKUP(E67,$E$220:$G$235,2) -> M | G67: 1911 | H67: 1913 | I67: Mannheim | J67: Mahogany/Walnut | K67: =IFERROR(VLOOKUP(J67,$E$220:$G$235,2),"") -> O | L67: 1914 | M67: 1927 | N67: Mannheim | O67: Mahogany | P67: =IFERROR(VLOOKUP(O67,$E$220:$G$235,2),"") -> M | Q67: 1928 | R67: 1940 | U67: =IFERROR(VLOOKUP(T67,$E$220:$G$235,2),"")
A68: 64 | B68: 12d | C68: 15 | D68: Mannheim | E68: Mahogany | F68: =VLOOKUP(E68,$E$220:$G$235,2) -> M | G68: 1911 | H68: 1913 | I68: Mannheim | J68: Mahogany/Walnut | K68: =IFERROR(VLOOKUP(J68,$E$220:$G$235,2),"") -> O | L68: 1914 | M68: 1927 | N68: Mannheim | O68: Mahogany | P68: =IFERROR(VLOOKUP(O68,$E$220:$G$235,2),"") -> M | Q68: 1928 | R68: 1940 | U68: =IFERROR(VLOOKUP(T68,$E$220:$G$235,2),"")
A69: 65 | B69: 12/5 | C69: 25 | D69: Mannheim | E69: Mahogany | F69: =VLOOKUP(E69,$E$220:$G$235,2) -> M | G69: 1911 | H69: 1913 | I69: Mannheim | J69: Mahogany/Walnut | K69: =IFERROR(VLOOKUP(J69,$E$220:$G$235,2),"") -> O | L69: 1914 | M69: 1921 | P69: =IFERROR(VLOOKUP(O69,$E$220:$G$235,2),"") | U69: =IFERROR(VLOOKUP(T69,$E$220:$G$235,2),"")
A70: 66 | B70: 13 | C70: 20 | D70: Mannheim | E70: Mahogany | F70: =VLOOKUP(E70,$E$220:$G$235,2) -> M | G70: 1905 | H70: 1913 | I70: Mannheim | J70: Mahogany/Walnut | K70: =IFERROR(VLOOKUP(J70,$E$220:$G$235,2),"") -> O | L70: 1914 | M70: 1927 | N70: Mannheim | O70: Mahogany | P70: =IFERROR(VLOOKUP(O70,$E$220:$G$235,2),"") -> M | Q70: 1928 | R70: 1933 | U70: =IFERROR(VLOOKUP(T70,$E$220:$G$235,2),"")
A71: 67 | B71: 13L | C71: 20 | D71: Mannheim | E71: Mahogany | F71: =VLOOKUP(E71,$E$220:$G$235,2) -> M | G71: 1911 | H71: 1913 | I71: Mannheim | J71: Mahogany/Walnut | K71: =IFERROR(VLOOKUP(J71,$E$220:$G$235,2),"") -> O | L71: 1914 | M71: 1927 | N71: Mannheim | O71: Mahogany | P71: =IFERROR(VLOOKUP(O71,$E$220:$G$235,2),"") -> M | Q71: 1928 | R71: 1933 | U71: =IFERROR(VLOOKUP(T71,$E$220:$G$235,2),"")
A72: 68 | B72: 14 | C72: 25 | D72: Mannheim | E72: Mahogany | F72: =VLOOKUP(E72,$E$220:$G$235,2) -> M | G72: 1905 | H72: 1913 | I72: Mannheim | J72: Mahogany/Walnut | K72: =IFERROR(VLOOKUP(J72,$E$220:$G$235,2),"") -> O | L72: 1914 | M72: 1921 | P72: =IFERROR(VLOOKUP(O72,$E$220:$G$235,2),"") | U72: =IFERROR(VLOOKUP(T72,$E$220:$G$235,2),"")
A73: 69 | B73: 14D | C73: 100 | D73: Mannheim | E73: Poplar | F73: =VLOOKUP(E73,$E$220:$G$235,2) -> P | G73: 1934 | H73: 1949 | K73: =IFERROR(VLOOKUP(J73,$E$220:$G$235,2),"") | P73: =IFERROR(VLOOKUP(O73,$E$220:$G$235,2),"") | U73: =IFERROR(VLOOKUP(T73,$E$220:$G$235,2),"")
A74: 70 | B74: 14D | C74: 200 | D74: Mannheim | E74: Poplar | F74: =VLOOKUP(E74,$E$220:$G$235,2) -> P | G74: 1934 | H74: 1949 | K74: =IFERROR(VLOOKUP(J74,$E$220:$G$235,2),"") | P74: =IFERROR(VLOOKUP(O74,$E$220:$G$235,2),"") | U74: =IFERROR(VLOOKUP(T74,$E$220:$G$235,2),"")
A75: 71 | B75: 14J | C75: 25 | D75: Mannheim | E75: Mahogany/Walnut | F75: =VLOOKUP(E75,$E$220:$G$235,2) -> O | G75: 1914 | H75: 1927 | K75: =IFERROR(VLOOKUP(J75,$E$220:$G$235,2),"") | P75: =IFERROR(VLOOKUP(O75,$E$220:$G$235,2),"") | U75: =IFERROR(VLOOKUP(T75,$E$220:$G$235,2),"")
A76: 72 | B76: 14L | C76: 25 | D76: Mannheim | E76: Mahogany | F76: =VLOOKUP(E76,$E$220:$G$235,2) -> M | G76: 1911 | H76: 1913 | I76: Mannheim | J76: Mahogany/Walnut | K76: =IFERROR(VLOOKUP(J76,$E$220:$G$235,2),"") -> O | L76: 1914 | M76: 1927 | P76: =IFERROR(VLOOKUP(O76,$E$220:$G$235,2),"") | U76: =IFERROR(VLOOKUP(T76,$E$220:$G$235,2),"")
A77: 73 | B77: 14R | C77: 25 | D77: Mannheim | E77: Mahogany/Walnut | F77: =VLOOKUP(E77,$E$220:$G$235,2) -> O | G77: 1914 | H77: 1921 | K77: =IFERROR(VLOOKUP(J77,$E$220:$G$235,2),"") | P77: =IFERROR(VLOOKUP(O77,$E$220:$G$235,2),"") | U77: =IFERROR(VLOOKUP(T77,$E$220:$G$235,2),"")
A78: 74 | B78: 14/1 | C78: 25 | D78: Mannheim | E78: Mahogany/Walnut | F78: =VLOOKUP(E78,$E$220:$G$235,2) -> O | G78: 1922 | H78: 1927 | I78: Mannheim | J78: Mahogany | K78: =IFERROR(VLOOKUP(J78,$E$220:$G$235,2),"") -> M | L78: 1928 | M78: 1934 | N78: Mannheim | O78: Mahogany | P78: =IFERROR(VLOOKUP(O78,$E$220:$G$235,2),"") -> M | Q78: 1938 | R78: 1949 | U78: =IFERROR(VLOOKUP(T78,$E$220:$G$235,2),"")
A79: 75 | B79: 14/3 | C79: 25 | D79: Mannheim | E79: Mahogany/Walnut | F79: =VLOOKUP(E79,$E$220:$G$235,2) -> O | G79: 1922 | H79: 1927 | I79: Mannheim | J79: Mahogany | K79: =IFERROR(VLOOKUP(J79,$E$220:$G$235,2),"") -> M | L79: 1928 | M79: 1934 | N79: Mannheim | O79: Mahogany | P79: =IFERROR(VLOOKUP(O79,$E$220:$G$235,2),"") -> M | Q79: 1938 | R79: 1949 | U79: =IFERROR(VLOOKUP(T79,$E$220:$G$235,2),"")
A80: 76 | B80: 14F/3 | C80: 25 | D80: Mannheim | E80: Mahogany | F80: =VLOOKUP(E80,$E$220:$G$235,2) -> M | G80: 1935 | H80: 1937 | K80: =IFERROR(VLOOKUP(J80,$E$220:$G$235,2),"") | P80: =IFERROR(VLOOKUP(O80,$E$220:$G$235,2),"") | U80: =IFERROR(VLOOKUP(T80,$E$220:$G$235,2),"")
A81: 77 | B81: 14/52 | C81: 25 | D81: Mannheim | E81: Anagit | F81: =VLOOKUP(E81,$E$220:$G$235,2) -> A | G81: 1952 | H81: 1957 | K81: =IFERROR(VLOOKUP(J81,$E$220:$G$235,2),"") | P81: =IFERROR(VLOOKUP(O81,$E$220:$G$235,2),"") | U81: =IFERROR(VLOOKUP(T81,$E$220:$G$235,2),"")
A82: 78 | B82: 15 | C82: 20 | D82: Mannheim | E82: Mahogany | F82: =VLOOKUP(E82,$E$220:$G$235,2) -> M | G82: 1905 | H82: 1910 | K82: =IFERROR(VLOOKUP(J82,$E$220:$G$235,2),"") | P82: =IFERROR(VLOOKUP(O82,$E$220:$G$235,2),"") | U82: =IFERROR(VLOOKUP(T82,$E$220:$G$235,2),"")
A83: 79 | B83: 15 | C83: 25 | D83: Päßler | E83: Wood? | F83: =VLOOKUP(E83,$E$220:$G$235,2) -> ? | G83: 1942 | H83: 1949 | K83: =IFERROR(VLOOKUP(J83,$E$220:$G$235,2),"") | P83: =IFERROR(VLOOKUP(O83,$E$220:$G$235,2),"") | U83: =IFERROR(VLOOKUP(T83,$E$220:$G$235,2),"")
A84: 80 | B84: 16 | C84: 25 | D84: Mannheim | E84: Mahogany | F84: =VLOOKUP(E84,$E$220:$G$235,2) -> M | G84: 1905 | H84: 1910 | K84: =IFERROR(VLOOKUP(J84,$E$220:$G$235,2),"") | P84: =IFERROR(VLOOKUP(O84,$E$220:$G$235,2),"") | U84: =IFERROR(VLOOKUP(T84,$E$220:$G$235,2),"")
A85: 81 | B85: 17 | C85: 35 | D85: Mannheim | E85: Mahogany | F85: =VLOOKUP(E85,$E$220:$G$235,2) -> M | G85: 1905 | H85: 1913 | I85: Mannheim | J85: Mahogany/Walnut | K85: =IFERROR(VLOOKUP(J85,$E$220:$G$235,2),"") -> O | L85: 1914 | M85: 1927 | P85: =IFERROR(VLOOKUP(O85,$E$220:$G$235,2),"") | U85: =IFERROR(VLOOKUP(T85,$E$220:$G$235,2),"")
A86: 82 | B86: 17L | C86: 35 | D86: Mannheim | E86: Mahogany | F86: =VLOOKUP(E86,$E$220:$G$235,2) -> M | G86: 1911 | H86: 1913 | I86: Mannheim | J86: Mahogany/Walnut | K86: =IFERROR(VLOOKUP(J86,$E$220:$G$235,2),"") -> O | L86: 1914 | M86: 1927 | P86: =IFERROR(VLOOKUP(O86,$E$220:$G$235,2),"") | U86: =IFERROR(VLOOKUP(T86,$E$220:$G$235,2),"")
A87: 83 | B87: 18 | C87: 50 | D87: Mannheim | E87: Mahogany | F87: =VLOOKUP(E87,$E$220:$G$235,2) -> M | G87: 1905 | H87: 1913 | I87: Mannheim | J87: Mahogany/Walnut | K87: =IFERROR(VLOOKUP(J87,$E$220:$G$235,2),"") -> O | L87: 1914 | M87: 1927 | P87: =IFERROR(VLOOKUP(O87,$E$220:$G$235,2),"") | U87: =IFERROR(VLOOKUP(T87,$E$220:$G$235,2),"")
A88: 84 | B88: 18L | C88: 50 | D88: Mannheim | E88: Mahogany | F88: =VLOOKUP(E88,$E$220:$G$235,2) -> M | G88: 1910 | H88: 1913 | I88: Mannheim | J88: Mahogany/Walnut | K88: =IFERROR(VLOOKUP(J88,$E$220:$G$235,2),"") -> O | L88: 1914 | M88: 1927 | P88: =IFERROR(VLOOKUP(O88,$E$220:$G$235,2),"") | U88: =IFERROR(VLOOKUP(T88,$E$220:$G$235,2),"")
A89: 85 | B89: 18/3 | C89: 50 | D89: Mannheim | E89: Mahogany | F89: =VLOOKUP(E89,$E$220:$G$235,2) -> M | G89: 1928 | H89: 1949 | K89: =IFERROR(VLOOKUP(J89,$E$220:$G$235,2),"") | P89: =IFERROR(VLOOKUP(O89,$E$220:$G$235,2),"") | U89: =IFERROR(VLOOKUP(T89,$E$220:$G$235,2),"")
A90: 86 | B90: 19 | C90: 60 | D90: Mannheim | E90: Mahogany | F90: =VLOOKUP(E90,$E$220:$G$235,2) -> M | G90: 1905 | H90: 1910 | I90: Mannheim | J90: Mahogany | K90: =IFERROR(VLOOKUP(J90,$E$220:$G$235,2),"") -> M | L90: 1911 | M90: 1913 | N90: Mannheim | O90: Mahogany/Walnut | P90: =IFERROR(VLOOKUP(O90,$E$220:$G$235,2),"") -> O | Q90: 1914 | R90: 1921 | U90: =IFERROR(VLOOKUP(T90,$E$220:$G$235,2),"")
A91: 87 | B91: 19a | C91: 100 | D91: Mannheim | E91: Mahogany | F91: =VLOOKUP(E91,$E$220:$G$235,2) -> M | G91: 1911 | H91: 1913 | I91: Mannheim | J91: Mahogany/Walnut | K91: =IFERROR(VLOOKUP(J91,$E$220:$G$235,2),"") -> O | L91: 1914 | M91: 1921 | P91: =IFERROR(VLOOKUP(O91,$E$220:$G$235,2),"") | U91: =IFERROR(VLOOKUP(T91,$E$220:$G$235,2),"")
A92: 88 | B92: 20 | C92: 20 | D92: Mannheim | E92: Mahogany | F92: =VLOOKUP(E92,$E$220:$G$235,2) -> M | G92: 1905 | H92: 1910 | K92: =IFERROR(VLOOKUP(J92,$E$220:$G$235,2),"") | P92: =IFERROR(VLOOKUP(O92,$E$220:$G$235,2),"") | U92: =IFERROR(VLOOKUP(T92,$E$220:$G$235,2),"")
A93: 89 | B93: 20/1 | C93: 25 | D93: Rietz | E93: Mahogany | F93: =VLOOKUP(E93,$E$220:$G$235,2) -> M | G93: 1928 | H93: 1949 | K93: =IFERROR(VLOOKUP(J93,$E$220:$G$235,2),"") | P93: =IFERROR(VLOOKUP(O93,$E$220:$G$235,2),"") | U93: =IFERROR(VLOOKUP(T93,$E$220:$G$235,2),"")
A94: 90 | B94: 20/3 | C94: 25 | D94: Rietz „Kiel“ | E94: Mahogany | F94: =VLOOKUP(E94,$E$220:$G$235,2) -> M | G94: 1941 | H94: 1945 | K94: =IFERROR(VLOOKUP(J94,$E$220:$G$235,2),"") | P94: =IFERROR(VLOOKUP(O94,$E$220:$G$235,2),"") | U94: =IFERROR(VLOOKUP(T94,$E$220:$G$235,2),"")
A95: 91 | B95: 20F/3 | C95: 25 | D95: Rietz „Kiel“ | E95: Mahogany | F95: =VLOOKUP(E95,$E$220:$G$235,2) -> M | G95: 1934 | H95: 1940 | K95: =IFERROR(VLOOKUP(J95,$E$220:$G$235,2),"") | P95: =IFERROR(VLOOKUP(O95,$E$220:$G$235,2),"") | U95: =IFERROR(VLOOKUP(T95,$E$220:$G$235,2),"")
A96: 92 | B96: without | C96: 15 | D96: Darmstadt | E96: Mahogany | F96: =VLOOKUP(E96,$E$220:$G$235,2) -> M | G96: 1938 | H96: 1940 | K96: =IFERROR(VLOOKUP(J96,$E$220:$G$235,2),"") | P96: =IFERROR(VLOOKUP(O96,$E$220:$G$235,2),"") | U96: =IFERROR(VLOOKUP(T96,$E$220:$G$235,2),"")
A97: 93 | B97: 21 | C97: 15 | D97: Darmstadt | E97: Mahogany | F97: =VLOOKUP(E97,$E$220:$G$235,2) -> M | G97: 1941 | H97: 1949 | K97: =IFERROR(VLOOKUP(J97,$E$220:$G$235,2),"") | P97: =IFERROR(VLOOKUP(O97,$E$220:$G$235,2),"") | U97: =IFERROR(VLOOKUP(T97,$E$220:$G$235,2),"")
A98: 94 | B98: 21 | C98: 25 | D98: Mannheim | E98: Mahogany | F98: =VLOOKUP(E98,$E$220:$G$235,2) -> M | G98: 1905 | H98: 1910 | I98: Friedrich & Hippler | J98: Mahogany/Walnut | K98: =IFERROR(VLOOKUP(J98,$E$220:$G$235,2),"") -> O | L98: 1922 | M98: 1927 | N98: Darmstadt | O98: Mahogany | P98: =IFERROR(VLOOKUP(O98,$E$220:$G$235,2),"") -> M | Q98: 1935 | R98: 1957 | U98: =IFERROR(VLOOKUP(T98,$E$220:$G$235,2),"")
A99: 95 | B99: 21a | C99: 50 | D99: Darmstadt | E99: Mahogany | F99: =VLOOKUP(E99,$E$220:$G$235,2) -> M | G99: 1938 | H99: 1957 | K99: =IFERROR(VLOOKUP(J99,$E$220:$G$235,2),"") | P99: =IFERROR(VLOOKUP(O99,$E$220:$G$235,2),"") | U99: =IFERROR(VLOOKUP(T99,$E$220:$G$235,2),"")
A100: 96 | B100: 21D | C100: 100 | D100: Darmstadt | E100: Poplar | F100: =VLOOKUP(E100,$E$220:$G$235,2) -> P | G100: 1950 | H100: 1955 | I100: Darmstadt | J100: Wood | K100: =IFERROR(VLOOKUP(J100,$E$220:$G$235,2),"") -> W | L100: 1956 | M100: 1957 | P100: =IFERROR(VLOOKUP(O100,$E$220:$G$235,2),"") | U100: =IFERROR(VLOOKUP(T100,$E$220:$G$235,2),"")
A101: 97 | B101: 21/53 | C101: 25 | D101: Darmstadt | E101: Anagit | F101: =VLOOKUP(E101,$E$220:$G$235,2) -> A | G101: 1953 | H101: 1957 | K101: =IFERROR(VLOOKUP(J101,$E$220:$G$235,2),"") | P101: =IFERROR(VLOOKUP(O101,$E$220:$G$235,2),"") | U101: =IFERROR(VLOOKUP(T101,$E$220:$G$235,2),"")
...

Sheet Map
A1: ALBERT NESTLER SLIDE RULES | S1: (Andreas Faßbender)
F2: 1905 | G2: 1906 | H2: 1907 | I2: 1908 | J2: 1909 | K2: 1910 | L2: 1911 | M2: 1912 | N2: 1913 | O2: 1914 | P2: 1915 | Q2: 1916 | R2: 1917 | S2: 1918 | T2: 1919 | U2: 1920 | V2: 1921 | W2: 1922 | X2: 1923 | Y2: 1924 | Z2: 1925 | AA2: 1926 | AB2: 1927 | AC2: 1928 | AD2: 1929 | AE2: 1930 | AF2: 1931 | AG2: 1932 | AH2: 1933 | AI2: 1934 | AJ2: 1935 | AK2: 1936 | AL2: 1937 | AM2: 1938 | AN2: 1939 | AO2: 1940 | AP2: 1941 | AQ2: 1942 | AR2: 1943 | AS2: 1944 | AT2: 1945 | AU2: 1946 | AV2: 1947 | AW2: 1948 | AX2: 1949 | AY2: 1950 | AZ2: 1951 | BA2: 1952 | BB2: 1953 | BC2: 1954 | BD2: 1955 | BE2: 1956 | BF2: 1957
B3: =List!C3 -> (cm) | F3: 1900 | K3: 1910 | U3: 1920 | AE3: 1930 | AO3: 1940 | AY3: 1950
A4: =List!B4 -> Model | B4: =List!C4 -> Length | C4: =List!D4 -> Type | D4: Type 2 | E4: Type 3 | F4: 5 | G4: 6 | H4: 7 | I4: 8 | J4: 9 | K4: 0 | L4: 1 | M4: 2 | N4: 3 | O4: 4 | P4: 5 | Q4: 6 | R4: 7 | S4: 8 | T4: 9 | U4: 0 | V4: 1 | W4: 2 | X4: 3 | Y4: 4 | Z4: 5 | AA4: 6 | AB4: 7 | AC4: 8 | AD4: 9 | AE4: 0 | AF4: 1 | AG4: 2 | AH4: 3 | AI4: 4 | AJ4: 5 | AK4: 6 | AL4: 7 | AM4: 8 | AN4: 9 | AO4: 0 | AP4: 1 | AQ4: 2 | AR4: 3 | AS4: 4 | AT4: 5 | AU4: 6 | AV4: 7 | AW4: 8 | AX4: 9 | AY4: 0 | AZ4: 1 | BA4: 2 | BB4: 3 | BC4: 4 | BD4: 5 | BE4: 6 | BF4: 7 | BH4: =List!D219 -> Español | BI4: =List!E219 -> English | BK4: =List!G219 -> Deutsch
A5: =List!B5 -> 1 | B5: =List!C5 -> 12.5 | C5: =List!D5 -> Mannheim | D5: =IF(List!I5<>"",IF(List!D5=List!I5,IF(List!N5<>"",IF(List!N5=List!I5,IF(List!S5<>"",IF(List!S5=List!N5,"",CONCATENATE(List!S5," :4")),""),CONCATENATE(List!N5," :3")),""),CONCATENATE(List!I5," :2")),"") | E5: =IF(D5="","",IF(RIGHT(D5,1)="4","",IF(RIGHT(D5,1)="3",IF(List!S5="","",IF(List!S5=List!N5,"",CONCATENATE(List!S5," :4"))),IF(List!N5="","",IF(List!N5<>List!I5,CONCATENATE(List!N5," :3"),IF(List!S5="","",IF(List!S5=List!N5,"",CONCATENATE(List!S5," :4")))))))) | F5: =CONCATENATE(IF(F$2>=List!$G5,IF(F$2<=List!$H5,List!$F5,""),""),IF(F$2>=List!$L5,IF(F$2<=List!$M5,List!$K5,""),""),IF(F$2>=List!$Q5,IF(F$2<=List!$R5,List!$P5,""),""),IF(F$2>=List!$V5,IF(F$2<=List!$W5,List!$U5,""),""),IF(F$2>=List!$Z5,IF(F$2<=List!$AA5,"()",""),"")) | G5: =CONCATENATE(IF(G$2>=List!$G5,IF(G$2<=List!$H5,List!$F5,""),""),IF(G$2>=List!$L5,IF(G$2<=List!$M5,List!$K5,""),""),IF(G$2>=List!$Q5,IF(G$2<=List!$R5,List!$P5,""),""),IF(G$2>=List!$V5,IF(G$2<=List!$W5,List!$U5,""),""),IF(G$2>=List!$Z5,IF(G$2<=List!$AA5,"()",""),"")) | H5: =CONCATENATE(IF(H$2>=List!$G5,IF(H$2<=List!$H5,List!$F5,""),""),IF(H$2>=List!$L5,IF(H$2<=List!$M5,List!$K5,""),""),IF(H$2>=List!$Q5,IF(H$2<=List!$R5,List!$P5,""),""),IF(H$2>=List!$V5,IF(H$2<=List!$W5,List!$U5,""),""),IF(H$2>=List!$Z5,IF(H$2<=List!$AA5,"()",""),"")) | I5: =CONCATENATE(IF(I$2>=List!$G5,IF(I$2<=List!$H5,List!$F5,""),""),IF(I$2>=List!$L5,IF(I$2<=List!$M5,List!$K5,""),""),IF(I$2>=List!$Q5,IF(I$2<=List!$R5,List!$P5,""),""),IF(I$2>=List!$V5,IF(I$2<=List!$W5,List!$U5,""),""),IF(I$2>=List!$Z5,IF(I$2<=List!$AA5,"()",""),"")) | J5: =CONCATENATE(IF(J$2>=List!$G5,IF(J$2<=List!$H5,List!$F5,""),""),IF(J$2>=List!$L5,IF(J$2<=List!$M5,List!$K5,""),""),IF(J$2>=List!$Q5,IF(J$2<=List!$R5,List!$P5,""),""),IF(J$2>=List!$V5,IF(J$2<=List!$W5,List!$U5,""),""),IF(J$2>=List!$Z5,IF(J$2<=List!$AA5,"()",""),"")) | K5: =CONCATENATE(IF(K$2>=List!$G5,IF(K$2<=List!$H5,List!$F5,""),""),IF(K$2>=List!$L5,IF(K$2<=List!$M5,List!$K5,""),""),IF(K$2>=List!$Q5,IF(K$2<=List!$R5,List!$P5,""),""),IF(K$2>=List!$V5,IF(K$2<=List!$W5,List!$U5,""),""),IF(K$2>=List!$Z5,IF(K$2<=List!$AA5,"()",""),"")) | L5: =CONCATENATE(IF(L$2>=List!$G5,IF(L$2<=List!$H5,List!$F5,""),""),IF(L$2>=List!$L5,IF(L$2<=List!$M5,List!$K5,""),""),IF(L$2>=List!$Q5,IF(L$2<=List!$R5,List!$P5,""),""),IF(L$2>=List!$V5,IF(L$2<=List!$W5,List!$U5,""),""),IF(L$2>=List!$Z5,IF(L$2<=List!$AA5,"()",""),"")) -> B | M5: =CONCATENATE(IF(M$2>=List!$G5,IF(M$2<=List!$H5,List!$F5,""),""),IF(M$2>=List!$L5,IF(M$2<=List!$M5,List!$K5,""),""),IF(M$2>=List!$Q5,IF(M$2<=List!$R5,List!$P5,""),""),IF(M$2>=List!$V5,IF(M$2<=List!$W5,List!$U5,""),""),IF(M$2>=List!$Z5,IF(M$2<=List!$AA5,"()",""),"")) -> B | ... BF5: =CONCATENATE(IF(BF$2>=List!$G5,IF(BF$2<=List!$H5,List!$F5,""),""),IF(BF$2>=List!$L5,IF(BF$2<=List!$M5,List!$K5,""),""),IF(BF$2>=List!$Q5,IF(BF$2<=List!$R5,List!$P5,""),""),IF(BF$2>=List!$V5,IF(BF$2<=List!$W5,List!$U5,""),""),IF(BF$2>=List!$Z5,IF(BF$2<=List!$AA5,"()",""),"")) | BH5: =List!D220 -> Patente Alemana | BI5: =List!E220 -> German Patent | BJ5: =List!F220 -> () | BK5: =List!G220 -> DRGM
A6: =List!B6 -> 1 | B6: =List!C6 -> 25 | C6: =List!D6 -> Mannheim | D6: =IF(List!I6<>"",IF(List!D6=List!I6,IF(List!N6<>"",IF(List!N6=List!I6,IF(List!S6<>"",IF(List!S6=List!N6,"",CONCATENATE(List!S6," :4")),""),CONCATENATE(List!N6," :3")),""),CONCATENATE(List!I6," :2")),"") | E6: =IF(D6="","",IF(RIGHT(D6,1)="4","",IF(RIGHT(D6,1)="3",IF(List!S6="","",IF(List!S6=List!N6,"",CONCATENATE(List!S6," :4"))),IF(List!N6="","",IF(List!N6<>List!I6,CONCATENATE(List!N6," :3"),IF(List!S6="","",IF(List!S6=List!N6,"",CONCATENATE(List!S6," :4")))))))) | F6: =CONCATENATE(IF(F$2>=List!$G6,IF(F$2<=List!$H6,List!$F6,""),""),IF(F$2>=List!$L6,IF(F$2<=List!$M6,List!$K6,""),""),IF(F$2>=List!$Q6,IF(F$2<=List!$R6,List!$P6,""),""),IF(F$2>=List!$V6,IF(F$2<=List!$W6,List!$U6,""),""),IF(F$2>=List!$Z6,IF(F$2<=List!$AA6,"()",""),"")) -> B | G6: =CONCATENATE(IF(G$2>=List!$G6,IF(G$2<=List!$H6,List!$F6,""),""),IF(G$2>=List!$L6,IF(G$2<=List!$M6,List!$K6,""),""),IF(G$2>=List!$Q6,IF(G$2<=List!$R6,List!$P6,""),""),IF(G$2>=List!$V6,IF(G$2<=List!$W6,List!$U6,""),""),IF(G$2>=List!$Z6,IF(G$2<=List!$AA6,"()",""),"")) -> B | H6: =CONCATENATE(IF(H$2>=List!$G6,IF(H$2<=List!$H6,List!$F6,""),""),IF(H$2>=List!$L6,IF(H$2<=List!$M6,List!$K6,""),""),IF(H$2>=List!$Q6,IF(H$2<=List!$R6,List!$P6,""),""),IF(H$2>=List!$V6,IF(H$2<=List!$W6,List!$U6,""),""),IF(H$2>=List!$Z6,IF(H$2<=List!$AA6,"()",""),"")) -> B | I6: =CONCATENATE(IF(I$2>=List!$G6,IF(I$2<=List!$H6,List!$F6,""),""),IF(I$2>=List!$L6,IF(I$2<=List!$M6,List!$K6,""),""),IF(I$2>=List!$Q6,IF(I$2<=List!$R6,List!$P6,""),""),IF(I$2>=List!$V6,IF(I$2<=List!$W6,List!$U6,""),""),IF(I$2>=List!$Z6,IF(I$2<=List!$AA6,"()",""),"")) -> B | J6: =CONCATENATE(IF(J$2>=List!$G6,IF(J$2<=List!$H6,List!$F6,""),""),IF(J$2>=List!$L6,IF(J$2<=List!$M6,List!$K6,""),""),IF(J$2>=List!$Q6,IF(J$2<=List!$R6,List!$P6,""),""),IF(J$2>=List!$V6,IF(J$2<=List!$W6,List!$U6,""),""),IF(J$2>=List!$Z6,IF(J$2<=List!$AA6,"()",""),"")) -> B | K6: =CONCATENATE(IF(K$2>=List!$G6,IF(K$2<=List!$H6,List!$F6,""),""),IF(K$2>=List!$L6,IF(K$2<=List!$M6,List!$K6,""),""),IF(K$2>=List!$Q6,IF(K$2<=List!$R6,List!$P6,""),""),IF(K$2>=List!$V6,IF(K$2<=List!$W6,List!$U6,""),""),IF(K$2>=List!$Z6,IF(K$2<=List!$AA6,"()",""),"")) -> B | L6: =CONCATENATE(IF(L$2>=List!$G6,IF(L$2<=List!$H6,List!$F6,""),""),IF(L$2>=List!$L6,IF(L$2<=List!$M6,List!$K6,""),""),IF(L$2>=List!$Q6,IF(L$2<=List!$R6,List!$P6,""),""),IF(L$2>=List!$V6,IF(L$2<=List!$W6,List!$U6,""),""),IF(L$2>=List!$Z6,IF(L$2<=List!$AA6,"()",""),"")) | M6: =CONCATENATE(IF(M$2>=List!$G6,IF(M$2<=List!$H6,List!$F6,""),""),IF(M$2>=List!$L6,IF(M$2<=List!$M6,List!$K6,""),""),IF(M$2>=List!$Q6,IF(M$2<=List!$R6,List!$P6,""),""),IF(M$2>=List!$V6,IF(M$2<=List!$W6,List!$U6,""),""),IF(M$2>=List!$Z6,IF(M$2<=List!$AA6,"()",""),"")) | ... BF6: =CONCATENATE(IF(BF$2>=List!$G6,IF(BF$2<=List!$H6,List!$F6,""),""),IF(BF$2>=List!$L6,IF(BF$2<=List!$M6,List!$K6,""),""),IF(BF$2>=List!$Q6,IF(BF$2<=List!$R6,List!$P6,""),""),IF(BF$2>=List!$V6,IF(BF$2<=List!$W6,List!$U6,""),""),IF(BF$2>=List!$Z6,IF(BF$2<=List!$AA6,"()",""),"")) | BH6: =List!D221 -> Anagit | BI6: =List!E221 -> Anagit | BJ6: =List!F221 -> A | BK6: =List!G221 -> Anagit
A7: =List!B7 -> 1a | B7: =List!C7 -> 25 | C7: =List!D7 -> Mannheim | D7: =IF(List!I7<>"",IF(List!D7=List!I7,IF(List!N7<>"",IF(List!N7=List!I7,IF(List!S7<>"",IF(List!S7=List!N7,"",CONCATENATE(List!S7," :4")),""),CONCATENATE(List!N7," :3")),""),CONCATENATE(List!I7," :2")),"") | E7: =IF(D7="","",IF(RIGHT(D7,1)="4","",IF(RIGHT(D7,1)="3",IF(List!S7="","",IF(List!S7=List!N7,"",CONCATENATE(List!S7," :4"))),IF(List!N7="","",IF(List!N7<>List!I7,CONCATENATE(List!N7," :3"),IF(List!S7="","",IF(List!S7=List!N7,"",CONCATENATE(List!S7," :4")))))))) | F7: =CONCATENATE(IF(F$2>=List!$G7,IF(F$2<=List!$H7,List!$F7,""),""),IF(F$2>=List!$L7,IF(F$2<=List!$M7,List!$K7,""),""),IF(F$2>=List!$Q7,IF(F$2<=List!$R7,List!$P7,""),""),IF(F$2>=List!$V7,IF(F$2<=List!$W7,List!$U7,""),""),IF(F$2>=List!$Z7,IF(F$2<=List!$AA7,"()",""),"")) | G7: =CONCATENATE(IF(G$2>=List!$G7,IF(G$2<=List!$H7,List!$F7,""),""),IF(G$2>=List!$L7,IF(G$2<=List!$M7,List!$K7,""),""),IF(G$2>=List!$Q7,IF(G$2<=List!$R7,List!$P7,""),""),IF(G$2>=List!$V7,IF(G$2<=List!$W7,List!$U7,""),""),IF(G$2>=List!$Z7,IF(G$2<=List!$AA7,"()",""),"")) | H7: =CONCATENATE(IF(H$2>=List!$G7,IF(H$2<=List!$H7,List!$F7,""),""),IF(H$2>=List!$L7,IF(H$2<=List!$M7,List!$K7,""),""),IF(H$2>=List!$Q7,IF(H$2<=List!$R7,List!$P7,""),""),IF(H$2>=List!$V7,IF(H$2<=List!$W7,List!$U7,""),""),IF(H$2>=List!$Z7,IF(H$2<=List!$AA7,"()",""),"")) | I7: =CONCATENATE(IF(I$2>=List!$G7,IF(I$2<=List!$H7,List!$F7,""),""),IF(I$2>=List!$L7,IF(I$2<=List!$M7,List!$K7,""),""),IF(I$2>=List!$Q7,IF(I$2<=List!$R7,List!$P7,""),""),IF(I$2>=List!$V7,IF(I$2<=List!$W7,List!$U7,""),""),IF(I$2>=List!$Z7,IF(I$2<=List!$AA7,"()",""),"")) | J7: =CONCATENATE(IF(J$2>=List!$G7,IF(J$2<=List!$H7,List!$F7,""),""),IF(J$2>=List!$L7,IF(J$2<=List!$M7,List!$K7,""),""),IF(J$2>=List!$Q7,IF(J$2<=List!$R7,List!$P7,""),""),IF(J$2>=List!$V7,IF(J$2<=List!$W7,List!$U7,""),""),IF(J$2>=List!$Z7,IF(J$2<=List!$AA7,"()",""),"")) | K7: =CONCATENATE(IF(K$2>=List!$G7,IF(K$2<=List!$H7,List!$F7,""),""),IF(K$2>=List!$L7,IF(K$2<=List!$M7,List!$K7,""),""),IF(K$2>=List!$Q7,IF(K$2<=List!$R7,List!$P7,""),""),IF(K$2>=List!$V7,IF(K$2<=List!$W7,List!$U7,""),""),IF(K$2>=List!$Z7,IF(K$2<=List!$AA7,"()",""),"")) | L7: =CONCATENATE(IF(L$2>=List!$G7,IF(L$2<=List!$H7,List!$F7,""),""),IF(L$2>=List!$L7,IF(L$2<=List!$M7,List!$K7,""),""),IF(L$2>=List!$Q7,IF(L$2<=List!$R7,List!$P7,""),""),IF(L$2>=List!$V7,IF(L$2<=List!$W7,List!$U7,""),""),IF(L$2>=List!$Z7,IF(L$2<=List!$AA7,"()",""),"")) -> B | M7: =CONCATENATE(IF(M$2>=List!$G7,IF(M$2<=List!$H7,List!$F7,""),""),IF(M$2>=List!$L7,IF(M$2<=List!$M7,List!$K7,""),""),IF(M$2>=List!$Q7,IF(M$2<=List!$R7,List!$P7,""),""),IF(M$2>=List!$V7,IF(M$2<=List!$W7,List!$U7,""),""),IF(M$2>=List!$Z7,IF(M$2<=List!$AA7,"()",""),"")) -> B | ... BF7: =CONCATENATE(IF(BF$2>=List!$G7,IF(BF$2<=List!$H7,List!$F7,""),""),IF(BF$2>=List!$L7,IF(BF$2<=List!$M7,List!$K7,""),""),IF(BF$2>=List!$Q7,IF(BF$2<=List!$R7,List!$P7,""),""),IF(BF$2>=List!$V7,IF(BF$2<=List!$W7,List!$U7,""),""),IF(BF$2>=List!$Z7,IF(BF$2<=List!$AA7,"()",""),"")) | BH7: =List!D222 -> Boj | BI7: =List!E222 -> Boxwood | BJ7: =List!F222 -> B | BK7: =List!G222 -> Buchsbaumholz
A8: =List!B8 -> 1c | B8: =List!C8 -> 25 | C8: =List!D8 -> Mannheim | D8: =IF(List!I8<>"",IF(List!D8=List!I8,IF(List!N8<>"",IF(List!N8=List!I8,IF(List!S8<>"",IF(List!S8=List!N8,"",CONCATENATE(List!S8," :4")),""),CONCATENATE(List!N8," :3")),""),CONCATENATE(List!I8," :2")),"") | E8: =IF(D8="","",IF(RIGHT(D8,1)="4","",IF(RIGHT(D8,1)="3",IF(List!S8="","",IF(List!S8=List!N8,"",CONCATENATE(List!S8," :4"))),IF(List!N8="","",IF(List!N8<>List!I8,CONCATENATE(List!N8," :3"),IF(List!S8="","",IF(List!S8=List!N8,"",CONCATENATE(List!S8," :4")))))))) | F8: =CONCATENATE(IF(F$2>=List!$G8,IF(F$2<=List!$H8,List!$F8,""),""),IF(F$2>=List!$L8,IF(F$2<=List!$M8,List!$K8,""),""),IF(F$2>=List!$Q8,IF(F$2<=List!$R8,List!$P8,""),""),IF(F$2>=List!$V8,IF(F$2<=List!$W8,List!$U8,""),""),IF(F$2>=List!$Z8,IF(F$2<=List!$AA8,"()",""),"")) | G8: =CONCATENATE(IF(G$2>=List!$G8,IF(G$2<=List!$H8,List!$F8,""),""),IF(G$2>=List!$L8,IF(G$2<=List!$M8,List!$K8,""),""),IF(G$2>=List!$Q8,IF(G$2<=List!$R8,List!$P8,""),""),IF(G$2>=List!$V8,IF(G$2<=List!$W8,List!$U8,""),""),IF(G$2>=List!$Z8,IF(G$2<=List!$AA8,"()",""),"")) | H8: =CONCATENATE(IF(H$2>=List!$G8,IF(H$2<=List!$H8,List!$F8,""),""),IF(H$2>=List!$L8,IF(H$2<=List!$M8,List!$K8,""),""),IF(H$2>=List!$Q8,IF(H$2<=List!$R8,List!$P8,""),""),IF(H$2>=List!$V8,IF(H$2<=List!$W8,List!$U8,""),""),IF(H$2>=List!$Z8,IF(H$2<=List!$AA8,"()",""),"")) | I8: =CONCATENATE(IF(I$2>=List!$G8,IF(I$2<=List!$H8,List!$F8,""),""),IF(I$2>=List!$L8,IF(I$2<=List!$M8,List!$K8,""),""),IF(I$2>=List!$Q8,IF(I$2<=List!$R8,List!$P8,""),""),IF(I$2>=List!$V8,IF(I$2<=List!$W8,List!$U8,""),""),IF(I$2>=List!$Z8,IF(I$2<=List!$AA8,"()",""),"")) | J8: =CONCATENATE(IF(J$2>=List!$G8,IF(J$2<=List!$H8,List!$F8,""),""),IF(J$2>=List!$L8,IF(J$2<=List!$M8,List!$K8,""),""),IF(J$2>=List!$Q8,IF(J$2<=List!$R8,List!$P8,""),""),IF(J$2>=List!$V8,IF(J$2<=List!$W8,List!$U8,""),""),IF(J$2>=List!$Z8,IF(J$2<=List!$AA8,"()",""),"")) | K8: =CONCATENATE(IF(K$2>=List!$G8,IF(K$2<=List!$H8,List!$F8,""),""),IF(K$2>=List!$L8,IF(K$2<=List!$M8,List!$K8,""),""),IF(K$2>=List!$Q8,IF(K$2<=List!$R8,List!$P8,""),""),IF(K$2>=List!$V8,IF(K$2<=List!$W8,List!$U8,""),""),IF(K$2>=List!$Z8,IF(K$2<=List!$AA8,"()",""),"")) | L8: =CONCATENATE(IF(L$2>=List!$G8,IF(L$2<=List!$H8,List!$F8,""),""),IF(L$2>=List!$L8,IF(L$2<=List!$M8,List!$K8,""),""),IF(L$2>=List!$Q8,IF(L$2<=List!$R8,List!$P8,""),""),IF(L$2>=List!$V8,IF(L$2<=List!$W8,List!$U8,""),""),IF(L$2>=List!$Z8,IF(L$2<=List!$AA8,"()",""),"")) | M8: =CONCATENATE(IF(M$2>=List!$G8,IF(M$2<=List!$H8,List!$F8,""),""),IF(M$2>=List!$L8,IF(M$2<=List!$M8,List!$K8,""),""),IF(M$2>=List!$Q8,IF(M$2<=List!$R8,List!$P8,""),""),IF(M$2>=List!$V8,IF(M$2<=List!$W8,List!$U8,""),""),IF(M$2>=List!$Z8,IF(M$2<=List!$AA8,"()",""),"")) | ... BF8: =CONCATENATE(IF(BF$2>=List!$G8,IF(BF$2<=List!$H8,List!$F8,""),""),IF(BF$2>=List!$L8,IF(BF$2<=List!$M8,List!$K8,""),""),IF(BF$2>=List!$Q8,IF(BF$2<=List!$R8,List!$P8,""),""),IF(BF$2>=List!$V8,IF(BF$2<=List!$W8,List!$U8,""),""),IF(BF$2>=List!$Z8,IF(BF$2<=List!$AA8,"()",""),"")) | BH8: =List!D223 -> Cartón | BI8: =List!E223 -> Cardboard | BJ8: =List!F223 -> D | BK8: =List!G223 -> Karton
A9: =List!B9 -> 1Z | B9: =List!C9 -> 12.5 | C9: =List!D9 -> Mannheim | D9: =IF(List!I9<>"",IF(List!D9=List!I9,IF(List!N9<>"",IF(List!N9=List!I9,IF(List!S9<>"",IF(List!S9=List!N9,"",CONCATENATE(List!S9," :4")),""),CONCATENATE(List!N9," :3")),""),CONCATENATE(List!I9," :2")),"") | E9: =IF(D9="","",IF(RIGHT(D9,1)="4","",IF(RIGHT(D9,1)="3",IF(List!S9="","",IF(List!S9=List!N9,"",CONCATENATE(List!S9," :4"))),IF(List!N9="","",IF(List!N9<>List!I9,CONCATENATE(List!N9," :3"),IF(List!S9="","",IF(List!S9=List!N9,"",CONCATENATE(List!S9," :4")))))))) | F9: =CONCATENATE(IF(F$2>=List!$G9,IF(F$2<=List!$H9,List!$F9,""),""),IF(F$2>=List!$L9,IF(F$2<=List!$M9,List!$K9,""),""),IF(F$2>=List!$Q9,IF(F$2<=List!$R9,List!$P9,""),""),IF(F$2>=List!$V9,IF(F$2<=List!$W9,List!$U9,""),""),IF(F$2>=List!$Z9,IF(F$2<=List!$AA9,"()",""),"")) | G9: =CONCATENATE(IF(G$2>=List!$G9,IF(G$2<=List!$H9,List!$F9,""),""),IF(G$2>=List!$L9,IF(G$2<=List!$M9,List!$K9,""),""),IF(G$2>=List!$Q9,IF(G$2<=List!$R9,List!$P9,""),""),IF(G$2>=List!$V9,IF(G$2<=List!$W9,List!$U9,""),""),IF(G$2>=List!$Z9,IF(G$2<=List!$AA9,"()",""),"")) | H9: =CONCATENATE(IF(H$2>=List!$G9,IF(H$2<=List!$H9,List!$F9,""),""),IF(H$2>=List!$L9,IF(H$2<=List!$M9,List!$K9,""),""),IF(H$2>=List!$Q9,IF(H$2<=List!$R9,List!$P9,""),""),IF(H$2>=List!$V9,IF(H$2<=List!$W9,List!$U9,""),""),IF(H$2>=List!$Z9,IF(H$2<=List!$AA9,"()",""),"")) | I9: =CONCATENATE(IF(I$2>=List!$G9,IF(I$2<=List!$H9,List!$F9,""),""),IF(I$2>=List!$L9,IF(I$2<=List!$M9,List!$K9,""),""),IF(I$2>=List!$Q9,IF(I$2<=List!$R9,List!$P9,""),""),IF(I$2>=List!$V9,IF(I$2<=List!$W9,List!$U9,""),""),IF(I$2>=List!$Z9,IF(I$2<=List!$AA9,"()",""),"")) | J9: =CONCATENATE(IF(J$2>=List!$G9,IF(J$2<=List!$H9,List!$F9,""),""),IF(J$2>=List!$L9,IF(J$2<=List!$M9,List!$K9,""),""),IF(J$2>=List!$Q9,IF(J$2<=List!$R9,List!$P9,""),""),IF(J$2>=List!$V9,IF(J$2<=List!$W9,List!$U9,""),""),IF(J$2>=List!$Z9,IF(J$2<=List!$AA9,"()",""),"")) | K9: =CONCATENATE(IF(K$2>=List!$G9,IF(K$2<=List!$H9,List!$F9,""),""),IF(K$2>=List!$L9,IF(K$2<=List!$M9,List!$K9,""),""),IF(K$2>=List!$Q9,IF(K$2<=List!$R9,List!$P9,""),""),IF(K$2>=List!$V9,IF(K$2<=List!$W9,List!$U9,""),""),IF(K$2>=List!$Z9,IF(K$2<=List!$AA9,"()",""),"")) | L9: =CONCATENATE(IF(L$2>=List!$G9,IF(L$2<=List!$H9,List!$F9,""),""),IF(L$2>=List!$L9,IF(L$2<=List!$M9,List!$K9,""),""),IF(L$2>=List!$Q9,IF(L$2<=List!$R9,List!$P9,""),""),IF(L$2>=List!$V9,IF(L$2<=List!$W9,List!$U9,""),""),IF(L$2>=List!$Z9,IF(L$2<=List!$AA9,"()",""),"")) | M9: =CONCATENATE(IF(M$2>=List!$G9,IF(M$2<=List!$H9,List!$F9,""),""),IF(M$2>=List!$L9,IF(M$2<=List!$M9,List!$K9,""),""),IF(M$2>=List!$Q9,IF(M$2<=List!$R9,List!$P9,""),""),IF(M$2>=List!$V9,IF(M$2<=List!$W9,List!$U9,""),""),IF(M$2>=List!$Z9,IF(M$2<=List!$AA9,"()",""),"")) | ... BF9: =CONCATENATE(IF(BF$2>=List!$G9,IF(BF$2<=List!$H9,List!$F9,""),""),IF(BF$2>=List!$L9,IF(BF$2<=List!$M9,List!$K9,""),""),IF(BF$2>=List!$Q9,IF(BF$2<=List!$R9,List!$P9,""),""),IF(BF$2>=List!$V9,IF(BF$2<=List!$W9,List!$U9,""),""),IF(BF$2>=List!$Z9,IF(BF$2<=List!$AA9,"()",""),"")) | BH9: =List!D224 -> Celuloide | BI9: =List!E224 -> Celluloid | BJ9: =List!F224 -> C | BK9: =List!G224 -> Zelluloid
A10: =List!B10 -> 2 | B10: =List!C10 -> 12.5 | C10: =List!D10 -> Mannheim | D10: =IF(List!I10<>"",IF(List!D10=List!I10,IF(List!N10<>"",IF(List!N10=List!I10,IF(List!S10<>"",IF(List!S10=List!N10,"",CONCATENATE(List!S10," :4")),""),CONCATENATE(List!N10," :3")),""),CONCATENATE(List!I10," :2")),"") | E10: =IF(D10="","",IF(RIGHT(D10,1)="4","",IF(RIGHT(D10,1)="3",IF(List!S10="","",IF(List!S10=List!N10,"",CONCATENATE(List!S10," :4"))),IF(List!N10="","",IF(List!N10<>List!I10,CONCATENATE(List!N10," :3"),IF(List!S10="","",IF(List!S10=List!N10,"",CONCATENATE(List!S10," :4")))))))) | F10: =CONCATENATE(IF(F$2>=List!$G10,IF(F$2<=List!$H10,List!$F10,""),""),IF(F$2>=List!$L10,IF(F$2<=List!$M10,List!$K10,""),""),IF(F$2>=List!$Q10,IF(F$2<=List!$R10,List!$P10,""),""),IF(F$2>=List!$V10,IF(F$2<=List!$W10,List!$U10,""),""),IF(F$2>=List!$Z10,IF(F$2<=List!$AA10,"()",""),"")) | G10: =CONCATENATE(IF(G$2>=List!$G10,IF(G$2<=List!$H10,List!$F10,""),""),IF(G$2>=List!$L10,IF(G$2<=List!$M10,List!$K10,""),""),IF(G$2>=List!$Q10,IF(G$2<=List!$R10,List!$P10,""),""),IF(G$2>=List!$V10,IF(G$2<=List!$W10,List!$U10,""),""),IF(G$2>=List!$Z10,IF(G$2<=List!$AA10,"()",""),"")) | H10: =CONCATENATE(IF(H$2>=List!$G10,IF(H$2<=List!$H10,List!$F10,""),""),IF(H$2>=List!$L10,IF(H$2<=List!$M10,List!$K10,""),""),IF(H$2>=List!$Q10,IF(H$2<=List!$R10,List!$P10,""),""),IF(H$2>=List!$V10,IF(H$2<=List!$W10,List!$U10,""),""),IF(H$2>=List!$Z10,IF(H$2<=List!$AA10,"()",""),"")) | I10: =CONCATENATE(IF(I$2>=List!$G10,IF(I$2<=List!$H10,List!$F10,""),""),IF(I$2>=List!$L10,IF(I$2<=List!$M10,List!$K10,""),""),IF(I$2>=List!$Q10,IF(I$2<=List!$R10,List!$P10,""),""),IF(I$2>=List!$V10,IF(I$2<=List!$W10,List!$U10,""),""),IF(I$2>=List!$Z10,IF(I$2<=List!$AA10,"()",""),"")) | J10: =CONCATENATE(IF(J$2>=List!$G10,IF(J$2<=List!$H10,List!$F10,""),""),IF(J$2>=List!$L10,IF(J$2<=List!$M10,List!$K10,""),""),IF(J$2>=List!$Q10,IF(J$2<=List!$R10,List!$P10,""),""),IF(J$2>=List!$V10,IF(J$2<=List!$W10,List!$U10,""),""),IF(J$2>=List!$Z10,IF(J$2<=List!$AA10,"()",""),"")) | K10: =CONCATENATE(IF(K$2>=List!$G10,IF(K$2<=List!$H10,List!$F10,""),""),IF(K$2>=List!$L10,IF(K$2<=List!$M10,List!$K10,""),""),IF(K$2>=List!$Q10,IF(K$2<=List!$R10,List!$P10,""),""),IF(K$2>=List!$V10,IF(K$2<=List!$W10,List!$U10,""),""),IF(K$2>=List!$Z10,IF(K$2<=List!$AA10,"()",""),"")) | L10: =CONCATENATE(IF(L$2>=List!$G10,IF(L$2<=List!$H10,List!$F10,""),""),IF(L$2>=List!$L10,IF(L$2<=List!$M10,List!$K10,""),""),IF(L$2>=List!$Q10,IF(L$2<=List!$R10,List!$P10,""),""),IF(L$2>=List!$V10,IF(L$2<=List!$W10,List!$U10,""),""),IF(L$2>=List!$Z10,IF(L$2<=List!$AA10,"()",""),"")) | M10: =CONCATENATE(IF(M$2>=List!$G10,IF(M$2<=List!$H10,List!$F10,""),""),IF(M$2>=List!$L10,IF(M$2<=List!$M10,List!$K10,""),""),IF(M$2>=List!$Q10,IF(M$2<=List!$R10,List!$P10,""),""),IF(M$2>=List!$V10,IF(M$2<=List!$W10,List!$U10,""),""),IF(M$2>=List!$Z10,IF(M$2<=List!$AA10,"()",""),"")) | ... BF10: =CONCATENATE(IF(BF$2>=List!$G10,IF(BF$2<=List!$H10,List!$F10,""),""),IF(BF$2>=List!$L10,IF(BF$2<=List!$M10,List!$K10,""),""),IF(BF$2>=List!$Q10,IF(BF$2<=List!$R10,List!$P10,""),""),IF(BF$2>=List!$V10,IF(BF$2<=List!$W10,List!$U10,""),""),IF(BF$2>=List!$Z10,IF(BF$2<=List!$AA10,"()",""),"")) | BH10: =List!D225 -> Alpaca | BI10: =List!E225 -> German Silver | BJ10: =List!F225 -> G | BK10: =List!G225 -> Neusilber
A11: =List!B11 -> 2 | B11: =List!C11 -> 20 | C11: =List!D11 -> Soho | D11: =IF(List!I11<>"",IF(List!D11=List!I11,IF(List!N11<>"",IF(List!N11=List!I11,IF(List!S11<>"",IF(List!S11=List!N11,"",CONCATENATE(List!S11," :4")),""),CONCATENATE(List!N11," :3")),""),CONCATENATE(List!I11," :2")),"") | E11: =IF(D11="","",IF(RIGHT(D11,1)="4","",IF(RIGHT(D11,1)="3",IF(List!S11="","",IF(List!S11=List!N11,"",CONCATENATE(List!S11," :4"))),IF(List!N11="","",IF(List!N11<>List!I11,CONCATENATE(List!N11," :3"),IF(List!S11="","",IF(List!S11=List!N11,"",CONCATENATE(List!S11," :4")))))))) | F11: =CONCATENATE(IF(F$2>=List!$G11,IF(F$2<=List!$H11,List!$F11,""),""),IF(F$2>=List!$L11,IF(F$2<=List!$M11,List!$K11,""),""),IF(F$2>=List!$Q11,IF(F$2<=List!$R11,List!$P11,""),""),IF(F$2>=List!$V11,IF(F$2<=List!$W11,List!$U11,""),""),IF(F$2>=List!$Z11,IF(F$2<=List!$AA11,"()",""),"")) -> B | G11: =CONCATENATE(IF(G$2>=List!$G11,IF(G$2<=List!$H11,List!$F11,""),""),IF(G$2>=List!$L11,IF(G$2<=List!$M11,List!$K11,""),""),IF(G$2>=List!$Q11,IF(G$2<=List!$R11,List!$P11,""),""),IF(G$2>=List!$V11,IF(G$2<=List!$W11,List!$U11,""),""),IF(G$2>=List!$Z11,IF(G$2<=List!$AA11,"()",""),"")) -> B | H11: =CONCATENATE(IF(H$2>=List!$G11,IF(H$2<=List!$H11,List!$F11,""),""),IF(H$2>=List!$L11,IF(H$2<=List!$M11,List!$K11,""),""),IF(H$2>=List!$Q11,IF(H$2<=List!$R11,List!$P11,""),""),IF(H$2>=List!$V11,IF(H$2<=List!$W11,List!$U11,""),""),IF(H$2>=List!$Z11,IF(H$2<=List!$AA11,"()",""),"")) -> B | I11: =CONCATENATE(IF(I$2>=List!$G11,IF(I$2<=List!$H11,List!$F11,""),""),IF(I$2>=List!$L11,IF(I$2<=List!$M11,List!$K11,""),""),IF(I$2>=List!$Q11,IF(I$2<=List!$R11,List!$P11,""),""),IF(I$2>=List!$V11,IF(I$2<=List!$W11,List!$U11,""),""),IF(I$2>=List!$Z11,IF(I$2<=List!$AA11,"()",""),"")) -> B | J11: =CONCATENATE(IF(J$2>=List!$G11,IF(J$2<=List!$H11,List!$F11,""),""),IF(J$2>=List!$L11,IF(J$2<=List!$M11,List!$K11,""),""),IF(J$2>=List!$Q11,IF(J$2<=List!$R11,List!$P11,""),""),IF(J$2>=List!$V11,IF(J$2<=List!$W11,List!$U11,""),""),IF(J$2>=List!$Z11,IF(J$2<=List!$AA11,"()",""),"")) -> B | K11: =CONCATENATE(IF(K$2>=List!$G11,IF(K$2<=List!$H11,List!$F11,""),""),IF(K$2>=List!$L11,IF(K$2<=List!$M11,List!$K11,""),""),IF(K$2>=List!$Q11,IF(K$2<=List!$R11,List!$P11,""),""),IF(K$2>=List!$V11,IF(K$2<=List!$W11,List!$U11,""),""),IF(K$2>=List!$Z11,IF(K$2<=List!$AA11,"()",""),"")) -> B | L11: =CONCATENATE(IF(L$2>=List!$G11,IF(L$2<=List!$H11,List!$F11,""),""),IF(L$2>=List!$L11,IF(L$2<=List!$M11,List!$K11,""),""),IF(L$2>=List!$Q11,IF(L$2<=List!$R11,List!$P11,""),""),IF(L$2>=List!$V11,IF(L$2<=List!$W11,List!$U11,""),""),IF(L$2>=List!$Z11,IF(L$2<=List!$AA11,"()",""),"")) -> B | M11: =CONCATENATE(IF(M$2>=List!$G11,IF(M$2<=List!$H11,List!$F11,""),""),IF(M$2>=List!$L11,IF(M$2<=List!$M11,List!$K11,""),""),IF(M$2>=List!$Q11,IF(M$2<=List!$R11,List!$P11,""),""),IF(M$2>=List!$V11,IF(M$2<=List!$W11,List!$U11,""),""),IF(M$2>=List!$Z11,IF(M$2<=List!$AA11,"()",""),"")) -> B | ... BF11: =CONCATENATE(IF(BF$2>=List!$G11,IF(BF$2<=List!$H11,List!$F11,""),""),IF(BF$2>=List!$L11,IF(BF$2<=List!$M11,List!$K11,""),""),IF(BF$2>=List!$Q11,IF(BF$2<=List!$R11,List!$P11,""),""),IF(BF$2>=List!$V11,IF(BF$2<=List!$W11,List!$U11,""),""),IF(BF$2>=List!$Z11,IF(BF$2<=List!$AA11,"()",""),"")) | BH11: =List!D226 -> Imitación Marfil | BI11: =List!E226 -> Immitation Ivory | BJ11: =List!F226 -> I | BK11: =List!G226 -> Imitation Elfenbein
A12: =List!B12 -> 2 | B12: =List!C12 -> 25 | C12: =List!D12 -> Mannheim | D12: =IF(List!I12<>"",IF(List!D12=List!I12,IF(List!N12<>"",IF(List!N12=List!I12,IF(List!S12<>"",IF(List!S12=List!N12,"",CONCATENATE(List!S12," :4")),""),CONCATENATE(List!N12," :3")),""),CONCATENATE(List!I12," :2")),"") | E12: =IF(D12="","",IF(RIGHT(D12,1)="4","",IF(RIGHT(D12,1)="3",IF(List!S12="","",IF(List!S12=List!N12,"",CONCATENATE(List!S12," :4"))),IF(List!N12="","",IF(List!N12<>List!I12,CONCATENATE(List!N12," :3"),IF(List!S12="","",IF(List!S12=List!N12,"",CONCATENATE(List!S12," :4")))))))) | F12: =CONCATENATE(IF(F$2>=List!$G12,IF(F$2<=List!$H12,List!$F12,""),""),IF(F$2>=List!$L12,IF(F$2<=List!$M12,List!$K12,""),""),IF(F$2>=List!$Q12,IF(F$2<=List!$R12,List!$P12,""),""),IF(F$2>=List!$V12,IF(F$2<=List!$W12,List!$U12,""),""),IF(F$2>=List!$Z12,IF(F$2<=List!$AA12,"()",""),"")) | G12: =CONCATENATE(IF(G$2>=List!$G12,IF(G$2<=List!$H12,List!$F12,""),""),IF(G$2>=List!$L12,IF(G$2<=List!$M12,List!$K12,""),""),IF(G$2>=List!$Q12,IF(G$2<=List!$R12,List!$P12,""),""),IF(G$2>=List!$V12,IF(G$2<=List!$W12,List!$U12,""),""),IF(G$2>=List!$Z12,IF(G$2<=List!$AA12,"()",""),"")) | H12: =CONCATENATE(IF(H$2>=List!$G12,IF(H$2<=List!$H12,List!$F12,""),""),IF(H$2>=List!$L12,IF(H$2<=List!$M12,List!$K12,""),""),IF(H$2>=List!$Q12,IF(H$2<=List!$R12,List!$P12,""),""),IF(H$2>=List!$V12,IF(H$2<=List!$W12,List!$U12,""),""),IF(H$2>=List!$Z12,IF(H$2<=List!$AA12,"()",""),"")) | I12: =CONCATENATE(IF(I$2>=List!$G12,IF(I$2<=List!$H12,List!$F12,""),""),IF(I$2>=List!$L12,IF(I$2<=List!$M12,List!$K12,""),""),IF(I$2>=List!$Q12,IF(I$2<=List!$R12,List!$P12,""),""),IF(I$2>=List!$V12,IF(I$2<=List!$W12,List!$U12,""),""),IF(I$2>=List!$Z12,IF(I$2<=List!$AA12,"()",""),"")) | J12: =CONCATENATE(IF(J$2>=List!$G12,IF(J$2<=List!$H12,List!$F12,""),""),IF(J$2>=List!$L12,IF(J$2<=List!$M12,List!$K12,""),""),IF(J$2>=List!$Q12,IF(J$2<=List!$R12,List!$P12,""),""),IF(J$2>=List!$V12,IF(J$2<=List!$W12,List!$U12,""),""),IF(J$2>=List!$Z12,IF(J$2<=List!$AA12,"()",""),"")) | K12: =CONCATENATE(IF(K$2>=List!$G12,IF(K$2<=List!$H12,List!$F12,""),""),IF(K$2>=List!$L12,IF(K$2<=List!$M12,List!$K12,""),""),IF(K$2>=List!$Q12,IF(K$2<=List!$R12,List!$P12,""),""),IF(K$2>=List!$V12,IF(K$2<=List!$W12,List!$U12,""),""),IF(K$2>=List!$Z12,IF(K$2<=List!$AA12,"()",""),"")) | L12: =CONCATENATE(IF(L$2>=List!$G12,IF(L$2<=List!$H12,List!$F12,""),""),IF(L$2>=List!$L12,IF(L$2<=List!$M12,List!$K12,""),""),IF(L$2>=List!$Q12,IF(L$2<=List!$R12,List!$P12,""),""),IF(L$2>=List!$V12,IF(L$2<=List!$W12,List!$U12,""),""),IF(L$2>=List!$Z12,IF(L$2<=List!$AA12,"()",""),"")) | M12: =CONCATENATE(IF(M$2>=List!$G12,IF(M$2<=List!$H12,List!$F12,""),""),IF(M$2>=List!$L12,IF(M$2<=List!$M12,List!$K12,""),""),IF(M$2>=List!$Q12,IF(M$2<=List!$R12,List!$P12,""),""),IF(M$2>=List!$V12,IF(M$2<=List!$W12,List!$U12,""),""),IF(M$2>=List!$Z12,IF(M$2<=List!$AA12,"()",""),"")) | ... BF12: =CONCATENATE(IF(BF$2>=List!$G12,IF(BF$2<=List!$H12,List!$F12,""),""),IF(BF$2>=List!$L12,IF(BF$2<=List!$M12,List!$K12,""),""),IF(BF$2>=List!$Q12,IF(BF$2<=List!$R12,List!$P12,""),""),IF(BF$2>=List!$V12,IF(BF$2<=List!$W12,List!$U12,""),""),IF(BF$2>=List!$Z12,IF(BF$2<=List!$AA12,"()",""),"")) | BH12: =List!D227 -> Marfil | BI12: =List!E227 -> Ivory | BJ12: =List!F227 -> E | BK12: =List!G227 -> Elfenbein
A13: =List!B13 -> 2a | B13: =List!C13 -> 25 | C13: =List!D13 -> Mannheim | D13: =IF(List!I13<>"",IF(List!D13=List!I13,IF(List!N13<>"",IF(List!N13=List!I13,IF(List!S13<>"",IF(List!S13=List!N13,"",CONCATENATE(List!S13," :4")),""),CONCATENATE(List!N13," :3")),""),CONCATENATE(List!I13," :2")),"") | E13: =IF(D13="","",IF(RIGHT(D13,1)="4","",IF(RIGHT(D13,1)="3",IF(List!S13="","",IF(List!S13=List!N13,"",CONCATENATE(List!S13," :4"))),IF(List!N13="","",IF(List!N13<>List!I13,CONCATENATE(List!N13," :3"),IF(List!S13="","",IF(List!S13=List!N13,"",CONCATENATE(List!S13," :4")))))))) | F13: =CONCATENATE(IF(F$2>=List!$G13,IF(F$2<=List!$H13,List!$F13,""),""),IF(F$2>=List!$L13,IF(F$2<=List!$M13,List!$K13,""),""),IF(F$2>=List!$Q13,IF(F$2<=List!$R13,List!$P13,""),""),IF(F$2>=List!$V13,IF(F$2<=List!$W13,List!$U13,""),""),IF(F$2>=List!$Z13,IF(F$2<=List!$AA13,"()",""),"")) | G13: =CONCATENATE(IF(G$2>=List!$G13,IF(G$2<=List!$H13,List!$F13,""),""),IF(G$2>=List!$L13,IF(G$2<=List!$M13,List!$K13,""),""),IF(G$2>=List!$Q13,IF(G$2<=List!$R13,List!$P13,""),""),IF(G$2>=List!$V13,IF(G$2<=List!$W13,List!$U13,""),""),IF(G$2>=List!$Z13,IF(G$2<=List!$AA13,"()",""),"")) | H13: =CONCATENATE(IF(H$2>=List!$G13,IF(H$2<=List!$H13,List!$F13,""),""),IF(H$2>=List!$L13,IF(H$2<=List!$M13,List!$K13,""),""),IF(H$2>=List!$Q13,IF(H$2<=List!$R13,List!$P13,""),""),IF(H$2>=List!$V13,IF(H$2<=List!$W13,List!$U13,""),""),IF(H$2>=List!$Z13,IF(H$2<=List!$AA13,"()",""),"")) | I13: =CONCATENATE(IF(I$2>=List!$G13,IF(I$2<=List!$H13,List!$F13,""),""),IF(I$2>=List!$L13,IF(I$2<=List!$M13,List!$K13,""),""),IF(I$2>=List!$Q13,IF(I$2<=List!$R13,List!$P13,""),""),IF(I$2>=List!$V13,IF(I$2<=List!$W13,List!$U13,""),""),IF(I$2>=List!$Z13,IF(I$2<=List!$AA13,"()",""),"")) | J13: =CONCATENATE(IF(J$2>=List!$G13,IF(J$2<=List!$H13,List!$F13,""),""),IF(J$2>=List!$L13,IF(J$2<=List!$M13,List!$K13,""),""),IF(J$2>=List!$Q13,IF(J$2<=List!$R13,List!$P13,""),""),IF(J$2>=List!$V13,IF(J$2<=List!$W13,List!$U13,""),""),IF(J$2>=List!$Z13,IF(J$2<=List!$AA13,"()",""),"")) | K13: =CONCATENATE(IF(K$2>=List!$G13,IF(K$2<=List!$H13,List!$F13,""),""),IF(K$2>=List!$L13,IF(K$2<=List!$M13,List!$K13,""),""),IF(K$2>=List!$Q13,IF(K$2<=List!$R13,List!$P13,""),""),IF(K$2>=List!$V13,IF(K$2<=List!$W13,List!$U13,""),""),IF(K$2>=List!$Z13,IF(K$2<=List!$AA13,"()",""),"")) | L13: =CONCATENATE(IF(L$2>=List!$G13,IF(L$2<=List!$H13,List!$F13,""),""),IF(L$2>=List!$L13,IF(L$2<=List!$M13,List!$K13,""),""),IF(L$2>=List!$Q13,IF(L$2<=List!$R13,List!$P13,""),""),IF(L$2>=List!$V13,IF(L$2<=List!$W13,List!$U13,""),""),IF(L$2>=List!$Z13,IF(L$2<=List!$AA13,"()",""),"")) | M13: =CONCATENATE(IF(M$2>=List!$G13,IF(M$2<=List!$H13,List!$F13,""),""),IF(M$2>=List!$L13,IF(M$2<=List!$M13,List!$K13,""),""),IF(M$2>=List!$Q13,IF(M$2<=List!$R13,List!$P13,""),""),IF(M$2>=List!$V13,IF(M$2<=List!$W13,List!$U13,""),""),IF(M$2>=List!$Z13,IF(M$2<=List!$AA13,"()",""),"")) | ... BF13: =CONCATENATE(IF(BF$2>=List!$G13,IF(BF$2<=List!$H13,List!$F13,""),""),IF(BF$2>=List!$L13,IF(BF$2<=List!$M13,List!$K13,""),""),IF(BF$2>=List!$Q13,IF(BF$2<=List!$R13,List!$P13,""),""),IF(BF$2>=List!$V13,IF(BF$2<=List!$W13,List!$U13,""),""),IF(BF$2>=List!$Z13,IF(BF$2<=List!$AA13,"()",""),"")) | BH13: =List!D228 -> Caoba | BI13: =List!E228 -> Mahogany | BJ13: =List!F228 -> M | BK13: =List!G228 -> Mahagoni
A14: =List!B14 -> 2c | B14: =List!C14 -> 25 | C14: =List!D14 -> Mannheim | D14: =IF(List!I14<>"",IF(List!D14=List!I14,IF(List!N14<>"",IF(List!N14=List!I14,IF(List!S14<>"",IF(List!S14=List!N14,"",CONCATENATE(List!S14," :4")),""),CONCATENATE(List!N14," :3")),""),CONCATENATE(List!I14," :2")),"") | E14: =IF(D14="","",IF(RIGHT(D14,1)="4","",IF(RIGHT(D14,1)="3",IF(List!S14="","",IF(List!S14=List!N14,"",CONCATENATE(List!S14," :4"))),IF(List!N14="","",IF(List!N14<>List!I14,CONCATENATE(List!N14," :3"),IF(List!S14="","",IF(List!S14=List!N14,"",CONCATENATE(List!S14," :4")))))))) | F14: =CONCATENATE(IF(F$2>=List!$G14,IF(F$2<=List!$H14,List!$F14,""),""),IF(F$2>=List!$L14,IF(F$2<=List!$M14,List!$K14,""),""),IF(F$2>=List!$Q14,IF(F$2<=List!$R14,List!$P14,""),""),IF(F$2>=List!$V14,IF(F$2<=List!$W14,List!$U14,""),""),IF(F$2>=List!$Z14,IF(F$2<=List!$AA14,"()",""),"")) | G14: =CONCATENATE(IF(G$2>=List!$G14,IF(G$2<=List!$H14,List!$F14,""),""),IF(G$2>=List!$L14,IF(G$2<=List!$M14,List!$K14,""),""),IF(G$2>=List!$Q14,IF(G$2<=List!$R14,List!$P14,""),""),IF(G$2>=List!$V14,IF(G$2<=List!$W14,List!$U14,""),""),IF(G$2>=List!$Z14,IF(G$2<=List!$AA14,"()",""),"")) | H14: =CONCATENATE(IF(H$2>=List!$G14,IF(H$2<=List!$H14,List!$F14,""),""),IF(H$2>=List!$L14,IF(H$2<=List!$M14,List!$K14,""),""),IF(H$2>=List!$Q14,IF(H$2<=List!$R14,List!$P14,""),""),IF(H$2>=List!$V14,IF(H$2<=List!$W14,List!$U14,""),""),IF(H$2>=List!$Z14,IF(H$2<=List!$AA14,"()",""),"")) | I14: =CONCATENATE(IF(I$2>=List!$G14,IF(I$2<=List!$H14,List!$F14,""),""),IF(I$2>=List!$L14,IF(I$2<=List!$M14,List!$K14,""),""),IF(I$2>=List!$Q14,IF(I$2<=List!$R14,List!$P14,""),""),IF(I$2>=List!$V14,IF(I$2<=List!$W14,List!$U14,""),""),IF(I$2>=List!$Z14,IF(I$2<=List!$AA14,"()",""),"")) | J14: =CONCATENATE(IF(J$2>=List!$G14,IF(J$2<=List!$H14,List!$F14,""),""),IF(J$2>=List!$L14,IF(J$2<=List!$M14,List!$K14,""),""),IF(J$2>=List!$Q14,IF(J$2<=List!$R14,List!$P14,""),""),IF(J$2>=List!$V14,IF(J$2<=List!$W14,List!$U14,""),""),IF(J$2>=List!$Z14,IF(J$2<=List!$AA14,"()",""),"")) | K14: =CONCATENATE(IF(K$2>=List!$G14,IF(K$2<=List!$H14,List!$F14,""),""),IF(K$2>=List!$L14,IF(K$2<=List!$M14,List!$K14,""),""),IF(K$2>=List!$Q14,IF(K$2<=List!$R14,List!$P14,""),""),IF(K$2>=List!$V14,IF(K$2<=List!$W14,List!$U14,""),""),IF(K$2>=List!$Z14,IF(K$2<=List!$AA14,"()",""),"")) | L14: =CONCATENATE(IF(L$2>=List!$G14,IF(L$2<=List!$H14,List!$F14,""),""),IF(L$2>=List!$L14,IF(L$2<=List!$M14,List!$K14,""),""),IF(L$2>=List!$Q14,IF(L$2<=List!$R14,List!$P14,""),""),IF(L$2>=List!$V14,IF(L$2<=List!$W14,List!$U14,""),""),IF(L$2>=List!$Z14,IF(L$2<=List!$AA14,"()",""),"")) | M14: =CONCATENATE(IF(M$2>=List!$G14,IF(M$2<=List!$H14,List!$F14,""),""),IF(M$2>=List!$L14,IF(M$2<=List!$M14,List!$K14,""),""),IF(M$2>=List!$Q14,IF(M$2<=List!$R14,List!$P14,""),""),IF(M$2>=List!$V14,IF(M$2<=List!$W14,List!$U14,""),""),IF(M$2>=List!$Z14,IF(M$2<=List!$AA14,"()",""),"")) | ... BF14: =CONCATENATE(IF(BF$2>=List!$G14,IF(BF$2<=List!$H14,List!$F14,""),""),IF(BF$2>=List!$L14,IF(BF$2<=List!$M14,List!$K14,""),""),IF(BF$2>=List!$Q14,IF(BF$2<=List!$R14,List!$P14,""),""),IF(BF$2>=List!$V14,IF(BF$2<=List!$W14,List!$U14,""),""),IF(BF$2>=List!$Z14,IF(BF$2<=List!$AA14,"()",""),"")) | BH14: =List!D229 -> Caoba/Nogal | BI14: =List!E229 -> Mahogany/Walnut | BJ14: =List!F229 -> O | BK14: =List!G229 -> Mahagoni/Nußbaum
A15: =List!B15 -> 3 | B15: =List!C15 -> 25 | C15: =List!D15 -> Soho | D15: =IF(List!I15<>"",IF(List!D15=List!I15,IF(List!N15<>"",IF(List!N15=List!I15,IF(List!S15<>"",IF(List!S15=List!N15,"",CONCATENATE(List!S15," :4")),""),CONCATENATE(List!N15," :3")),""),CONCATENATE(List!I15," :2")),"") -> Mannheim :2 | E15: =IF(D15="","",IF(RIGHT(D15,1)="4","",IF(RIGHT(D15,1)="3",IF(List!S15="","",IF(List!S15=List!N15,"",CONCATENATE(List!S15," :4"))),IF(List!N15="","",IF(List!N15<>List!I15,CONCATENATE(List!N15," :3"),IF(List!S15="","",IF(List!S15=List!N15,"",CONCATENATE(List!S15," :4")))))))) | F15: =CONCATENATE(IF(F$2>=List!$G15,IF(F$2<=List!$H15,List!$F15,""),""),IF(F$2>=List!$L15,IF(F$2<=List!$M15,List!$K15,""),""),IF(F$2>=List!$Q15,IF(F$2<=List!$R15,List!$P15,""),""),IF(F$2>=List!$V15,IF(F$2<=List!$W15,List!$U15,""),""),IF(F$2>=List!$Z15,IF(F$2<=List!$AA15,"()",""),"")) -> B | G15: =CONCATENATE(IF(G$2>=List!$G15,IF(G$2<=List!$H15,List!$F15,""),""),IF(G$2>=List!$L15,IF(G$2<=List!$M15,List!$K15,""),""),IF(G$2>=List!$Q15,IF(G$2<=List!$R15,List!$P15,""),""),IF(G$2>=List!$V15,IF(G$2<=List!$W15,List!$U15,""),""),IF(G$2>=List!$Z15,IF(G$2<=List!$AA15,"()",""),"")) -> B | H15: =CONCATENATE(IF(H$2>=List!$G15,IF(H$2<=List!$H15,List!$F15,""),""),IF(H$2>=List!$L15,IF(H$2<=List!$M15,List!$K15,""),""),IF(H$2>=List!$Q15,IF(H$2<=List!$R15,List!$P15,""),""),IF(H$2>=List!$V15,IF(H$2<=List!$W15,List!$U15,""),""),IF(H$2>=List!$Z15,IF(H$2<=List!$AA15,"()",""),"")) -> B | I15: =CONCATENATE(IF(I$2>=List!$G15,IF(I$2<=List!$H15,List!$F15,""),""),IF(I$2>=List!$L15,IF(I$2<=List!$M15,List!$K15,""),""),IF(I$2>=List!$Q15,IF(I$2<=List!$R15,List!$P15,""),""),IF(I$2>=List!$V15,IF(I$2<=List!$W15,List!$U15,""),""),IF(I$2>=List!$Z15,IF(I$2<=List!$AA15,"()",""),"")) -> B | J15: =CONCATENATE(IF(J$2>=List!$G15,IF(J$2<=List!$H15,List!$F15,""),""),IF(J$2>=List!$L15,IF(J$2<=List!$M15,List!$K15,""),""),IF(J$2>=List!$Q15,IF(J$2<=List!$R15,List!$P15,""),""),IF(J$2>=List!$V15,IF(J$2<=List!$W15,List!$U15,""),""),IF(J$2>=List!$Z15,IF(J$2<=List!$AA15,"()",""),"")) -> B | K15: =CONCATENATE(IF(K$2>=List!$G15,IF(K$2<=List!$H15,List!$F15,""),""),IF(K$2>=List!$L15,IF(K$2<=List!$M15,List!$K15,""),""),IF(K$2>=List!$Q15,IF(K$2<=List!$R15,List!$P15,""),""),IF(K$2>=List!$V15,IF(K$2<=List!$W15,List!$U15,""),""),IF(K$2>=List!$Z15,IF(K$2<=List!$AA15,"()",""),"")) -> B | L15: =CONCATENATE(IF(L$2>=List!$G15,IF(L$2<=List!$H15,List!$F15,""),""),IF(L$2>=List!$L15,IF(L$2<=List!$M15,List!$K15,""),""),IF(L$2>=List!$Q15,IF(L$2<=List!$R15,List!$P15,""),""),IF(L$2>=List!$V15,IF(L$2<=List!$W15,List!$U15,""),""),IF(L$2>=List!$Z15,IF(L$2<=List!$AA15,"()",""),"")) -> B | M15: =CONCATENATE(IF(M$2>=List!$G15,IF(M$2<=List!$H15,List!$F15,""),""),IF(M$2>=List!$L15,IF(M$2<=List!$M15,List!$K15,""),""),IF(M$2>=List!$Q15,IF(M$2<=List!$R15,List!$P15,""),""),IF(M$2>=List!$V15,IF(M$2<=List!$W15,List!$U15,""),""),IF(M$2>=List!$Z15,IF(M$2<=List!$AA15,"()",""),"")) -> B | ... BF15: =CONCATENATE(IF(BF$2>=List!$G15,IF(BF$2<=List!$H15,List!$F15,""),""),IF(BF$2>=List!$L15,IF(BF$2<=List!$M15,List!$K15,""),""),IF(BF$2>=List!$Q15,IF(BF$2<=List!$R15,List!$P15,""),""),IF(BF$2>=List!$V15,IF(BF$2<=List!$W15,List!$U15,""),""),IF(BF$2>=List!$Z15,IF(BF$2<=List!$AA15,"()",""),"")) | BH15: =List!D230 -> Arce | BI15: =List!E230 -> Maple | BJ15: =List!F230 -> L | BK15: =List!G230 -> Ahorn
A16: =List!B16 -> 4 | B16: =List!C16 -> 20 | C16: =List!D16 -> Mannheim | D16: =IF(List!I16<>"",IF(List!D16=List!I16,IF(List!N16<>"",IF(List!N16=List!I16,IF(List!S16<>"",IF(List!S16=List!N16,"",CONCATENATE(List!S16," :4")),""),CONCATENATE(List!N16," :3")),""),CONCATENATE(List!I16," :2")),"") | E16: =IF(D16="","",IF(RIGHT(D16,1)="4","",IF(RIGHT(D16,1)="3",IF(List!S16="","",IF(List!S16=List!N16,"",CONCATENATE(List!S16," :4"))),IF(List!N16="","",IF(List!N16<>List!I16,CONCATENATE(List!N16," :3"),IF(List!S16="","",IF(List!S16=List!N16,"",CONCATENATE(List!S16," :4")))))))) | F16: =CONCATENATE(IF(F$2>=List!$G16,IF(F$2<=List!$H16,List!$F16,""),""),IF(F$2>=List!$L16,IF(F$2<=List!$M16,List!$K16,""),""),IF(F$2>=List!$Q16,IF(F$2<=List!$R16,List!$P16,""),""),IF(F$2>=List!$V16,IF(F$2<=List!$W16,List!$U16,""),""),IF(F$2>=List!$Z16,IF(F$2<=List!$AA16,"()",""),"")) -> B | G16: =CONCATENATE(IF(G$2>=List!$G16,IF(G$2<=List!$H16,List!$F16,""),""),IF(G$2>=List!$L16,IF(G$2<=List!$M16,List!$K16,""),""),IF(G$2>=List!$Q16,IF(G$2<=List!$R16,List!$P16,""),""),IF(G$2>=List!$V16,IF(G$2<=List!$W16,List!$U16,""),""),IF(G$2>=List!$Z16,IF(G$2<=List!$AA16,"()",""),"")) -> B | H16: =CONCATENATE(IF(H$2>=List!$G16,IF(H$2<=List!$H16,List!$F16,""),""),IF(H$2>=List!$L16,IF(H$2<=List!$M16,List!$K16,""),""),IF(H$2>=List!$Q16,IF(H$2<=List!$R16,List!$P16,""),""),IF(H$2>=List!$V16,IF(H$2<=List!$W16,List!$U16,""),""),IF(H$2>=List!$Z16,IF(H$2<=List!$AA16,"()",""),"")) -> B | I16: =CONCATENATE(IF(I$2>=List!$G16,IF(I$2<=List!$H16,List!$F16,""),""),IF(I$2>=List!$L16,IF(I$2<=List!$M16,List!$K16,""),""),IF(I$2>=List!$Q16,IF(I$2<=List!$R16,List!$P16,""),""),IF(I$2>=List!$V16,IF(I$2<=List!$W16,List!$U16,""),""),IF(I$2>=List!$Z16,IF(I$2<=List!$AA16,"()",""),"")) -> B | J16: =CONCATENATE(IF(J$2>=List!$G16,IF(J$2<=List!$H16,List!$F16,""),""),IF(J$2>=List!$L16,IF(J$2<=List!$M16,List!$K16,""),""),IF(J$2>=List!$Q16,IF(J$2<=List!$R16,List!$P16,""),""),IF(J$2>=List!$V16,IF(J$2<=List!$W16,List!$U16,""),""),IF(J$2>=List!$Z16,IF(J$2<=List!$AA16,"()",""),"")) -> B | K16: =CONCATENATE(IF(K$2>=List!$G16,IF(K$2<=List!$H16,List!$F16,""),""),IF(K$2>=List!$L16,IF(K$2<=List!$M16,List!$K16,""),""),IF(K$2>=List!$Q16,IF(K$2<=List!$R16,List!$P16,""),""),IF(K$2>=List!$V16,IF(K$2<=List!$W16,List!$U16,""),""),IF(K$2>=List!$Z16,IF(K$2<=List!$AA16,"()",""),"")) -> B | L16: =CONCATENATE(IF(L$2>=List!$G16,IF(L$2<=List!$H16,List!$F16,""),""),IF(L$2>=List!$L16,IF(L$2<=List!$M16,List!$K16,""),""),IF(L$2>=List!$Q16,IF(L$2<=List!$R16,List!$P16,""),""),IF(L$2>=List!$V16,IF(L$2<=List!$W16,List!$U16,""),""),IF(L$2>=List!$Z16,IF(L$2<=List!$AA16,"()",""),"")) -> B | M16: =CONCATENATE(IF(M$2>=List!$G16,IF(M$2<=List!$H16,List!$F16,""),""),IF(M$2>=List!$L16,IF(M$2<=List!$M16,List!$K16,""),""),IF(M$2>=List!$Q16,IF(M$2<=List!$R16,List!$P16,""),""),IF(M$2>=List!$V16,IF(M$2<=List!$W16,List!$U16,""),""),IF(M$2>=List!$Z16,IF(M$2<=List!$AA16,"()",""),"")) -> B | ... BF16: =CONCATENATE(IF(BF$2>=List!$G16,IF(BF$2<=List!$H16,List!$F16,""),""),IF(BF$2>=List!$L16,IF(BF$2<=List!$M16,List!$K16,""),""),IF(BF$2>=List!$Q16,IF(BF$2<=List!$R16,List!$P16,""),""),IF(BF$2>=List!$V16,IF(BF$2<=List!$W16,List!$U16,""),""),IF(BF$2>=List!$Z16,IF(BF$2<=List!$AA16,"()",""),"")) | BH16: =List!D231 -> Metal | BI16: =List!E231 -> Metal | BJ16: =List!F231 -> T | BK16: =List!G231 -> Metall
... A20: =List!B20 -> 5 | B20: =List!C20 -> 36 | C20: =List!D20 -> Mannheim | D20: =IF(List!I20<>"",IF(List!D20=List!I20,IF(List!N20<>"",IF(List!N20=List!I20,IF(List!S20<>"",IF(List!S20=List!N20,"",CONCATENATE(List!S20," :4")),""),CONCATENATE(List!N20," :3")),""),CONCATENATE(List!I20," :2")),"") | E20: =IF(D20="","",IF(RIGHT(D20,1)="4","",IF(RIGHT(D20,1)="3",IF(List!S20="","",IF(List!S20=List!N20,"",CONCATENATE(List!S20," :4"))),IF(List!N20="","",IF(List!N20<>List!I20,CONCATENATE(List!N20," :3"),IF(List!S20="","",IF(List!S20=List!N20,"",CONCATENATE(List!S20," :4")))))))) | F20: =CONCATENATE(IF(F$2>=List!$G20,IF(F$2<=List!$H20,List!$F20,""),""),IF(F$2>=List!$L20,IF(F$2<=List!$M20,List!$K20,""),""),IF(F$2>=List!$Q20,IF(F$2<=List!$R20,List!$P20,""),""),IF(F$2>=List!$V20,IF(F$2<=List!$W20,List!$U20,""),""),IF(F$2>=List!$Z20,IF(F$2<=List!$AA20,"()",""),"")) | G20: =CONCATENATE(IF(G$2>=List!$G20,IF(G$2<=List!$H20,List!$F20,""),""),IF(G$2>=List!$L20,IF(G$2<=List!$M20,List!$K20,""),""),IF(G$2>=List!$Q20,IF(G$2<=List!$R20,List!$P20,""),""),IF(G$2>=List!$V20,IF(G$2<=List!$W20,List!$U20,""),""),IF(G$2>=List!$Z20,IF(G$2<=List!$AA20,"()",""),"")) | H20: =CONCATENATE(IF(H$2>=List!$G20,IF(H$2<=List!$H20,List!$F20,""),""),IF(H$2>=List!$L20,IF(H$2<=List!$M20,List!$K20,""),""),IF(H$2>=List!$Q20,IF(H$2<=List!$R20,List!$P20,""),""),IF(H$2>=List!$V20,IF(H$2<=List!$W20,List!$U20,""),""),IF(H$2>=List!$Z20,IF(H$2<=List!$AA20,"()",""),"")) | I20: =CONCATENATE(IF(I$2>=List!$G20,IF(I$2<=List!$H20,List!$F20,""),""),IF(I$2>=List!$L20,IF(I$2<=List!$M20,List!$K20,""),""),IF(I$2>=List!$Q20,IF(I$2<=List!$R20,List!$P20,""),""),IF(I$2>=List!$V20,IF(I$2<=List!$W20,List!$U20,""),""),IF(I$2>=List!$Z20,IF(I$2<=List!$AA20,"()",""),"")) | J20: =CONCATENATE(IF(J$2>=List!$G20,IF(J$2<=List!$H20,List!$F20,""),""),IF(J$2>=List!$L20,IF(J$2<=List!$M20,List!$K20,""),""),IF(J$2>=List!$Q20,IF(J$2<=List!$R20,List!$P20,""),""),IF(J$2>=List!$V20,IF(J$2<=List!$W20,List!$U20,""),""),IF(J$2>=List!$Z20,IF(J$2<=List!$AA20,"()",""),"")) | K20: =CONCATENATE(IF(K$2>=List!$G20,IF(K$2<=List!$H20,List!$F20,""),""),IF(K$2>=List!$L20,IF(K$2<=List!$M20,List!$K20,""),""),IF(K$2>=List!$Q20,IF(K$2<=List!$R20,List!$P20,""),""),IF(K$2>=List!$V20,IF(K$2<=List!$W20,List!$U20,""),""),IF(K$2>=List!$Z20,IF(K$2<=List!$AA20,"()",""),"")) | L20: =CONCATENATE(IF(L$2>=List!$G20,IF(L$2<=List!$H20,List!$F20,""),""),IF(L$2>=List!$L20,IF(L$2<=List!$M20,List!$K20,""),""),IF(L$2>=List!$Q20,IF(L$2<=List!$R20,List!$P20,""),""),IF(L$2>=List!$V20,IF(L$2<=List!$W20,List!$U20,""),""),IF(L$2>=List!$Z20,IF(L$2<=List!$AA20,"()",""),"")) | M20: =CONCATENATE(IF(M$2>=List!$G20,IF(M$2<=List!$H20,List!$F20,""),""),IF(M$2>=List!$L20,IF(M$2<=List!$M20,List!$K20,""),""),IF(M$2>=List!$Q20,IF(M$2<=List!$R20,List!$P20,""),""),IF(M$2>=List!$V20,IF(M$2<=List!$W20,List!$U20,""),""),IF(M$2>=List!$Z20,IF(M$2<=List!$AA20,"()",""),"")) | ... BF20: =CONCATENATE(IF(BF$2>=List!$G20,IF(BF$2<=List!$H20,List!$F20,""),""),IF(BF$2>=List!$L20,IF(BF$2<=List!$M20,List!$K20,""),""),IF(BF$2>=List!$Q20,IF(BF$2<=List!$R20,List!$P20,""),""),IF(BF$2>=List!$V20,IF(BF$2<=List!$W20,List!$U20,""),""),IF(BF$2>=List!$Z20,IF(BF$2<=List!$AA20,"()",""),"")) | BH20: =List!D235 -> ¿Madera? | BI20: =List!E235 -> Wood? | BJ20: =List!F235 -> ? | BK20: =List!G235 -> Holz?
A21: =List!B21 -> 5 | B21: =List!C21 -> 50 | C21: =List!D21 -> Mannheim | D21: =IF(List!I21<>"",IF(List!D21=List!I21,IF(List!N21<>"",IF(List!N21=List!I21,IF(List!S21<>"",IF(List!S21=List!N21,"",CONCATENATE(List!S21," :4")),""),CONCATENATE(List!N21," :3")),""),CONCATENATE(List!I21," :2")),"") | E21: =IF(D21="","",IF(RIGHT(D21,1)="4","",IF(RIGHT(D21,1)="3",IF(List!S21="","",IF(List!S21=List!N21,"",CONCATENATE(List!S21," :4"))),IF(List!N21="","",IF(List!N21<>List!I21,CONCATENATE(List!N21," :3"),IF(List!S21="","",IF(List!S21=List!N21,"",CONCATENATE(List!S21," :4")))))))) | F21: =CONCATENATE(IF(F$2>=List!$G21,IF(F$2<=List!$H21,List!$F21,""),""),IF(F$2>=List!$L21,IF(F$2<=List!$M21,List!$K21,""),""),IF(F$2>=List!$Q21,IF(F$2<=List!$R21,List!$P21,""),""),IF(F$2>=List!$V21,IF(F$2<=List!$W21,List!$U21,""),""),IF(F$2>=List!$Z21,IF(F$2<=List!$AA21,"()",""),"")) | G21: =CONCATENATE(IF(G$2>=List!$G21,IF(G$2<=List!$H21,List!$F21,""),""),IF(G$2>=List!$L21,IF(G$2<=List!$M21,List!$K21,""),""),IF(G$2>=List!$Q21,IF(G$2<=List!$R21,List!$P21,""),""),IF(G$2>=List!$V21,IF(G$2<=List!$W21,List!$U21,""),""),IF(G$2>=List!$Z21,IF(G$2<=List!$AA21,"()",""),"")) | H21: =CONCATENATE(IF(H$2>=List!$G21,IF(H$2<=List!$H21,List!$F21,""),""),IF(H$2>=List!$L21,IF(H$2<=List!$M21,List!$K21,""),""),IF(H$2>=List!$Q21,IF(H$2<=List!$R21,List!$P21,""),""),IF(H$2>=List!$V21,IF(H$2<=List!$W21,List!$U21,""),""),IF(H$2>=List!$Z21,IF(H$2<=List!$AA21,"()",""),"")) | I21: =CONCATENATE(IF(I$2>=List!$G21,IF(I$2<=List!$H21,List!$F21,""),""),IF(I$2>=List!$L21,IF(I$2<=List!$M21,List!$K21,""),""),IF(I$2>=List!$Q21,IF(I$2<=List!$R21,List!$P21,""),""),IF(I$2>=List!$V21,IF(I$2<=List!$W21,List!$U21,""),""),IF(I$2>=List!$Z21,IF(I$2<=List!$AA21,"()",""),"")) | J21: =CONCATENATE(IF(J$2>=List!$G21,IF(J$2<=List!$H21,List!$F21,""),""),IF(J$2>=List!$L21,IF(J$2<=List!$M21,List!$K21,""),""),IF(J$2>=List!$Q21,IF(J$2<=List!$R21,List!$P21,""),""),IF(J$2>=List!$V21,IF(J$2<=List!$W21,List!$U21,""),""),IF(J$2>=List!$Z21,IF(J$2<=List!$AA21,"()",""),"")) | K21: =CONCATENATE(IF(K$2>=List!$G21,IF(K$2<=List!$H21,List!$F21,""),""),IF(K$2>=List!$L21,IF(K$2<=List!$M21,List!$K21,""),""),IF(K$2>=List!$Q21,IF(K$2<=List!$R21,List!$P21,""),""),IF(K$2>=List!$V21,IF(K$2<=List!$W21,List!$U21,""),""),IF(K$2>=List!$Z21,IF(K$2<=List!$AA21,"()",""),"")) | L21: =CONCATENATE(IF(L$2>=List!$G21,IF(L$2<=List!$H21,List!$F21,""),""),IF(L$2>=List!$L21,IF(L$2<=List!$M21,List!$K21,""),""),IF(L$2>=List!$Q21,IF(L$2<=List!$R21,List!$P21,""),""),IF(L$2>=List!$V21,IF(L$2<=List!$W21,List!$U21,""),""),IF(L$2>=List!$Z21,IF(L$2<=List!$AA21,"()",""),"")) | M21: =CONCATENATE(IF(M$2>=List!$G21,IF(M$2<=List!$H21,List!$F21,""),""),IF(M$2>=List!$L21,IF(M$2<=List!$M21,List!$K21,""),""),IF(M$2>=List!$Q21,IF(M$2<=List!$R21,List!$P21,""),""),IF(M$2>=List!$V21,IF(M$2<=List!$W21,List!$U21,""),""),IF(M$2>=List!$Z21,IF(M$2<=List!$AA21,"()",""),"")) | ... BF21: =CONCATENATE(IF(BF$2>=List!$G21,IF(BF$2<=List!$H21,List!$F21,""),""),IF(BF$2>=List!$L21,IF(BF$2<=List!$M21,List!$K21,""),""),IF(BF$2>=List!$Q21,IF(BF$2<=List!$R21,List!$P21,""),""),IF(BF$2>=List!$V21,IF(BF$2<=List!$W21,List!$U21,""),""),IF(BF$2>=List!$Z21,IF(BF$2<=List!$AA21,"()",""),""))
A22: =List!B22 -> 5D | B22: =List!C22 -> 100 | C22: =List!D22 -> Mannheim | D22: =IF(List!I22<>"",IF(List!D22=List!I22,IF(List!N22<>"",IF(List!N22=List!I22,IF(List!S22<>"",IF(List!S22=List!N22,"",CONCATENATE(List!S22," :4")),""),CONCATENATE(List!N22," :3")),""),CONCATENATE(List!I22," :2")),"") | E22: =IF(D22="","",IF(RIGHT(D22,1)="4","",IF(RIGHT(D22,1)="3",IF(List!S22="","",IF(List!S22=List!N22,"",CONCATENATE(List!S22," :4"))),IF(List!N22="","",IF(List!N22<>List!I22,CONCATENATE(List!N22," :3"),IF(List!S22="","",IF(List!S22=List!N22,"",CONCATENATE(List!S22," :4")))))))) | F22: =CONCATENATE(IF(F$2>=List!$G22,IF(F$2<=List!$H22,List!$F22,""),""),IF(F$2>=List!$L22,IF(F$2<=List!$M22,List!$K22,""),""),IF(F$2>=List!$Q22,IF(F$2<=List!$R22,List!$P22,""),""),IF(F$2>=List!$V22,IF(F$2<=List!$W22,List!$U22,""),""),IF(F$2>=List!$Z22,IF(F$2<=List!$AA22,"()",""),"")) | G22: =CONCATENATE(IF(G$2>=List!$G22,IF(G$2<=List!$H22,List!$F22,""),""),IF(G$2>=List!$L22,IF(G$2<=List!$M22,List!$K22,""),""),IF(G$2>=List!$Q22,IF(G$2<=List!$R22,List!$P22,""),""),IF(G$2>=List!$V22,IF(G$2<=List!$W22,List!$U22,""),""),IF(G$2>=List!$Z22,IF(G$2<=List!$AA22,"()",""),"")) | H22: =CONCATENATE(IF(H$2>=List!$G22,IF(H$2<=List!$H22,List!$F22,""),""),IF(H$2>=List!$L22,IF(H$2<=List!$M22,List!$K22,""),""),IF(H$2>=List!$Q22,IF(H$2<=List!$R22,List!$P22,""),""),IF(H$2>=List!$V22,IF(H$2<=List!$W22,List!$U22,""),""),IF(H$2>=List!$Z22,IF(H$2<=List!$AA22,"()",""),"")) | I22: =CONCATENATE(IF(I$2>=List!$G22,IF(I$2<=List!$H22,List!$F22,""),""),IF(I$2>=List!$L22,IF(I$2<=List!$M22,List!$K22,""),""),IF(I$2>=List!$Q22,IF(I$2<=List!$R22,List!$P22,""),""),IF(I$2>=List!$V22,IF(I$2<=List!$W22,List!$U22,""),""),IF(I$2>=List!$Z22,IF(I$2<=List!$AA22,"()",""),"")) | J22: =CONCATENATE(IF(J$2>=List!$G22,IF(J$2<=List!$H22,List!$F22,""),""),IF(J$2>=List!$L22,IF(J$2<=List!$M22,List!$K22,""),""),IF(J$2>=List!$Q22,IF(J$2<=List!$R22,List!$P22,""),""),IF(J$2>=List!$V22,IF(J$2<=List!$W22,List!$U22,""),""),IF(J$2>=List!$Z22,IF(J$2<=List!$AA22,"()",""),"")) | K22: =CONCATENATE(IF(K$2>=List!$G22,IF(K$2<=List!$H22,List!$F22,""),""),IF(K$2>=List!$L22,IF(K$2<=List!$M22,List!$K22,""),""),IF(K$2>=List!$Q22,IF(K$2<=List!$R22,List!$P22,""),""),IF(K$2>=List!$V22,IF(K$2<=List!$W22,List!$U22,""),""),IF(K$2>=List!$Z22,IF(K$2<=List!$AA22,"()",""),"")) | L22: =CONCATENATE(IF(L$2>=List!$G22,IF(L$2<=List!$H22,List!$F22,""),""),IF(L$2>=List!$L22,IF(L$2<=List!$M22,List!$K22,""),""),IF(L$2>=List!$Q22,IF(L$2<=List!$R22,List!$P22,""),""),IF(L$2>=List!$V22,IF(L$2<=List!$W22,List!$U22,""),""),IF(L$2>=List!$Z22,IF(L$2<=List!$AA22,"()",""),"")) | M22: =CONCATENATE(IF(M$2>=List!$G22,IF(M$2<=List!$H22,List!$F22,""),""),IF(M$2>=List!$L22,IF(M$2<=List!$M22,List!$K22,""),""),IF(M$2>=List!$Q22,IF(M$2<=List!$R22,List!$P22,""),""),IF(M$2>=List!$V22,IF(M$2<=List!$W22,List!$U22,""),""),IF(M$2>=List!$Z22,IF(M$2<=List!$AA22,"()",""),"")) | ... BF22: =CONCATENATE(IF(BF$2>=List!$G22,IF(BF$2<=List!$H22,List!$F22,""),""),IF(BF$2>=List!$L22,IF(BF$2<=List!$M22,List!$K22,""),""),IF(BF$2>=List!$Q22,IF(BF$2<=List!$R22,List!$P22,""),""),IF(BF$2>=List!$V22,IF(BF$2<=List!$W22,List!$U22,""),""),IF(BF$2>=List!$Z22,IF(BF$2<=List!$AA22,"()",""),""))
A23: =List!B23 -> 6 | B23: =List!C23 -> 10 | C23: =List!D23 -> Mannheim | D23: =IF(List!I23<>"",IF(List!D23=List!I23,IF(List!N23<>"",IF(List!N23=List!I23,IF(List!S23<>"",IF(List!S23=List!N23,"",CONCATENATE(List!S23," :4")),""),CONCATENATE(List!N23," :3")),""),CONCATENATE(List!I23," :2")),"") | E23: =IF(D23="","",IF(RIGHT(D23,1)="4","",IF(RIGHT(D23,1)="3",IF(List!S23="","",IF(List!S23=List!N23,"",CONCATENATE(List!S23," :4"))),IF(List!N23="","",IF(List!N23<>List!I23,CONCATENATE(List!N23," :3"),IF(List!S23="","",IF(List!S23=List!N23,"",CONCATENATE(List!S23," :4")))))))) | F23: =CONCATENATE(IF(F$2>=List!$G23,IF(F$2<=List!$H23,List!$F23,""),""),IF(F$2>=List!$L23,IF(F$2<=List!$M23,List!$K23,""),""),IF(F$2>=List!$Q23,IF(F$2<=List!$R23,List!$P23,""),""),IF(F$2>=List!$V23,IF(F$2<=List!$W23,List!$U23,""),""),IF(F$2>=List!$Z23,IF(F$2<=List!$AA23,"()",""),"")) | G23: =CONCATENATE(IF(G$2>=List!$G23,IF(G$2<=List!$H23,List!$F23,""),""),IF(G$2>=List!$L23,IF(G$2<=List!$M23,List!$K23,""),""),IF(G$2>=List!$Q23,IF(G$2<=List!$R23,List!$P23,""),""),IF(G$2>=List!$V23,IF(G$2<=List!$W23,List!$U23,""),""),IF(G$2>=List!$Z23,IF(G$2<=List!$AA23,"()",""),"")) | H23: =CONCATENATE(IF(H$2>=List!$G23,IF(H$2<=List!$H23,List!$F23,""),""),IF(H$2>=List!$L23,IF(H$2<=List!$M23,List!$K23,""),""),IF(H$2>=List!$Q23,IF(H$2<=List!$R23,List!$P23,""),""),IF(H$2>=List!$V23,IF(H$2<=List!$W23,List!$U23,""),""),IF(H$2>=List!$Z23,IF(H$2<=List!$AA23,"()",""),"")) | I23: =CONCATENATE(IF(I$2>=List!$G23,IF(I$2<=List!$H23,List!$F23,""),""),IF(I$2>=List!$L23,IF(I$2<=List!$M23,List!$K23,""),""),IF(I$2>=List!$Q23,IF(I$2<=List!$R23,List!$P23,""),""),IF(I$2>=List!$V23,IF(I$2<=List!$W23,List!$U23,""),""),IF(I$2>=List!$Z23,IF(I$2<=List!$AA23,"()",""),"")) | J23: =CONCATENATE(IF(J$2>=List!$G23,IF(J$2<=List!$H23,List!$F23,""),""),IF(J$2>=List!$L23,IF(J$2<=List!$M23,List!$K23,""),""),IF(J$2>=List!$Q23,IF(J$2<=List!$R23,List!$P23,""),""),IF(J$2>=List!$V23,IF(J$2<=List!$W23,List!$U23,""),""),IF(J$2>=List!$Z23,IF(J$2<=List!$AA23,"()",""),"")) | K23: =CONCATENATE(IF(K$2>=List!$G23,IF(K$2<=List!$H23,List!$F23,""),""),IF(K$2>=List!$L23,IF(K$2<=List!$M23,List!$K23,""),""),IF(K$2>=List!$Q23,IF(K$2<=List!$R23,List!$P23,""),""),IF(K$2>=List!$V23,IF(K$2<=List!$W23,List!$U23,""),""),IF(K$2>=List!$Z23,IF(K$2<=List!$AA23,"()",""),"")) | L23: =CONCATENATE(IF(L$2>=List!$G23,IF(L$2<=List!$H23,List!$F23,""),""),IF(L$2>=List!$L23,IF(L$2<=List!$M23,List!$K23,""),""),IF(L$2>=List!$Q23,IF(L$2<=List!$R23,List!$P23,""),""),IF(L$2>=List!$V23,IF(L$2<=List!$W23,List!$U23,""),""),IF(L$2>=List!$Z23,IF(L$2<=List!$AA23,"()",""),"")) | M23: =CONCATENATE(IF(M$2>=List!$G23,IF(M$2<=List!$H23,List!$F23,""),""),IF(M$2>=List!$L23,IF(M$2<=List!$M23,List!$K23,""),""),IF(M$2>=List!$Q23,IF(M$2<=List!$R23,List!$P23,""),""),IF(M$2>=List!$V23,IF(M$2<=List!$W23,List!$U23,""),""),IF(M$2>=List!$Z23,IF(M$2<=List!$AA23,"()",""),"")) | ... BF23: =CONCATENATE(IF(BF$2>=List!$G23,IF(BF$2<=List!$H23,List!$F23,""),""),IF(BF$2>=List!$L23,IF(BF$2<=List!$M23,List!$K23,""),""),IF(BF$2>=List!$Q23,IF(BF$2<=List!$R23,List!$P23,""),""),IF(BF$2>=List!$V23,IF(BF$2<=List!$W23,List!$U23,""),""),IF(BF$2>=List!$Z23,IF(BF$2<=List!$AA23,"()",""),""))
A24: =List!B24 -> 6 | B24: =List!C24 -> 12.5 | C24: =List!D24 -> Mannheim | D24: =IF(List!I24<>"",IF(List!D24=List!I24,IF(List!N24<>"",IF(List!N24=List!I24,IF(List!S24<>"",IF(List!S24=List!N24,"",CONCATENATE(List!S24," :4")),""),CONCATENATE(List!N24," :3")),""),CONCATENATE(List!I24," :2")),"") | E24: =IF(D24="","",IF(RIGHT(D24,1)="4","",IF(RIGHT(D24,1)="3",IF(List!S24="","",IF(List!S24=List!N24,"",CONCATENATE(List!S24," :4"))),IF(List!N24="","",IF(List!N24<>List!I24,CONCATENATE(List!N24," :3"),IF(List!S24="","",IF(List!S24=List!N24,"",CONCATENATE(List!S24," :4")))))))) | F24: =CONCATENATE(IF(F$2>=List!$G24,IF(F$2<=List!$H24,List!$F24,""),""),IF(F$2>=List!$L24,IF(F$2<=List!$M24,List!$K24,""),""),IF(F$2>=List!$Q24,IF(F$2<=List!$R24,List!$P24,""),""),IF(F$2>=List!$V24,IF(F$2<=List!$W24,List!$U24,""),""),IF(F$2>=List!$Z24,IF(F$2<=List!$AA24,"()",""),"")) | G24: =CONCATENATE(IF(G$2>=List!$G24,IF(G$2<=List!$H24,List!$F24,""),""),IF(G$2>=List!$L24,IF(G$2<=List!$M24,List!$K24,""),""),IF(G$2>=List!$Q24,IF(G$2<=List!$R24,List!$P24,""),""),IF(G$2>=List!$V24,IF(G$2<=List!$W24,List!$U24,""),""),IF(G$2>=List!$Z24,IF(G$2<=List!$AA24,"()",""),"")) | H24: =CONCATENATE(IF(H$2>=List!$G24,IF(H$2<=List!$H24,List!$F24,""),""),IF(H$2>=List!$L24,IF(H$2<=List!$M24,List!$K24,""),""),IF(H$2>=List!$Q24,IF(H$2<=List!$R24,List!$P24,""),""),IF(H$2>=List!$V24,IF(H$2<=List!$W24,List!$U24,""),""),IF(H$2>=List!$Z24,IF(H$2<=List!$AA24,"()",""),"")) | I24: =CONCATENATE(IF(I$2>=List!$G24,IF(I$2<=List!$H24,List!$F24,""),""),IF(I$2>=List!$L24,IF(I$2<=List!$M24,List!$K24,""),""),IF(I$2>=List!$Q24,IF(I$2<=List!$R24,List!$P24,""),""),IF(I$2>=List!$V24,IF(I$2<=List!$W24,List!$U24,""),""),IF(I$2>=List!$Z24,IF(I$2<=List!$AA24,"()",""),"")) | J24: =CONCATENATE(IF(J$2>=List!$G24,IF(J$2<=List!$H24,List!$F24,""),""),IF(J$2>=List!$L24,IF(J$2<=List!$M24,List!$K24,""),""),IF(J$2>=List!$Q24,IF(J$2<=List!$R24,List!$P24,""),""),IF(J$2>=List!$V24,IF(J$2<=List!$W24,List!$U24,""),""),IF(J$2>=List!$Z24,IF(J$2<=List!$AA24,"()",""),"")) | K24: =CONCATENATE(IF(K$2>=List!$G24,IF(K$2<=List!$H24,List!$F24,""),""),IF(K$2>=List!$L24,IF(K$2<=List!$M24,List!$K24,""),""),IF(K$2>=List!$Q24,IF(K$2<=List!$R24,List!$P24,""),""),IF(K$2>=List!$V24,IF(K$2<=List!$W24,List!$U24,""),""),IF(K$2>=List!$Z24,IF(K$2<=List!$AA24,"()",""),"")) | L24: =CONCATENATE(IF(L$2>=List!$G24,IF(L$2<=List!$H24,List!$F24,""),""),IF(L$2>=List!$L24,IF(L$2<=List!$M24,List!$K24,""),""),IF(L$2>=List!$Q24,IF(L$2<=List!$R24,List!$P24,""),""),IF(L$2>=List!$V24,IF(L$2<=List!$W24,List!$U24,""),""),IF(L$2>=List!$Z24,IF(L$2<=List!$AA24,"()",""),"")) -> E | M24: =CONCATENATE(IF(M$2>=List!$G24,IF(M$2<=List!$H24,List!$F24,""),""),IF(M$2>=List!$L24,IF(M$2<=List!$M24,List!$K24,""),""),IF(M$2>=List!$Q24,IF(M$2<=List!$R24,List!$P24,""),""),IF(M$2>=List!$V24,IF(M$2<=List!$W24,List!$U24,""),""),IF(M$2>=List!$Z24,IF(M$2<=List!$AA24,"()",""),"")) -> E | ... BF24: =CONCATENATE(IF(BF$2>=List!$G24,IF(BF$2<=List!$H24,List!$F24,""),""),IF(BF$2>=List!$L24,IF(BF$2<=List!$M24,List!$K24,""),""),IF(BF$2>=List!$Q24,IF(BF$2<=List!$R24,List!$P24,""),""),IF(BF$2>=List!$V24,IF(BF$2<=List!$W24,List!$U24,""),""),IF(BF$2>=List!$Z24,IF(BF$2<=List!$AA24,"()",""),""))
A25: =List!B25 -> 6 | B25: =List!C25 -> 25 | C25: =List!D25 -> Mannheim | D25: =IF(List!I25<>"",IF(List!D25=List!I25,IF(List!N25<>"",IF(List!N25=List!I25,IF(List!S25<>"",IF(List!S25=List!N25,"",CONCATENATE(List!S25," :4")),""),CONCATENATE(List!N25," :3")),""),CONCATENATE(List!I25," :2")),"") | E25: =IF(D25="","",IF(RIGHT(D25,1)="4","",IF(RIGHT(D25,1)="3",IF(List!S25="","",IF(List!S25=List!N25,"",CONCATENATE(List!S25," :4"))),IF(List!N25="","",IF(List!N25<>List!I25,CONCATENATE(List!N25," :3"),IF(List!S25="","",IF(List!S25=List!N25,"",CONCATENATE(List!S25," :4")))))))) | F25: =CONCATENATE(IF(F$2>=List!$G25,IF(F$2<=List!$H25,List!$F25,""),""),IF(F$2>=List!$L25,IF(F$2<=List!$M25,List!$K25,""),""),IF(F$2>=List!$Q25,IF(F$2<=List!$R25,List!$P25,""),""),IF(F$2>=List!$V25,IF(F$2<=List!$W25,List!$U25,""),""),IF(F$2>=List!$Z25,IF(F$2<=List!$AA25,"()",""),"")) -> B | G25: =CONCATENATE(IF(G$2>=List!$G25,IF(G$2<=List!$H25,List!$F25,""),""),IF(G$2>=List!$L25,IF(G$2<=List!$M25,List!$K25,""),""),IF(G$2>=List!$Q25,IF(G$2<=List!$R25,List!$P25,""),""),IF(G$2>=List!$V25,IF(G$2<=List!$W25,List!$U25,""),""),IF(G$2>=List!$Z25,IF(G$2<=List!$AA25,"()",""),"")) -> B | H25: =CONCATENATE(IF(H$2>=List!$G25,IF(H$2<=List!$H25,List!$F25,""),""),IF(H$2>=List!$L25,IF(H$2<=List!$M25,List!$K25,""),""),IF(H$2>=List!$Q25,IF(H$2<=List!$R25,List!$P25,""),""),IF(H$2>=List!$V25,IF(H$2<=List!$W25,List!$U25,""),""),IF(H$2>=List!$Z25,IF(H$2<=List!$AA25,"()",""),"")) -> B | I25: =CONCATENATE(IF(I$2>=List!$G25,IF(I$2<=List!$H25,List!$F25,""),""),IF(I$2>=List!$L25,IF(I$2<=List!$M25,List!$K25,""),""),IF(I$2>=List!$Q25,IF(I$2<=List!$R25,List!$P25,""),""),IF(I$2>=List!$V25,IF(I$2<=List!$W25,List!$U25,""),""),IF(I$2>=List!$Z25,IF(I$2<=List!$AA25,"()",""),"")) -> B | J25: =CONCATENATE(IF(J$2>=List!$G25,IF(J$2<=List!$H25,List!$F25,""),""),IF(J$2>=List!$L25,IF(J$2<=List!$M25,List!$K25,""),""),IF(J$2>=List!$Q25,IF(J$2<=List!$R25,List!$P25,""),""),IF(J$2>=List!$V25,IF(J$2<=List!$W25,List!$U25,""),""),IF(J$2>=List!$Z25,IF(J$2<=List!$AA25,"()",""),"")) -> B | K25: =CONCATENATE(IF(K$2>=List!$G25,IF(K$2<=List!$H25,List!$F25,""),""),IF(K$2>=List!$L25,IF(K$2<=List!$M25,List!$K25,""),""),IF(K$2>=List!$Q25,IF(K$2<=List!$R25,List!$P25,""),""),IF(K$2>=List!$V25,IF(K$2<=List!$W25,List!$U25,""),""),IF(K$2>=List!$Z25,IF(K$2<=List!$AA25,"()",""),"")) -> B | L25: =CONCATENATE(IF(L$2>=List!$G25,IF(L$2<=List!$H25,List!$F25,""),""),IF(L$2>=List!$L25,IF(L$2<=List!$M25,List!$K25,""),""),IF(L$2>=List!$Q25,IF(L$2<=List!$R25,List!$P25,""),""),IF(L$2>=List!$V25,IF(L$2<=List!$W25,List!$U25,""),""),IF(L$2>=List!$Z25,IF(L$2<=List!$AA25,"()",""),"")) | M25: =CONCATENATE(IF(M$2>=List!$G25,IF(M$2<=List!$H25,List!$F25,""),""),IF(M$2>=List!$L25,IF(M$2<=List!$M25,List!$K25,""),""),IF(M$2>=List!$Q25,IF(M$2<=List!$R25,List!$P25,""),""),IF(M$2>=List!$V25,IF(M$2<=List!$W25,List!$U25,""),""),IF(M$2>=List!$Z25,IF(M$2<=List!$AA25,"()",""),"")) | ... BF25: =CONCATENATE(IF(BF$2>=List!$G25,IF(BF$2<=List!$H25,List!$F25,""),""),IF(BF$2>=List!$L25,IF(BF$2<=List!$M25,List!$K25,""),""),IF(BF$2>=List!$Q25,IF(BF$2<=List!$R25,List!$P25,""),""),IF(BF$2>=List!$V25,IF(BF$2<=List!$W25,List!$U25,""),""),IF(BF$2>=List!$Z25,IF(BF$2<=List!$AA25,"()",""),""))
A26: =List!B26 -> 6a | B26: =List!C26 -> 12.5 | C26: =List!D26 -> Mannheim | D26: =IF(List!I26<>"",IF(List!D26=List!I26,IF(List!N26<>"",IF(List!N26=List!I26,IF(List!S26<>"",IF(List!S26=List!N26,"",CONCATENATE(List!S26," :4")),""),CONCATENATE(List!N26," :3")),""),CONCATENATE(List!I26," :2")),"") | E26: =IF(D26="","",IF(RIGHT(D26,1)="4","",IF(RIGHT(D26,1)="3",IF(List!S26="","",IF(List!S26=List!N26,"",CONCATENATE(List!S26," :4"))),IF(List!N26="","",IF(List!N26<>List!I26,CONCATENATE(List!N26," :3"),IF(List!S26="","",IF(List!S26=List!N26,"",CONCATENATE(List!S26," :4")))))))) | F26: =CONCATENATE(IF(F$2>=List!$G26,IF(F$2<=List!$H26,List!$F26,""),""),IF(F$2>=List!$L26,IF(F$2<=List!$M26,List!$K26,""),""),IF(F$2>=List!$Q26,IF(F$2<=List!$R26,List!$P26,""),""),IF(F$2>=List!$V26,IF(F$2<=List!$W26,List!$U26,""),""),IF(F$2>=List!$Z26,IF(F$2<=List!$AA26,"()",""),"")) -> E | G26: =CONCATENATE(IF(G$2>=List!$G26,IF(G$2<=List!$H26,List!$F26,""),""),IF(G$2>=List!$L26,IF(G$2<=List!$M26,List!$K26,""),""),IF(G$2>=List!$Q26,IF(G$2<=List!$R26,List!$P26,""),""),IF(G$2>=List!$V26,IF(G$2<=List!$W26,List!$U26,""),""),IF(G$2>=List!$Z26,IF(G$2<=List!$AA26,"()",""),"")) -> E | H26: =CONCATENATE(IF(H$2>=List!$G26,IF(H$2<=List!$H26,List!$F26,""),""),IF(H$2>=List!$L26,IF(H$2<=List!$M26,List!$K26,""),""),IF(H$2>=List!$Q26,IF(H$2<=List!$R26,List!$P26,""),""),IF(H$2>=List!$V26,IF(H$2<=List!$W26,List!$U26,""),""),IF(H$2>=List!$Z26,IF(H$2<=List!$AA26,"()",""),"")) -> E | I26: =CONCATENATE(IF(I$2>=List!$G26,IF(I$2<=List!$H26,List!$F26,""),""),IF(I$2>=List!$L26,IF(I$2<=List!$M26,List!$K26,""),""),IF(I$2>=List!$Q26,IF(I$2<=List!$R26,List!$P26,""),""),IF(I$2>=List!$V26,IF(I$2<=List!$W26,List!$U26,""),""),IF(I$2>=List!$Z26,IF(I$2<=List!$AA26,"()",""),"")) -> E | J26: =CONCATENATE(IF(J$2>=List!$G26,IF(J$2<=List!$H26,List!$F26,""),""),IF(J$2>=List!$L26,IF(J$2<=List!$M26,List!$K26,""),""),IF(J$2>=List!$Q26,IF(J$2<=List!$R26,List!$P26,""),""),IF(J$2>=List!$V26,IF(J$2<=List!$W26,List!$U26,""),""),IF(J$2>=List!$Z26,IF(J$2<=List!$AA26,"()",""),"")) -> E | K26: =CONCATENATE(IF(K$2>=List!$G26,IF(K$2<=List!$H26,List!$F26,""),""),IF(K$2>=List!$L26,IF(K$2<=List!$M26,List!$K26,""),""),IF(K$2>=List!$Q26,IF(K$2<=List!$R26,List!$P26,""),""),IF(K$2>=List!$V26,IF(K$2<=List!$W26,List!$U26,""),""),IF(K$2>=List!$Z26,IF(K$2<=List!$AA26,"()",""),"")) -> E | L26: =CONCATENATE(IF(L$2>=List!$G26,IF(L$2<=List!$H26,List!$F26,""),""),IF(L$2>=List!$L26,IF(L$2<=List!$M26,List!$K26,""),""),IF(L$2>=List!$Q26,IF(L$2<=List!$R26,List!$P26,""),""),IF(L$2>=List!$V26,IF(L$2<=List!$W26,List!$U26,""),""),IF(L$2>=List!$Z26,IF(L$2<=List!$AA26,"()",""),"")) | M26: =CONCATENATE(IF(M$2>=List!$G26,IF(M$2<=List!$H26,List!$F26,""),""),IF(M$2>=List!$L26,IF(M$2<=List!$M26,List!$K26,""),""),IF(M$2>=List!$Q26,IF(M$2<=List!$R26,List!$P26,""),""),IF(M$2>=List!$V26,IF(M$2<=List!$W26,List!$U26,""),""),IF(M$2>=List!$Z26,IF(M$2<=List!$AA26,"()",""),"")) | ... BF26: =CONCATENATE(IF(BF$2>=List!$G26,IF(BF$2<=List!$H26,List!$F26,""),""),IF(BF$2>=List!$L26,IF(BF$2<=List!$M26,List!$K26,""),""),IF(BF$2>=List!$Q26,IF(BF$2<=List!$R26,List!$P26,""),""),IF(BF$2>=List!$V26,IF(BF$2<=List!$W26,List!$U26,""),""),IF(BF$2>=List!$Z26,IF(BF$2<=List!$AA26,"()",""),""))
A27: =List!B27 -> 7 | B27: =List!C27 -> 20 | C27: =List!D27 -> Mannheim | D27: =IF(List!I27<>"",IF(List!D27=List!I27,IF(List!N27<>"",IF(List!N27=List!I27,IF(List!S27<>"",IF(List!S27=List!N27,"",CONCATENATE(List!S27," :4")),""),CONCATENATE(List!N27," :3")),""),CONCATENATE(List!I27," :2")),"") | E27: =IF(D27="","",IF(RIGHT(D27,1)="4","",IF(RIGHT(D27,1)="3",IF(List!S27="","",IF(List!S27=List!N27,"",CONCATENATE(List!S27," :4"))),IF(List!N27="","",IF(List!N27<>List!I27,CONCATENATE(List!N27," :3"),IF(List!S27="","",IF(List!S27=List!N27,"",CONCATENATE(List!S27," :4")))))))) | F27: =CONCATENATE(IF(F$2>=List!$G27,IF(F$2<=List!$H27,List!$F27,""),""),IF(F$2>=List!$L27,IF(F$2<=List!$M27,List!$K27,""),""),IF(F$2>=List!$Q27,IF(F$2<=List!$R27,List!$P27,""),""),IF(F$2>=List!$V27,IF(F$2<=List!$W27,List!$U27,""),""),IF(F$2>=List!$Z27,IF(F$2<=List!$AA27,"()",""),"")) -> E | G27: =CONCATENATE(IF(G$2>=List!$G27,IF(G$2<=List!$H27,List!$F27,""),""),IF(G$2>=List!$L27,IF(G$2<=List!$M27,List!$K27,""),""),IF(G$2>=List!$Q27,IF(G$2<=List!$R27,List!$P27,""),""),IF(G$2>=List!$V27,IF(G$2<=List!$W27,List!$U27,""),""),IF(G$2>=List!$Z27,IF(G$2<=List!$AA27,"()",""),"")) -> E | H27: =CONCATENATE(IF(H$2>=List!$G27,IF(H$2<=List!$H27,List!$F27,""),""),IF(H$2>=List!$L27,IF(H$2<=List!$M27,List!$K27,""),""),IF(H$2>=List!$Q27,IF(H$2<=List!$R27,List!$P27,""),""),IF(H$2>=List!$V27,IF(H$2<=List!$W27,List!$U27,""),""),IF(H$2>=List!$Z27,IF(H$2<=List!$AA27,"()",""),"")) -> E | I27: =CONCATENATE(IF(I$2>=List!$G27,IF(I$2<=List!$H27,List!$F27,""),""),IF(I$2>=List!$L27,IF(I$2<=List!$M27,List!$K27,""),""),IF(I$2>=List!$Q27,IF(I$2<=List!$R27,List!$P27,""),""),IF(I$2>=List!$V27,IF(I$2<=List!$W27,List!$U27,""),""),IF(I$2>=List!$Z27,IF(I$2<=List!$AA27,"()",""),"")) -> E | J27: =CONCATENATE(IF(J$2>=List!$G27,IF(J$2<=List!$H27,List!$F27,""),""),IF(J$2>=List!$L27,IF(J$2<=List!$M27,List!$K27,""),""),IF(J$2>=List!$Q27,IF(J$2<=List!$R27,List!$P27,""),""),IF(J$2>=List!$V27,IF(J$2<=List!$W27,List!$U27,""),""),IF(J$2>=List!$Z27,IF(J$2<=List!$AA27,"()",""),"")) -> E | K27: =CONCATENATE(IF(K$2>=List!$G27,IF(K$2<=List!$H27,List!$F27,""),""),IF(K$2>=List!$L27,IF(K$2<=List!$M27,List!$K27,""),""),IF(K$2>=List!$Q27,IF(K$2<=List!$R27,List!$P27,""),""),IF(K$2>=List!$V27,IF(K$2<=List!$W27,List!$U27,""),""),IF(K$2>=List!$Z27,IF(K$2<=List!$AA27,"()",""),"")) -> E | L27: =CONCATENATE(IF(L$2>=List!$G27,IF(L$2<=List!$H27,List!$F27,""),""),IF(L$2>=List!$L27,IF(L$2<=List!$M27,List!$K27,""),""),IF(L$2>=List!$Q27,IF(L$2<=List!$R27,List!$P27,""),""),IF(L$2>=List!$V27,IF(L$2<=List!$W27,List!$U27,""),""),IF(L$2>=List!$Z27,IF(L$2<=List!$AA27,"()",""),"")) -> E | M27: =CONCATENATE(IF(M$2>=List!$G27,IF(M$2<=List!$H27,List!$F27,""),""),IF(M$2>=List!$L27,IF(M$2<=List!$M27,List!$K27,""),""),IF(M$2>=List!$Q27,IF(M$2<=List!$R27,List!$P27,""),""),IF(M$2>=List!$V27,IF(M$2<=List!$W27,List!$U27,""),""),IF(M$2>=List!$Z27,IF(M$2<=List!$AA27,"()",""),"")) -> E | ... BF27: =CONCATENATE(IF(BF$2>=List!$G27,IF(BF$2<=List!$H27,List!$F27,""),""),IF(BF$2>=List!$L27,IF(BF$2<=List!$M27,List!$K27,""),""),IF(BF$2>=List!$Q27,IF(BF$2<=List!$R27,List!$P27,""),""),IF(BF$2>=List!$V27,IF(BF$2<=List!$W27,List!$U27,""),""),IF(BF$2>=List!$Z27,IF(BF$2<=List!$AA27,"()",""),""))
A28: =List!B28 -> 7 | B28: =List!C28 -> 25 | C28: =List!D28 -> Commercial | D28: =IF(List!I28<>"",IF(List!D28=List!I28,IF(List!N28<>"",IF(List!N28=List!I28,IF(List!S28<>"",IF(List!S28=List!N28,"",CONCATENATE(List!S28," :4")),""),CONCATENATE(List!N28," :3")),""),CONCATENATE(List!I28," :2")),"") | E28: =IF(D28="","",IF(RIGHT(D28,1)="4","",IF(RIGHT(D28,1)="3",IF(List!S28="","",IF(List!S28=List!N28,"",CONCATENATE(List!S28," :4"))),IF(List!N28="","",IF(List!N28<>List!I28,CONCATENATE(List!N28," :3"),IF(List!S28="","",IF(List!S28=List!N28,"",CONCATENATE(List!S28," :4")))))))) | F28: =CONCATENATE(IF(F$2>=List!$G28,IF(F$2<=List!$H28,List!$F28,""),""),IF(F$2>=List!$L28,IF(F$2<=List!$M28,List!$K28,""),""),IF(F$2>=List!$Q28,IF(F$2<=List!$R28,List!$P28,""),""),IF(F$2>=List!$V28,IF(F$2<=List!$W28,List!$U28,""),""),IF(F$2>=List!$Z28,IF(F$2<=List!$AA28,"()",""),"")) | G28: =CONCATENATE(IF(G$2>=List!$G28,IF(G$2<=List!$H28,List!$F28,""),""),IF(G$2>=List!$L28,IF(G$2<=List!$M28,List!$K28,""),""),IF(G$2>=List!$Q28,IF(G$2<=List!$R28,List!$P28,""),""),IF(G$2>=List!$V28,IF(G$2<=List!$W28,List!$U28,""),""),IF(G$2>=List!$Z28,IF(G$2<=List!$AA28,"()",""),"")) | H28: =CONCATENATE(IF(H$2>=List!$G28,IF(H$2<=List!$H28,List!$F28,""),""),IF(H$2>=List!$L28,IF(H$2<=List!$M28,List!$K28,""),""),IF(H$2>=List!$Q28,IF(H$2<=List!$R28,List!$P28,""),""),IF(H$2>=List!$V28,IF(H$2<=List!$W28,List!$U28,""),""),IF(H$2>=List!$Z28,IF(H$2<=List!$AA28,"()",""),"")) | I28: =CONCATENATE(IF(I$2>=List!$G28,IF(I$2<=List!$H28,List!$F28,""),""),IF(I$2>=List!$L28,IF(I$2<=List!$M28,List!$K28,""),""),IF(I$2>=List!$Q28,IF(I$2<=List!$R28,List!$P28,""),""),IF(I$2>=List!$V28,IF(I$2<=List!$W28,List!$U28,""),""),IF(I$2>=List!$Z28,IF(I$2<=List!$AA28,"()",""),"")) | J28: =CONCATENATE(IF(J$2>=List!$G28,IF(J$2<=List!$H28,List!$F28,""),""),IF(J$2>=List!$L28,IF(J$2<=List!$M28,List!$K28,""),""),IF(J$2>=List!$Q28,IF(J$2<=List!$R28,List!$P28,""),""),IF(J$2>=List!$V28,IF(J$2<=List!$W28,List!$U28,""),""),IF(J$2>=List!$Z28,IF(J$2<=List!$AA28,"()",""),"")) | K28: =CONCATENATE(IF(K$2>=List!$G28,IF(K$2<=List!$H28,List!$F28,""),""),IF(K$2>=List!$L28,IF(K$2<=List!$M28,List!$K28,""),""),IF(K$2>=List!$Q28,IF(K$2<=List!$R28,List!$P28,""),""),IF(K$2>=List!$V28,IF(K$2<=List!$W28,List!$U28,""),""),IF(K$2>=List!$Z28,IF(K$2<=List!$AA28,"()",""),"")) | L28: =CONCATENATE(IF(L$2>=List!$G28,IF(L$2<=List!$H28,List!$F28,""),""),IF(L$2>=List!$L28,IF(L$2<=List!$M28,List!$K28,""),""),IF(L$2>=List!$Q28,IF(L$2<=List!$R28,List!$P28,""),""),IF(L$2>=List!$V28,IF(L$2<=List!$W28,List!$U28,""),""),IF(L$2>=List!$Z28,IF(L$2<=List!$AA28,"()",""),"")) | M28: =CONCATENATE(IF(M$2>=List!$G28,IF(M$2<=List!$H28,List!$F28,""),""),IF(M$2>=List!$L28,IF(M$2<=List!$M28,List!$K28,""),""),IF(M$2>=List!$Q28,IF(M$2<=List!$R28,List!$P28,""),""),IF(M$2>=List!$V28,IF(M$2<=List!$W28,List!$U28,""),""),IF(M$2>=List!$Z28,IF(M$2<=List!$AA28,"()",""),"")) | ... BF28: =CONCATENATE(IF(BF$2>=List!$G28,IF(BF$2<=List!$H28,List!$F28,""),""),IF(BF$2>=List!$L28,IF(BF$2<=List!$M28,List!$K28,""),""),IF(BF$2>=List!$Q28,IF(BF$2<=List!$R28,List!$P28,""),""),IF(BF$2>=List!$V28,IF(BF$2<=List!$W28,List!$U28,""),""),IF(BF$2>=List!$Z28,IF(BF$2<=List!$AA28,"()",""),""))
A29: =List!B29 -> 7a | B29: =List!C29 -> 25 | C29: =List!D29 -> Commercial | D29: =IF(List!I29<>"",IF(List!D29=List!I29,IF(List!N29<>"",IF(List!N29=List!I29,IF(List!S29<>"",IF(List!S29=List!N29,"",CONCATENATE(List!S29," :4")),""),CONCATENATE(List!N29," :3")),""),CONCATENATE(List!I29," :2")),"") | E29: =IF(D29="","",IF(RIGHT(D29,1)="4","",IF(RIGHT(D29,1)="3",IF(List!S29="","",IF(List!S29=List!N29,"",CONCATENATE(List!S29," :4"))),IF(List!N29="","",IF(List!N29<>List!I29,CONCATENATE(List!N29," :3"),IF(List!S29="","",IF(List!S29=List!N29,"",CONCATENATE(List!S29," :4")))))))) | F29: =CONCATENATE(IF(F$2>=List!$G29,IF(F$2<=List!$H29,List!$F29,""),""),IF(F$2>=List!$L29,IF(F$2<=List!$M29,List!$K29,""),""),IF(F$2>=List!$Q29,IF(F$2<=List!$R29,List!$P29,""),""),IF(F$2>=List!$V29,IF(F$2<=List!$W29,List!$U29,""),""),IF(F$2>=List!$Z29,IF(F$2<=List!$AA29,"()",""),"")) | G29: =CONCATENATE(IF(G$2>=List!$G29,IF(G$2<=List!$H29,List!$F29,""),""),IF(G$2>=List!$L29,IF(G$2<=List!$M29,List!$K29,""),""),IF(G$2>=List!$Q29,IF(G$2<=List!$R29,List!$P29,""),""),IF(G$2>=List!$V29,IF(G$2<=List!$W29,List!$U29,""),""),IF(G$2>=List!$Z29,IF(G$2<=List!$AA29,"()",""),"")) | H29: =CONCATENATE(IF(H$2>=List!$G29,IF(H$2<=List!$H29,List!$F29,""),""),IF(H$2>=List!$L29,IF(H$2<=List!$M29,List!$K29,""),""),IF(H$2>=List!$Q29,IF(H$2<=List!$R29,List!$P29,""),""),IF(H$2>=List!$V29,IF(H$2<=List!$W29,List!$U29,""),""),IF(H$2>=List!$Z29,IF(H$2<=List!$AA29,"()",""),"")) | I29: =CONCATENATE(IF(I$2>=List!$G29,IF(I$2<=List!$H29,List!$F29,""),""),IF(I$2>=List!$L29,IF(I$2<=List!$M29,List!$K29,""),""),IF(I$2>=List!$Q29,IF(I$2<=List!$R29,List!$P29,""),""),IF(I$2>=List!$V29,IF(I$2<=List!$W29,List!$U29,""),""),IF(I$2>=List!$Z29,IF(I$2<=List!$AA29,"()",""),"")) | J29: =CONCATENATE(IF(J$2>=List!$G29,IF(J$2<=List!$H29,List!$F29,""),""),IF(J$2>=List!$L29,IF(J$2<=List!$M29,List!$K29,""),""),IF(J$2>=List!$Q29,IF(J$2<=List!$R29,List!$P29,""),""),IF(J$2>=List!$V29,IF(J$2<=List!$W29,List!$U29,""),""),IF(J$2>=List!$Z29,IF(J$2<=List!$AA29,"()",""),"")) | K29: =CONCATENATE(IF(K$2>=List!$G29,IF(K$2<=List!$H29,List!$F29,""),""),IF(K$2>=List!$L29,IF(K$2<=List!$M29,List!$K29,""),""),IF(K$2>=List!$Q29,IF(K$2<=List!$R29,List!$P29,""),""),IF(K$2>=List!$V29,IF(K$2<=List!$W29,List!$U29,""),""),IF(K$2>=List!$Z29,IF(K$2<=List!$AA29,"()",""),"")) | L29: =CONCATENATE(IF(L$2>=List!$G29,IF(L$2<=List!$H29,List!$F29,""),""),IF(L$2>=List!$L29,IF(L$2<=List!$M29,List!$K29,""),""),IF(L$2>=List!$Q29,IF(L$2<=List!$R29,List!$P29,""),""),IF(L$2>=List!$V29,IF(L$2<=List!$W29,List!$U29,""),""),IF(L$2>=List!$Z29,IF(L$2<=List!$AA29,"()",""),"")) | M29: =CONCATENATE(IF(M$2>=List!$G29,IF(M$2<=List!$H29,List!$F29,""),""),IF(M$2>=List!$L29,IF(M$2<=List!$M29,List!$K29,""),""),IF(M$2>=List!$Q29,IF(M$2<=List!$R29,List!$P29,""),""),IF(M$2>=List!$V29,IF(M$2<=List!$W29,List!$U29,""),""),IF(M$2>=List!$Z29,IF(M$2<=List!$AA29,"()",""),"")) | ... BF29: =CONCATENATE(IF(BF$2>=List!$G29,IF(BF$2<=List!$H29,List!$F29,""),""),IF(BF$2>=List!$L29,IF(BF$2<=List!$M29,List!$K29,""),""),IF(BF$2>=List!$Q29,IF(BF$2<=List!$R29,List!$P29,""),""),IF(BF$2>=List!$V29,IF(BF$2<=List!$W29,List!$U29,""),""),IF(BF$2>=List!$Z29,IF(BF$2<=List!$AA29,"()",""),""))
A30: =List!B30 -> 7D | B30: =List!C30 -> 100 | C30: =List!D30 -> Commercial | D30: =IF(List!I30<>"",IF(List!D30=List!I30,IF(List!N30<>"",IF(List!N30=List!I30,IF(List!S30<>"",IF(List!S30=List!N30,"",CONCATENATE(List!S30," :4")),""),CONCATENATE(List!N30," :3")),""),CONCATENATE(List!I30," :2")),"") | E30: =IF(D30="","",IF(RIGHT(D30,1)="4","",IF(RIGHT(D30,1)="3",IF(List!S30="","",IF(List!S30=List!N30,"",CONCATENATE(List!S30," :4"))),IF(List!N30="","",IF(List!N30<>List!I30,CONCATENATE(List!N30," :3"),IF(List!S30="","",IF(List!S30=List!N30,"",CONCATENATE(List!S30," :4")))))))) | F30: =CONCATENATE(IF(F$2>=List!$G30,IF(F$2<=List!$H30,List!$F30,""),""),IF(F$2>=List!$L30,IF(F$2<=List!$M30,List!$K30,""),""),IF(F$2>=List!$Q30,IF(F$2<=List!$R30,List!$P30,""),""),IF(F$2>=List!$V30,IF(F$2<=List!$W30,List!$U30,""),""),IF(F$2>=List!$Z30,IF(F$2<=List!$AA30,"()",""),"")) | G30: =CONCATENATE(IF(G$2>=List!$G30,IF(G$2<=List!$H30,List!$F30,""),""),IF(G$2>=List!$L30,IF(G$2<=List!$M30,List!$K30,""),""),IF(G$2>=List!$Q30,IF(G$2<=List!$R30,List!$P30,""),""),IF(G$2>=List!$V30,IF(G$2<=List!$W30,List!$U30,""),""),IF(G$2>=List!$Z30,IF(G$2<=List!$AA30,"()",""),"")) | H30: =CONCATENATE(IF(H$2>=List!$G30,IF(H$2<=List!$H30,List!$F30,""),""),IF(H$2>=List!$L30,IF(H$2<=List!$M30,List!$K30,""),""),IF(H$2>=List!$Q30,IF(H$2<=List!$R30,List!$P30,""),""),IF(H$2>=List!$V30,IF(H$2<=List!$W30,List!$U30,""),""),IF(H$2>=List!$Z30,IF(H$2<=List!$AA30,"()",""),"")) | I30: =CONCATENATE(IF(I$2>=List!$G30,IF(I$2<=List!$H30,List!$F30,""),""),IF(I$2>=List!$L30,IF(I$2<=List!$M30,List!$K30,""),""),IF(I$2>=List!$Q30,IF(I$2<=List!$R30,List!$P30,""),""),IF(I$2>=List!$V30,IF(I$2<=List!$W30,List!$U30,""),""),IF(I$2>=List!$Z30,IF(I$2<=List!$AA30,"()",""),"")) | J30: =CONCATENATE(IF(J$2>=List!$G30,IF(J$2<=List!$H30,List!$F30,""),""),IF(J$2>=List!$L30,IF(J$2<=List!$M30,List!$K30,""),""),IF(J$2>=List!$Q30,IF(J$2<=List!$R30,List!$P30,""),""),IF(J$2>=List!$V30,IF(J$2<=List!$W30,List!$U30,""),""),IF(J$2>=List!$Z30,IF(J$2<=List!$AA30,"()",""),"")) | K30: =CONCATENATE(IF(K$2>=List!$G30,IF(K$2<=List!$H30,List!$F30,""),""),IF(K$2>=List!$L30,IF(K$2<=List!$M30,List!$K30,""),""),IF(K$2>=List!$Q30,IF(K$2<=List!$R30,List!$P30,""),""),IF(K$2>=List!$V30,IF(K$2<=List!$W30,List!$U30,""),""),IF(K$2>=List!$Z30,IF(K$2<=List!$AA30,"()",""),"")) | L30: =CONCATENATE(IF(L$2>=List!$G30,IF(L$2<=List!$H30,List!$F30,""),""),IF(L$2>=List!$L30,IF(L$2<=List!$M30,List!$K30,""),""),IF(L$2>=List!$Q30,IF(L$2<=List!$R30,List!$P30,""),""),IF(L$2>=List!$V30,IF(L$2<=List!$W30,List!$U30,""),""),IF(L$2>=List!$Z30,IF(L$2<=List!$AA30,"()",""),"")) | M30: =CONCATENATE(IF(M$2>=List!$G30,IF(M$2<=List!$H30,List!$F30,""),""),IF(M$2>=List!$L30,IF(M$2<=List!$M30,List!$K30,""),""),IF(M$2>=List!$Q30,IF(M$2<=List!$R30,List!$P30,""),""),IF(M$2>=List!$V30,IF(M$2<=List!$W30,List!$U30,""),""),IF(M$2>=List!$Z30,IF(M$2<=List!$AA30,"()",""),"")) | ... BF30: =CONCATENATE(IF(BF$2>=List!$G30,IF(BF$2<=List!$H30,List!$F30,""),""),IF(BF$2>=List!$L30,IF(BF$2<=List!$M30,List!$K30,""),""),IF(BF$2>=List!$Q30,IF(BF$2<=List!$R30,List!$P30,""),""),IF(BF$2>=List!$V30,IF(BF$2<=List!$W30,List!$U30,""),""),IF(BF$2>=List!$Z30,IF(BF$2<=List!$AA30,"()",""),""))
A31: =List!B31 -> 7/52 | B31: =List!C31 -> 25 | C31: =List!D31 -> Commercial | D31: =IF(List!I31<>"",IF(List!D31=List!I31,IF(List!N31<>"",IF(List!N31=List!I31,IF(List!S31<>"",IF(List!S31=List!N31,"",CONCATENATE(List!S31," :4")),""),CONCATENATE(List!N31," :3")),""),CONCATENATE(List!I31," :2")),"") | E31: =IF(D31="","",IF(RIGHT(D31,1)="4","",IF(RIGHT(D31,1)="3",IF(List!S31="","",IF(List!S31=List!N31,"",CONCATENATE(List!S31," :4"))),IF(List!N31="","",IF(List!N31<>List!I31,CONCATENATE(List!N31," :3"),IF(List!S31="","",IF(List!S31=List!N31,"",CONCATENATE(List!S31," :4")))))))) | F31: =CONCATENATE(IF(F$2>=List!$G31,IF(F$2<=List!$H31,List!$F31,""),""),IF(F$2>=List!$L31,IF(F$2<=List!$M31,List!$K31,""),""),IF(F$2>=List!$Q31,IF(F$2<=List!$R31,List!$P31,""),""),IF(F$2>=List!$V31,IF(F$2<=List!$W31,List!$U31,""),""),IF(F$2>=List!$Z31,IF(F$2<=List!$AA31,"()",""),"")) | G31: =CONCATENATE(IF(G$2>=List!$G31,IF(G$2<=List!$H31,List!$F31,""),""),IF(G$2>=List!$L31,IF(G$2<=List!$M31,List!$K31,""),""),IF(G$2>=List!$Q31,IF(G$2<=List!$R31,List!$P31,""),""),IF(G$2>=List!$V31,IF(G$2<=List!$W31,List!$U31,""),""),IF(G$2>=List!$Z31,IF(G$2<=List!$AA31,"()",""),"")) | H31: =CONCATENATE(IF(H$2>=List!$G31,IF(H$2<=List!$H31,List!$F31,""),""),IF(H$2>=List!$L31,IF(H$2<=List!$M31,List!$K31,""),""),IF(H$2>=List!$Q31,IF(H$2<=List!$R31,List!$P31,""),""),IF(H$2>=List!$V31,IF(H$2<=List!$W31,List!$U31,""),""),IF(H$2>=List!$Z31,IF(H$2<=List!$AA31,"()",""),"")) | I31: =CONCATENATE(IF(I$2>=List!$G31,IF(I$2<=List!$H31,List!$F31,""),""),IF(I$2>=List!$L31,IF(I$2<=List!$M31,List!$K31,""),""),IF(I$2>=List!$Q31,IF(I$2<=List!$R31,List!$P31,""),""),IF(I$2>=List!$V31,IF(I$2<=List!$W31,List!$U31,""),""),IF(I$2>=List!$Z31,IF(I$2<=List!$AA31,"()",""),"")) | J31: =CONCATENATE(IF(J$2>=List!$G31,IF(J$2<=List!$H31,List!$F31,""),""),IF(J$2>=List!$L31,IF(J$2<=List!$M31,List!$K31,""),""),IF(J$2>=List!$Q31,IF(J$2<=List!$R31,List!$P31,""),""),IF(J$2>=List!$V31,IF(J$2<=List!$W31,List!$U31,""),""),IF(J$2>=List!$Z31,IF(J$2<=List!$AA31,"()",""),"")) | K31: =CONCATENATE(IF(K$2>=List!$G31,IF(K$2<=List!$H31,List!$F31,""),""),IF(K$2>=List!$L31,IF(K$2<=List!$M31,List!$K31,""),""),IF(K$2>=List!$Q31,IF(K$2<=List!$R31,List!$P31,""),""),IF(K$2>=List!$V31,IF(K$2<=List!$W31,List!$U31,""),""),IF(K$2>=List!$Z31,IF(K$2<=List!$AA31,"()",""),"")) | L31: =CONCATENATE(IF(L$2>=List!$G31,IF(L$2<=List!$H31,List!$F31,""),""),IF(L$2>=List!$L31,IF(L$2<=List!$M31,List!$K31,""),""),IF(L$2>=List!$Q31,IF(L$2<=List!$R31,List!$P31,""),""),IF(L$2>=List!$V31,IF(L$2<=List!$W31,List!$U31,""),""),IF(L$2>=List!$Z31,IF(L$2<=List!$AA31,"()",""),"")) | M31: =CONCATENATE(IF(M$2>=List!$G31,IF(M$2<=List!$H31,List!$F31,""),""),IF(M$2>=List!$L31,IF(M$2<=List!$M31,List!$K31,""),""),IF(M$2>=List!$Q31,IF(M$2<=List!$R31,List!$P31,""),""),IF(M$2>=List!$V31,IF(M$2<=List!$W31,List!$U31,""),""),IF(M$2>=List!$Z31,IF(M$2<=List!$AA31,"()",""),"")) | ... BF31: =CONCATENATE(IF(BF$2>=List!$G31,IF(BF$2<=List!$H31,List!$F31,""),""),IF(BF$2>=List!$L31,IF(BF$2<=List!$M31,List!$K31,""),""),IF(BF$2>=List!$Q31,IF(BF$2<=List!$R31,List!$P31,""),""),IF(BF$2>=List!$V31,IF(BF$2<=List!$W31,List!$U31,""),""),IF(BF$2>=List!$Z31,IF(BF$2<=List!$AA31,"()",""),"")) -> A
A32: =List!B32 -> 8 | B32: =List!C32 -> 25 | C32: =List!D32 -> Mannheim | D32: =IF(List!I32<>"",IF(List!D32=List!I32,IF(List!N32<>"",IF(List!N32=List!I32,IF(List!S32<>"",IF(List!S32=List!N32,"",CONCATENATE(List!S32," :4")),""),CONCATENATE(List!N32," :3")),""),CONCATENATE(List!I32," :2")),"") -> Rietz :2 | E32: =IF(D32="","",IF(RIGHT(D32,1)="4","",IF(RIGHT(D32,1)="3",IF(List!S32="","",IF(List!S32=List!N32,"",CONCATENATE(List!S32," :4"))),IF(List!N32="","",IF(List!N32<>List!I32,CONCATENATE(List!N32," :3"),IF(List!S32="","",IF(List!S32=List!N32,"",CONCATENATE(List!S32," :4")))))))) | F32: =CONCATENATE(IF(F$2>=List!$G32,IF(F$2<=List!$H32,List!$F32,""),""),IF(F$2>=List!$L32,IF(F$2<=List!$M32,List!$K32,""),""),IF(F$2>=List!$Q32,IF(F$2<=List!$R32,List!$P32,""),""),IF(F$2>=List!$V32,IF(F$2<=List!$W32,List!$U32,""),""),IF(F$2>=List!$Z32,IF(F$2<=List!$AA32,"()",""),"")) -> E | G32: =CONCATENATE(IF(G$2>=List!$G32,IF(G$2<=List!$H32,List!$F32,""),""),IF(G$2>=List!$L32,IF(G$2<=List!$M32,List!$K32,""),""),IF(G$2>=List!$Q32,IF(G$2<=List!$R32,List!$P32,""),""),IF(G$2>=List!$V32,IF(G$2<=List!$W32,List!$U32,""),""),IF(G$2>=List!$Z32,IF(G$2<=List!$AA32,"()",""),"")) -> E | H32: =CONCATENATE(IF(H$2>=List!$G32,IF(H$2<=List!$H32,List!$F32,""),""),IF(H$2>=List!$L32,IF(H$2<=List!$M32,List!$K32,""),""),IF(H$2>=List!$Q32,IF(H$2<=List!$R32,List!$P32,""),""),IF(H$2>=List!$V32,IF(H$2<=List!$W32,List!$U32,""),""),IF(H$2>=List!$Z32,IF(H$2<=List!$AA32,"()",""),"")) -> E | I32: =CONCATENATE(IF(I$2>=List!$G32,IF(I$2<=List!$H32,List!$F32,""),""),IF(I$2>=List!$L32,IF(I$2<=List!$M32,List!$K32,""),""),IF(I$2>=List!$Q32,IF(I$2<=List!$R32,List!$P32,""),""),IF(I$2>=List!$V32,IF(I$2<=List!$W32,List!$U32,""),""),IF(I$2>=List!$Z32,IF(I$2<=List!$AA32,"()",""),"")) -> E | J32: =CONCATENATE(IF(J$2>=List!$G32,IF(J$2<=List!$H32,List!$F32,""),""),IF(J$2>=List!$L32,IF(J$2<=List!$M32,List!$K32,""),""),IF(J$2>=List!$Q32,IF(J$2<=List!$R32,List!$P32,""),""),IF(J$2>=List!$V32,IF(J$2<=List!$W32,List!$U32,""),""),IF(J$2>=List!$Z32,IF(J$2<=List!$AA32,"()",""),"")) -> E | K32: =CONCATENATE(IF(K$2>=List!$G32,IF(K$2<=List!$H32,List!$F32,""),""),IF(K$2>=List!$L32,IF(K$2<=List!$M32,List!$K32,""),""),IF(K$2>=List!$Q32,IF(K$2<=List!$R32,List!$P32,""),""),IF(K$2>=List!$V32,IF(K$2<=List!$W32,List!$U32,""),""),IF(K$2>=List!$Z32,IF(K$2<=List!$AA32,"()",""),"")) -> E | L32: =CONCATENATE(IF(L$2>=List!$G32,IF(L$2<=List!$H32,List!$F32,""),""),IF(L$2>=List!$L32,IF(L$2<=List!$M32,List!$K32,""),""),IF(L$2>=List!$Q32,IF(L$2<=List!$R32,List!$P32,""),""),IF(L$2>=List!$V32,IF(L$2<=List!$W32,List!$U32,""),""),IF(L$2>=List!$Z32,IF(L$2<=List!$AA32,"()",""),"")) -> E | M32: =CONCATENATE(IF(M$2>=List!$G32,IF(M$2<=List!$H32,List!$F32,""),""),IF(M$2>=List!$L32,IF(M$2<=List!$M32,List!$K32,""),""),IF(M$2>=List!$Q32,IF(M$2<=List!$R32,List!$P32,""),""),IF(M$2>=List!$V32,IF(M$2<=List!$W32,List!$U32,""),""),IF(M$2>=List!$Z32,IF(M$2<=List!$AA32,"()",""),"")) -> E | ... BF32: =CONCATENATE(IF(BF$2>=List!$G32,IF(BF$2<=List!$H32,List!$F32,""),""),IF(BF$2>=List!$L32,IF(BF$2<=List!$M32,List!$K32,""),""),IF(BF$2>=List!$Q32,IF(BF$2<=List!$R32,List!$P32,""),""),IF(BF$2>=List!$V32,IF(BF$2<=List!$W32,List!$U32,""),""),IF(BF$2>=List!$Z32,IF(BF$2<=List!$AA32,"()",""),""))
... A217: =List!B217 -> 58 | B217: =List!C217 -> - | C217: =List!D217 -> AC calculation table | D217: =IF(List!I217<>"",IF(List!D217=List!I217,IF(List!N217<>"",IF(List!N217=List!I217,IF(List!S217<>"",IF(List!S217=List!N217,"",CONCATENATE(List!S217," :4")),""),CONCATENATE(List!N217," :3")),""),CONCATENATE(List!I217," :2")),"") | E217: =IF(D217="","",IF(RIGHT(D217,1)="4","",IF(RIGHT(D217,1)="3",IF(List!S217="","",IF(List!S217=List!N217,"",CONCATENATE(List!S217," :4"))),IF(List!N217="","",IF(List!N217<>List!I217,CONCATENATE(List!N217," :3"),IF(List!S217="","",IF(List!S217=List!N217,"",CONCATENATE(List!S217," :4")))))))) | F217: =CONCATENATE(IF(F$2>=List!$G217,IF(F$2<=List!$H217,List!$F217,""),""),IF(F$2>=List!$L217,IF(F$2<=List!$M217,List!$K217,""),""),IF(F$2>=List!$Q217,IF(F$2<=List!$R217,List!$P217,""),""),IF(F$2>=List!$V217,IF(F$2<=List!$W217,List!$U217,""),""),IF(F$2>=List!$Z217,IF(F$2<=List!$AA217,"()",""),"")) | G217: =CONCATENATE(IF(G$2>=List!$G217,IF(G$2<=List!$H217,List!$F217,""),""),IF(G$2>=List!$L217,IF(G$2<=List!$M217,List!$K217,""),""),IF(G$2>=List!$Q217,IF(G$2<=List!$R217,List!$P217,""),""),IF(G$2>=List!$V217,IF(G$2<=List!$W217,List!$U217,""),""),IF(G$2>=List!$Z217,IF(G$2<=List!$AA217,"()",""),"")) | H217: =CONCATENATE(IF(H$2>=List!$G217,IF(H$2<=List!$H217,List!$F217,""),""),IF(H$2>=List!$L217,IF(H$2<=List!$M217,List!$K217,""),""),IF(H$2>=List!$Q217,IF(H$2<=List!$R217,List!$P217,""),""),IF(H$2>=List!$V217,IF(H$2<=List!$W217,List!$U217,""),""),IF(H$2>=List!$Z217,IF(H$2<=List!$AA217,"()",""),"")) | I217: =CONCATENATE(IF(I$2>=List!$G217,IF(I$2<=List!$H217,List!$F217,""),""),IF(I$2>=List!$L217,IF(I$2<=List!$M217,List!$K217,""),""),IF(I$2>=List!$Q217,IF(I$2<=List!$R217,List!$P217,""),""),IF(I$2>=List!$V217,IF(I$2<=List!$W217,List!$U217,""),""),IF(I$2>=List!$Z217,IF(I$2<=List!$AA217,"()",""),"")) | J217: =CONCATENATE(IF(J$2>=List!$G217,IF(J$2<=List!$H217,List!$F217,""),""),IF(J$2>=List!$L217,IF(J$2<=List!$M217,List!$K217,""),""),IF(J$2>=List!$Q217,IF(J$2<=List!$R217,List!$P217,""),""),IF(J$2>=List!$V217,IF(J$2<=List!$W217,List!$U217,""),""),IF(J$2>=List!$Z217,IF(J$2<=List!$AA217,"()",""),"")) | K217: =CONCATENATE(IF(K$2>=List!$G217,IF(K$2<=List!$H217,List!$F217,""),""),IF(K$2>=List!$L217,IF(K$2<=List!$M217,List!$K217,""),""),IF(K$2>=List!$Q217,IF(K$2<=List!$R217,List!$P217,""),""),IF(K$2>=List!$V217,IF(K$2<=List!$W217,List!$U217,""),""),IF(K$2>=List!$Z217,IF(K$2<=List!$AA217,"()",""),"")) | L217: =CONCATENATE(IF(L$2>=List!$G217,IF(L$2<=List!$H217,List!$F217,""),""),IF(L$2>=List!$L217,IF(L$2<=List!$M217,List!$K217,""),""),IF(L$2>=List!$Q217,IF(L$2<=List!$R217,List!$P217,""),""),IF(L$2>=List!$V217,IF(L$2<=List!$W217,List!$U217,""),""),IF(L$2>=List!$Z217,IF(L$2<=List!$AA217,"()",""),"")) | M217: =CONCATENATE(IF(M$2>=List!$G217,IF(M$2<=List!$H217,List!$F217,""),""),IF(M$2>=List!$L217,IF(M$2<=List!$M217,List!$K217,""),""),IF(M$2>=List!$Q217,IF(M$2<=List!$R217,List!$P217,""),""),IF(M$2>=List!$V217,IF(M$2<=List!$W217,List!$U217,""),""),IF(M$2>=List!$Z217,IF(M$2<=List!$AA217,"()",""),"")) | ... BF217: =CONCATENATE(IF(BF$2>=List!$G217,IF(BF$2<=List!$H217,List!$F217,""),""),IF(BF$2>=List!$L217,IF(BF$2<=List!$M217,List!$K217,""),""),IF(BF$2>=List!$Q217,IF(BF$2<=List!$R217,List!$P217,""),""),IF(BF$2>=List!$V217,IF(BF$2<=List!$W217,List!$U217,""),""),IF(BF$2>=List!$Z217,IF(BF$2<=List!$AA217,"()",""),""))
D218: Every change of type occurs at (parallels) one change of material in the chart. The number at the end of "Type 2" and "Type 3" names indicates the material change it parallels.
