Workbook

Sheet Cover

Sheet List
B1: ALBERT NESTLER SLIDE RULES | G1: (Andreas Faßbender)
B2: Model Numbers used from 1905 to 1957
C3: (cm)
A4: # | B4: Model | C4: Length | D4: Type | E4: Material | G4: Begin | H4: End | I4: Type | J4: Material | L4: Begin | M4: End | N4: Type | O4: Material | Q4: Begin | R4: End | S4: Type | T4: Material | V4: Begin | W4: End
A5: 1 | B5: 1 | C5: 12.5 | D5: Mannheim | E5: Boxwood | F5: =VLOOKUP(E5,$E$220:$G$235,2) -> B | G5: 1911 | H5: 1927 | K5: =IFERROR(VLOOKUP(J5,$E$220:$G$235,2),"") | P5: =IFERROR(VLOOKUP(O5,$E$220:$G$235,2),"") | U5: =IFERROR(VLOOKUP(T5,$E$220:$G$235,2),"")
A6: 2 | B6: 1 | C6: 25 | D6: Mannheim | E6: Boxwood | F6: =VLOOKUP(E6,$E$220:$G$235,2) -> B | G6: 1905 | H6: 1910 | I6: Mannheim | J6: Rowan | K6: =IFERROR(VLOOKUP(J6,$E$220:$G$235,2),"") -> R | L6: 1928 | M6: 1933 | N6: Mannheim | O6: Mahogany | P6: =IFERROR(VLOOKUP(O6,$E$220:$G$235,2),"") -> M | Q6: 1934 | R6: 1949 | U6: =IFERROR(VLOOKUP(T6,$E$220:$G$235,2),"")
A7: 3 | B7: 1a | C7: 25 | D7: Mannheim | E7: Boxwood | F7: =VLOOKUP(E7,$E$220:$G$235,2) -> B | G7: 1911 | H7: 1927 | K7: =IFERROR(VLOOKUP(J7,$E$220:$G$235,2),"") | P7: =IFERROR(VLOOKUP(O7,$E$220:$G$235,2),"") | U7: =IFERROR(VLOOKUP(T7,$E$220:$G$235,2),"")
A8: 4 | B8: 1c | C8: 25 | D8: Mannheim | E8: Rowan | F8: =VLOOKUP(E8,$E$220:$G$235,2) -> R | G8: 1924 | H8: 1930 | K8: =IFERROR(VLOOKUP(J8,$E$220:$G$235,2),"") | P8: =IFERROR(VLOOKUP(O8,$E$220:$G$235,2),"") | U8: =IFERROR(VLOOKUP(T8,$E$220:$G$235,2),"")
A9: 5 | B9: 1Z | C9: 12.5 | D9: Mannheim | E9: Boxwood | F9: =VLOOKUP(E9,$E$220:$G$235,2) -> B | G9: 1914 | H9: 1921 | K9: =IFERROR(VLOOKUP(J9,$E$220:$G$235,2),"") | P9: =IFERROR(VLOOKUP(O9,$E$220:$G$235,2),"") | U9: =IFERROR(VLOOKUP(T9,$E$220:$G$235,2),"")
A10: 6 | B10: 2 | C10: 12.5 | D10: Mannheim | E10: Boxwood | F10: =VLOOKUP(E10,$E$220:$G$235,2) -> B | G10: 1922 | H10: 1927 | K10: =IFERROR(VLOOKUP(J10,$E$220:$G$235,2),"") | P10: =IFERROR(VLOOKUP(O10,$E$220:$G$235,2),"") | U10: =IFERROR(VLOOKUP(T10,$E$220:$G$235,2),"")
A11: 7 | B11: 2 | C11: 20 | D11: Soho | E11: Boxwood | F11: =VLOOKUP(E11,$E$220:$G$235,2) -> B | G11: 1905 | H11: 1921 | K11: =IFERROR(VLOOKUP(J11,$E$220:$G$235,2),"") | P11: =IFERROR(VLOOKUP(O11,$E$220:$G$235,2),"") | U11: =IFERROR(VLOOKUP(T11,$E$220:$G$235,2),"")
A12: 8 | B12: 2 | C12: 25 | D12: Mannheim | E12: Mahogany | F12: =VLOOKUP(E12,$E$220:$G$235,2) -> M | G12: 1934 | H12: 1949 | K12: =IFERROR(VLOOKUP(J12,$E$220:$G$235,2),"") | P12: =IFERROR(VLOOKUP(O12,$E$220:$G$235,2),"") | U12: =IFERROR(VLOOKUP(T12,$E$220:$G$235,2),"")
A13: 9 | B13: 2a | C13: 25 | D13: Mannheim | E13: Boxwood | F13: =VLOOKUP(E13,$E$220:$G$235,2) -> B | G13: 1922 | H13: 1927 | K13: =IFERROR(VLOOKUP(J13,$E$220:$G$235,2),"") | P13: =IFERROR(VLOOKUP(O13,$E$220:$G$235,2),"") | U13: =IFERROR(VLOOKUP(T13,$E$220:$G$235,2),"")
A14: 10 | B14: 2c | C14: 25 | D14: Mannheim | E14: Rowan | F14: =VLOOKUP(E14,$E$220:$G$235,2) -> R | G14: 1924 | H14: 1927 | K14: =IFERROR(VLOOKUP(J14,$E$220:$G$235,2),"") | P14: =IFERROR(VLOOKUP(O14,$E$220:$G$235,2),"") | U14: =IFERROR(VLOOKUP(T14,$E$220:$G$235,2),"")
A15: 11 | B15: 3 | C15: 25 | D15: Soho | E15: Boxwood | F15: =VLOOKUP(E15,$E$220:$G$235,2) -> B | G15: 1905 | H15: 1921 | I15: Mannheim | J15: Rowan | K15: =IFERROR(VLOOKUP(J15,$E$220:$G$235,2),"") -> R | L15: 1928 | M15: 1933 | N15: Mannheim | O15: Mahogany | P15: =IFERROR(VLOOKUP(O15,$E$220:$G$235,2),"") -> M | Q15: 1934 | R15: 1949 | U15: =IFERROR(VLOOKUP(T15,$E$220:$G$235,2),"")
A16: 12 | B16: 4 | C16: 20 | D16: Mannheim | E16: Boxwood | F16: =VLOOKUP(E16,$E$220:$G$235,2) -> B | G16: 1905 | H16: 1921 | K16: =IFERROR(VLOOKUP(J16,$E$220:$G$235,2),"") | P16: =IFERROR(VLOOKUP(O16,$E$220:$G$235,2),"") | U16: =IFERROR(VLOOKUP(T16,$E$220:$G$235,2),"")
A17: 13 | B17: 4 | C17: 25 | D17: Mannheim | E17: Boxwood | F17: =VLOOKUP(E17,$E$220:$G$235,2) -> B | G17: 1914 | H17: 1921 | I17: Mannheim | J17: Boxwood | K17: =IFERROR(VLOOKUP(J17,$E$220:$G$235,2),"") -> B | L17: 1928 | M17: 1933 | N17: Mannheim | O17: Mahogany | P17: =IFERROR(VLOOKUP(O17,$E$220:$G$235,2),"") -> M | Q17: 1934 | R17: 1949 | U17: =IFERROR(VLOOKUP(T17,$E$220:$G$235,2),"")
A18: 14 | B18: 5 | C18: 12.5 | D18: Mannheim | E18: Boxwood | F18: =VLOOKUP(E18,$E$220:$G$235,2) -> B | G18: 1928 | H18: 1930 | I18: Mannheim | J18: Maple | K18: =IFERROR(VLOOKUP(J18,$E$220:$G$235,2),"") -> L | L18: 1931 | M18: 1940 | P18: =IFERROR(VLOOKUP(O18,$E$220:$G$235,2),"") | U18: =IFERROR(VLOOKUP(T18,$E$220:$G$235,2),"")
A19: 15 | B19: 5 | C19: 25 | D19: Mannheim | E19: Boxwood | F19: =VLOOKUP(E19,$E$220:$G$235,2) -> B | G19: 1905 | H19: 1927 | I19: Mannheim | J19: Boxwood | K19: =IFERROR(VLOOKUP(J19,$E$220:$G$235,2),"") -> B | L19: 1928 | M19: 1930 | N19: Mannheim | O19: Maple | P19: =IFERROR(VLOOKUP(O19,$E$220:$G$235,2),"") -> L | Q19: 1931 | R19: 1949 | U19: =IFERROR(VLOOKUP(T19,$E$220:$G$235,2),"")
A20: 16 | B20: 5 | C20: 36 | D20: Mannheim | E20: Boxwood | F20: =VLOOKUP(E20,$E$220:$G$235,2) -> B | G20: 1914 | H20: 1921 | K20: =IFERROR(VLOOKUP(J20,$E$220:$G$235,2),"") | P20: =IFERROR(VLOOKUP(O20,$E$220:$G$235,2),"") | U20: =IFERROR(VLOOKUP(T20,$E$220:$G$235,2),"")
A21: 17 | B21: 5 | C21: 50 | D21: Mannheim | E21: Boxwood | F21: =VLOOKUP(E21,$E$220:$G$235,2) -> B | G21: 1914 | H21: 1921 | K21: =IFERROR(VLOOKUP(J21,$E$220:$G$235,2),"") | P21: =IFERROR(VLOOKUP(O21,$E$220:$G$235,2),"") | U21: =IFERROR(VLOOKUP(T21,$E$220:$G$235,2),"")
A22: 18 | B22: 5D | C22: 100 | D22: Mannheim | E22: Poplar | F22: =VLOOKUP(E22,$E$220:$G$235,2) -> P | G22: 1934 | H22: 1949 | K22: =IFERROR(VLOOKUP(J22,$E$220:$G$235,2),"") | P22: =IFERROR(VLOOKUP(O22,$E$220:$G$235,2),"") | U22: =IFERROR(VLOOKUP(T22,$E$220:$G$235,2),"")
A23: 19 | B23: 6 | C23: 10 | D23: Mannheim | E23: Immitation ivory | F23: =VLOOKUP(E23,$E$220:$G$235,2) -> I | G23: 1928 | H23: 1933 | K23: =IFERROR(VLOOKUP(J23,$E$220:$G$235,2),"") | P23: =IFERROR(VLOOKUP(O23,$E$220:$G$235,2),"") | U23: =IFERROR(VLOOKUP(T23,$E$220:$G$235,2),"")
A24: 20 | B24: 6 | C24: 12.5 | D24: Mannheim | E24: Ivory | F24: =VLOOKUP(E24,$E$220:$G$235,2) -> E | G24: 1911 | H24: 1927 | I24: Mannheim | J24: Immitation ivory | K24: =IFERROR(VLOOKUP(J24,$E$220:$G$235,2),"") -> I | L24: 1928 | M24: 1933 | P24: =IFERROR(VLOOKUP(O24,$E$220:$G$235,2),"") | U24: =IFERROR(VLOOKUP(T24,$E$220:$G$235,2),"")
A25: 21 | B25: 6 | C25: 25 | D25: Mannheim | E25: Boxwood | F25: =VLOOKUP(E25,$E$220:$G$235,2) -> B | G25: 1905 | H25: 1910 | K25: =IFERROR(VLOOKUP(J25,$E$220:$G$235,2),"") | P25: =IFERROR(VLOOKUP(O25,$E$220:$G$235,2),"") | U25: =IFERROR(VLOOKUP(T25,$E$220:$G$235,2),"")
A26: 22 | B26: 6a | C26: 12.5 | D26: Mannheim | E26: Ivory | F26: =VLOOKUP(E26,$E$220:$G$235,2) -> E | G26: 1905 | H26: 1910 | I26: Mannheim | J26: Immitation ivory | K26: =IFERROR(VLOOKUP(J26,$E$220:$G$235,2),"") -> I | L26: 1928 | M26: 1933 | P26: =IFERROR(VLOOKUP(O26,$E$220:$G$235,2),"") | U26: =IFERROR(VLOOKUP(T26,$E$220:$G$235,2),"")
A27: 23 | B27: 7 | C27: 20 | D27: Mannheim | E27: Ivory | F27: =VLOOKUP(E27,$E$220:$G$235,2) -> E | G27: 1905 | H27: 1921 | K27: =IFERROR(VLOOKUP(J27,$E$220:$G$235,2),"") | P27: =IFERROR(VLOOKUP(O27,$E$220:$G$235,2),"") | U27: =IFERROR(VLOOKUP(T27,$E$220:$G$235,2),"")
A28: 24 | B28: 7 | C28: 25 | D28: Commercial | E28: Boxwood | F28: =VLOOKUP(E28,$E$220:$G$235,2) -> B | G28: 1928 | H28: 1930 | I28: Commercial | J28: Maple | K28: =IFERROR(VLOOKUP(J28,$E$220:$G$235,2),"") -> L | L28: 1931 | M28: 1949 | P28: =IFERROR(VLOOKUP(O28,$E$220:$G$235,2),"") | U28: =IFERROR(VLOOKUP(T28,$E$220:$G$235,2),"")
A29: 25 | B29: 7a | C29: 25 | D29: Commercial | E29: Mahogany | F29: =VLOOKUP(E29,$E$220:$G$235,2) -> M | G29: 1938 | H29: 1949 | K29: =IFERROR(VLOOKUP(J29,$E$220:$G$235,2),"") | P29: =IFERROR(VLOOKUP(O29,$E$220:$G$235,2),"") | U29: =IFERROR(VLOOKUP(T29,$E$220:$G$235,2),"")
A30: 26 | B30: 7D | C30: 100 | D30: Commercial | E30: Poplar | F30: =VLOOKUP(E30,$E$220:$G$235,2) -> P | G30: 1934 | H30: 1940 | K30: =IFERROR(VLOOKUP(J30,$E$220:$G$235,2),"") | P30: =IFERROR(VLOOKUP(O30,$E$220:$G$235,2),"") | U30: =IFERROR(VLOOKUP(T30,$E$220:$G$235,2),"")
A31: 27 | B31: 7/52 | C31: 25 | D31: Commercial | E31: Anagit | F31: =VLOOKUP(E31,$E$220:$G$235,2) -> A | G31: 1952 | H31: 1957 | K31: =IFERROR(VLOOKUP(J31,$E$220:$G$235,2),"") | P31: =IFERROR(VLOOKUP(O31,$E$220:$G$235,2),"") | U31: =IFERROR(VLOOKUP(T31,$E$220:$G$235,2),"")
A32: 28 | B32: 8 | C32: 25 | D32: Mannheim | E32: Ivory | F32: =VLOOKUP(E32,$E$220:$G$235,2) -> E | G32: 1905 | H32: 1921 | I32: Rietz | J32: Boxwood | K32: =IFERROR(VLOOKUP(J32,$E$220:$G$235,2),"") -> B | L32: 1928 | M32: 1930 | N32: Rietz | O32: Maple | P32: =IFERROR(VLOOKUP(O32,$E$220:$G$235,2),"") -> L | Q32: 1931 | R32: 1949 | U32: =IFERROR(VLOOKUP(T32,$E$220:$G$235,2),"")
A33: 29 | B33: 8D | C33: 100 | D33: Rietz | E33: Poplar | F33: =VLOOKUP(E33,$E$220:$G$235,2) -> P | G33: 1934 | H33: 1949 | K33: =IFERROR(VLOOKUP(J33,$E$220:$G$235,2),"") | P33: =IFERROR(VLOOKUP(O33,$E$220:$G$235,2),"") | U33: =IFERROR(VLOOKUP(T33,$E$220:$G$235,2),"")
A34: 30 | B34: 9 | C34: 25 | D34: Mannheim | E34: German Silver | F34: =VLOOKUP(E34,$E$220:$G$235,2) -> G | G34: 1905 | H34: 1921 | I34: Rietz | J34: Mahogany | K34: =IFERROR(VLOOKUP(J34,$E$220:$G$235,2),"") -> M | L34: 1934 | M34: 1949 | N34: Rietz | O34: Wood | P34: =IFERROR(VLOOKUP(O34,$E$220:$G$235,2),"") -> W | Q34: 1951 | R34: 1955 | U34: =IFERROR(VLOOKUP(T34,$E$220:$G$235,2),"")
A35: 31 | B35: 9a | C35: 40 | D35: Spanish Tacheometer | E35: German Silver | F35: =VLOOKUP(E35,$E$220:$G$235,2) -> G | G35: 1911 | H35: 1921 | K35: =IFERROR(VLOOKUP(J35,$E$220:$G$235,2),"") | P35: =IFERROR(VLOOKUP(O35,$E$220:$G$235,2),"") | U35: =IFERROR(VLOOKUP(T35,$E$220:$G$235,2),"")
A36: 32 | B36: 9/53 | C36: 25 | D36: Rietz | E36: Anagit | F36: =VLOOKUP(E36,$E$220:$G$235,2) -> A | G36: 1956 | H36: 1957 | K36: =IFERROR(VLOOKUP(J36,$E$220:$G$235,2),"") | P36: =IFERROR(VLOOKUP(O36,$E$220:$G$235,2),"") | U36: =IFERROR(VLOOKUP(T36,$E$220:$G$235,2),"")
A37: 33 | B37: 10 | C37: 20 | D37: Mannheim | E37: Mahogany | F37: =VLOOKUP(E37,$E$220:$G$235,2) -> M | G37: 1905 | H37: 1910 | K37: =IFERROR(VLOOKUP(J37,$E$220:$G$235,2),"") | P37: =IFERROR(VLOOKUP(O37,$E$220:$G$235,2),"") | U37: =IFERROR(VLOOKUP(T37,$E$220:$G$235,2),"")
A38: 34 | B38: 10 | C38: 25 | D38: Mannheim | E38: Mahogany | F38: =VLOOKUP(E38,$E$220:$G$235,2) -> M | G38: 1911 | H38: 1913 | I38: Mannheim | J38: Mahogany/Walnut | K38: =IFERROR(VLOOKUP(J38,$E$220:$G$235,2),"") -> O | L38: 1914 | M38: 1927 | N38: Mannheim | O38: Mahogany | P38: =IFERROR(VLOOKUP(O38,$E$220:$G$235,2),"") -> M | Q38: 1928 | R38: 1949 | U38: =IFERROR(VLOOKUP(T38,$E$220:$G$235,2),"")
A39: 35 | B39: 10a | C39: 25 | D39: Mannheim | E39: Mahogany | F39: =VLOOKUP(E39,$E$220:$G$235,2) -> M | G39: 1911 | H39: 1913 | I39: Mannheim | J39: Mahogany/Walnut | K39: =IFERROR(VLOOKUP(J39,$E$220:$G$235,2),"") -> O | L39: 1914 | M39: 1921 | P39: =IFERROR(VLOOKUP(O39,$E$220:$G$235,2),"") | U39: =IFERROR(VLOOKUP(T39,$E$220:$G$235,2),"")
A40: 36 | B40: 11 | C40: 12.5 | D40: Mannheim | E40: Mahogany | F40: =VLOOKUP(E40,$E$220:$G$235,2) -> M | G40: 1911 | H40: 1913 | I40: Mannheim | J40: Mahogany/Walnut | K40: =IFERROR(VLOOKUP(J40,$E$220:$G$235,2),"") -> O | L40: 1914 | M40: 1927 | N40: Mannheim | O40: Mahogany | P40: =IFERROR(VLOOKUP(O40,$E$220:$G$235,2),"") -> M | Q40: 1928 | R40: 1940 | U40: =IFERROR(VLOOKUP(T40,$E$220:$G$235,2),"")
...

Sheet Map
A1: ALBERT NESTLER SLIDE RULES | S1: (Andreas Faßbender)
F2: 1905 | G2: 1906 | H2: 1907 | I2: 1908 | J2: 1909 | K2: 1910 | L2: 1911 | M2: 1912 | N2: 1913 | O2: 1914 | P2: 1915 | Q2: 1916 | R2: 1917 | S2: 1918 | T2: 1919 | U2: 1920 | V2: 1921 | W2: 1922 | X2: 1923 | Y2: 1924 | Z2: 1925 | AA2: 1926 | AB2: 1927 | AC2: 1928 | AD2: 1929 | AE2: 1930 | AF2: 1931 | AG2: 1932 | AH2: 1933 | AI2: 1934 | AJ2: 1935 | AK2: 1936 | AL2: 1937 | AM2: 1938 | AN2: 1939 | AO2: 1940 | AP2: 1941 | AQ2: 1942 | AR2: 1943 | AS2: 1944 | AT2: 1945 | AU2: 1946 | AV2: 1947 | AW2: 1948 | AX2: 1949 | AY2: 1950 | AZ2: 1951 | BA2: 1952 | BB2: 1953 | BC2: 1954 | BD2: 1955 | BE2: 1956 | BF2: 1957
B3: =List!C3 -> (cm) | F3: 1900 | K3: 1910 | U3: 1920 | AE3: 1930 | AO3: 1940 | AY3: 1950
A4: =List!B4 -> Model | B4: =List!C4 -> Length | C4: =List!D4 -> Type | D4: Type 2 | E4: Type 3 | F4: 5 | G4: 6 | H4: 7 | I4: 8 | J4: 9 | K4: 0 | L4: 1 | M4: 2 | N4: 3 | O4: 4 | P4: 5 | Q4: 6 | R4: 7 | S4: 8 | T4: 9 | U4: 0 | V4: 1 | W4: 2 | X4: 3 | Y4: 4 | Z4: 5 | AA4: 6 | AB4: 7 | AC4: 8 | AD4: 9 | AE4: 0 | AF4: 1 | AG4: 2 | AH4: 3 | AI4: 4 | AJ4: 5 | AK4: 6 | AL4: 7 | AM4: 8 | AN4: 9 | AO4: 0 | AP4: 1 | AQ4: 2 | AR4: 3 | AS4: 4 | AT4: 5 | AU4: 6 | AV4: 7 | AW4: 8 | AX4: 9 | AY4: 0 | AZ4: 1 | BA4: 2 | BB4: 3 | BC4: 4 | BD4: 5 | BE4: 6 | BF4: 7 | BH4: =List!D219 -> Español | BI4: =List!E219 -> English | BK4: =List!G219 -> Deutsch
A5: =List!B5 -> 1 | B5: =List!C5 -> 12.5 | C5: =List!D5 -> Mannheim | D5: =IF(List!I5<>"",IF(List!D5=List!I5,IF(List!N5<>"",IF(List!N5=List!I5,IF(List!S5<>"",IF(List!S5=List!N5,"",CONCATENATE(List!S5," :4")),""),CONCATENATE(List!N5," :3")),""),CONCATENATE(List!I5," :2")),"") | E5: =IF(D5="","",IF(RIGHT(D5,1)="4","",IF(RIGHT(D5,1)="3",IF(List!S5="","",IF(List!S5=List!N5,"",CONCATENATE(List!S5," :4"))),IF(List!N5="","",IF(List!N5<>List!I5,CONCATENATE(List!N5," :3"),IF(List!S5="","",IF(List!S5=List!N5,"",CONCATENATE(List!S5," :4")))))))) | F5: =CONCATENATE(IF(F$2>=List!$G5,IF(F$2<=List!$H5,List!$F5,""),""),IF(F$2>=List!$L5,IF(F$2<=List!$M5,List!$K5,""),""),IF(F$2>=List!$Q5,IF(F$2<=List!$R5,List!$P5,""),""),IF(F$2>=List!$V5,IF(F$2<=List!$W5,List!$U5,""),""),IF(F$2>=List!$Z5,IF(F$2<=List!$AA5,"()",""),"")) | G5: =CONCATENATE(IF(G$2>=List!$G5,IF(G$2<=List!$H5,List!$F5,""),""),IF(G$2>=List!$L5,IF(G$2<=List!$M5,List!$K5,""),""),IF(G$2>=List!$Q5,IF(G$2<=List!$R5,List!$P5,""),""),IF(G$2>=List!$V5,IF(G$2<=List!$W5,List!$U5,""),""),IF(G$2>=List!$Z5,IF(G$2<=List!$AA5,"()",""),"")) | H5: =CONCATENATE(IF(H$2>=List!$G5,IF(H$2<=List!$H5,List!$F5,""),""),IF(H$2>=List!$L5,IF(H$2<=List!$M5,List!$K5,""),""),IF(H$2>=List!$Q5,IF(H$2<=List!$R5,List!$P5,""),""),IF(H$2>=List!$V5,IF(H$2<=List!$W5,List!$U5,""),""),IF(H$2>=List!$Z5,IF(H$2<=List!$AA5,"()",""),"")) | I5: =CONCATENATE(IF(I$2>=List!$G5,IF(I$2<=List!$H5,List!$F5,""),""),IF(I$2>=List!$L5,IF(I$2<=List!$M5,List!$K5,""),""),IF(I$2>=List!$Q5,IF(I$2<=List!$R5,List!$P5,""),""),IF(I$2>=List!$V5,IF(I$2<=List!$W5,List!$U5,""),""),IF(I$2>=List!$Z5,IF(I$2<=List!$AA5,"()",""),"")) | J5: =CONCATENATE(IF(J$2>=List!$G5,IF(J$2<=List!$H5,List!$F5,""),""),IF(J$2>=List!$L5,IF(J$2<=List!$M5,List!$K5,""),""),IF(J$2>=List!$Q5,IF(J$2<=List!$R5,List!$P5,""),""),IF(J$2>=List!$V5,IF(J$2<=List!$W5,List!$U5,""),""),IF(J$2>=List!$Z5,IF(J$2<=List!$AA5,"()",""),"")) | K5: =CONCATENATE(IF(K$2>=List!$G5,IF(K$2<=List!$H5,List!$F5,""),""),IF(K$2>=List!$L5,IF(K$2<=List!$M5,List!$K5,""),""),IF(K$2>=List!$Q5,IF(K$2<=List!$R5,List!$P5,""),""),IF(K$2>=List!$V5,IF(K$2<=List!$W5,List!$U5,""),""),IF(K$2>=List!$Z5,IF(K$2<=List!$AA5,"()",""),"")) | L5: =CONCATENATE(IF(L$2>=List!$G5,IF(L$2<=List!$H5,List!$F5,""),""),IF(L$2>=List!$L5,IF(L$2<=List!$M5,List!$K5,""),""),IF(L$2>=List!$Q5,IF(L$2<=List!$R5,List!$P5,""),""),IF(L$2>=List!$V5,IF(L$2<=List!$W5,List!$U5,""),""),IF(L$2>=List!$Z5,IF(L$2<=List!$AA5,"()",""),"")) -> B | M5: =CONCATENATE(IF(M$2>=List!$G5,IF(M$2<=List!$H5,List!$F5,""),""),IF(M$2>=List!$L5,IF(M$2<=List!$M5,List!$K5,""),""),IF(M$2>=List!$Q5,IF(M$2<=List!$R5,List!$P5,""),""),IF(M$2>=List!$V5,IF(M$2<=List!$W5,List!$U5,""),""),IF(M$2>=List!$Z5,IF(M$2<=List!$AA5,"()",""),"")) -> B | ... BF5: =CONCATENATE(IF(BF$2>=List!$G5,IF(BF$2<=List!$H5,List!$F5,""),""),IF(BF$2>=List!$L5,IF(BF$2<=List!$M5,List!$K5,""),""),IF(BF$2>=List!$Q5,IF(BF$2<=List!$R5,List!$P5,""),""),IF(BF$2>=List!$V5,IF(BF$2<=List!$W5,List!$U5,""),""),IF(BF$2>=List!$Z5,IF(BF$2<=List!$AA5,"()",""),"")) | BH5: =List!D220 -> Patente Alemana | BI5: =List!E220 -> German Patent | BJ5: =List!F220 -> () | BK5: =List!G220 -> DRGM
A6: =List!B6 -> 1 | B6: =List!C6 -> 25 | C6: =List!D6 -> Mannheim | D6: =IF(List!I6<>"",IF(List!D6=List!I6,IF(List!N6<>"",IF(List!N6=List!I6,IF(List!S6<>"",IF(List!S6=List!N6,"",CONCATENATE(List!S6," :4")),""),CONCATENATE(List!N6," :3")),""),CONCATENATE(List!I6," :2")),"") | E6: =IF(D6="","",IF(RIGHT(D6,1)="4","",IF(RIGHT(D6,1)="3",IF(List!S6="","",IF(List!S6=List!N6,"",CONCATENATE(List!S6," :4"))),IF(List!N6="","",IF(List!N6<>List!I6,CONCATENATE(List!N6," :3"),IF(List!S6="","",IF(List!S6=List!N6,"",CONCATENATE(List!S6," :4")))))))) | F6: =CONCATENATE(IF(F$2>=List!$G6,IF(F$2<=List!$H6,List!$F6,""),""),IF(F$2>=List!$L6,IF(F$2<=List!$M6,List!$K6,""),""),IF(F$2>=List!$Q6,IF(F$2<=List!$R6,List!$P6,""),""),IF(F$2>=List!$V6,IF(F$2<=List!$W6,List!$U6,""),""),IF(F$2>=List!$Z6,IF(F$2<=List!$AA6,"()",""),"")) -> B | G6: =CONCATENATE(IF(G$2>=List!$G6,IF(G$2<=List!$H6,List!$F6,""),""),IF(G$2>=List!$L6,IF(G$2<=List!$M6,List!$K6,""),""),IF(G$2>=List!$Q6,IF(G$2<=List!$R6,List!$P6,""),""),IF(G$2>=List!$V6,IF(G$2<=List!$W6,List!$U6,""),""),IF(G$2>=List!$Z6,IF(G$2<=List!$AA6,"()",""),"")) -> B | H6: =CONCATENATE(IF(H$2>=List!$G6,IF(H$2<=List!$H6,List!$F6,""),""),IF(H$2>=List!$L6,IF(H$2<=List!$M6,List!$K6,""),""),IF(H$2>=List!$Q6,IF(H$2<=List!$R6,List!$P6,""),""),IF(H$2>=List!$V6,IF(H$2<=List!$W6,List!$U6,""),""),IF(H$2>=List!$Z6,IF(H$2<=List!$AA6,"()",""),"")) -> B | I6: =CONCATENATE(IF(I$2>=List!$G6,IF(I$2<=List!$H6,List!$F6,""),""),IF(I$2>=List!$L6,IF(I$2<=List!$M6,List!$K6,""),""),IF(I$2>=List!$Q6,IF(I$2<=List!$R6,List!$P6,""),""),IF(I$2>=List!$V6,IF(I$2<=List!$W6,List!$U6,""),""),IF(I$2>=List!$Z6,IF(I$2<=List!$AA6,"()",""),"")) -> B | J6: =CONCATENATE(IF(J$2>=List!$G6,IF(J$2<=List!$H6,List!$F6,""),""),IF(J$2>=List!$L6,IF(J$2<=List!$M6,List!$K6,""),""),IF(J$2>=List!$Q6,IF(J$2<=List!$R6,List!$P6,""),""),IF(J$2>=List!$V6,IF(J$2<=List!$W6,List!$U6,""),""),IF(J$2>=List!$Z6,IF(J$2<=List!$AA6,"()",""),"")) -> B | K6: =CONCATENATE(IF(K$2>=List!$G6,IF(K$2<=List!$H6,List!$F6,""),""),IF(K$2>=List!$L6,IF(K$2<=List!$M6,List!$K6,""),""),IF(K$2>=List!$Q6,IF(K$2<=List!$R6,List!$P6,""),""),IF(K$2>=List!$V6,IF(K$2<=List!$W6,List!$U6,""),""),IF(K$2>=List!$Z6,IF(K$2<=List!$AA6,"()",""),"")) -> B | L6: =CONCATENATE(IF(L$2>=List!$G6,IF(L$2<=List!$H6,List!$F6,""),""),IF(L$2>=List!$L6,IF(L$2<=List!$M6,List!$K6,""),""),IF(L$2>=List!$Q6,IF(L$2<=List!$R6,List!$P6,""),""),IF(L$2>=List!$V6,IF(L$2<=List!$W6,List!$U6,""),""),IF(L$2>=List!$Z6,IF(L$2<=List!$AA6,"()",""),"")) | M6: =CONCATENATE(IF(M$2>=List!$G6,IF(M$2<=List!$H6,List!$F6,""),""),IF(M$2>=List!$L6,IF(M$2<=List!$M6,List!$K6,""),""),IF(M$2>=List!$Q6,IF(M$2<=List!$R6,List!$P6,""),""),IF(M$2>=List!$V6,IF(M$2<=List!$W6,List!$U6,""),""),IF(M$2>=List!$Z6,IF(M$2<=List!$AA6,"()",""),"")) | ... BF6: =CONCATENATE(IF(BF$2>=List!$G6,IF(BF$2<=List!$H6,List!$F6,""),""),IF(BF$2>=List!$L6,IF(BF$2<=List!$M6,List!$K6,""),""),IF(BF$2>=List!$Q6,IF(BF$2<=List!$R6,List!$P6,""),""),IF(BF$2>=List!$V6,IF(BF$2<=List!$W6,List!$U6,""),""),IF(BF$2>=List!$Z6,IF(BF$2<=List!$AA6,"()",""),"")) | BH6: =List!D221 -> Anagit | BI6: =List!E221 -> Anagit | BJ6: =List!F221 -> A | BK6: =List!G221 -> Anagit
A7: =List!B7 -> 1a | B7: =List!C7 -> 25 | C7: =List!D7 -> Mannheim | D7: =IF(List!I7<>"",IF(List!D7=List!I7,IF(List!N7<>"",IF(List!N7=List!I7,IF(List!S7<>"",IF(List!S7=List!N7,"",CONCATENATE(List!S7," :4")),""),CONCATENATE(List!N7," :3")),""),CONCATENATE(List!I7," :2")),"") | E7: =IF(D7="","",IF(RIGHT(D7,1)="4","",IF(RIGHT(D7,1)="3",IF(List!S7="","",IF(List!S7=List!N7,"",CONCATENATE(List!S7," :4"))),IF(List!N7="","",IF(List!N7<>List!I7,CONCATENATE(List!N7," :3"),IF(List!S7="","",IF(List!S7=List!N7,"",CONCATENATE(List!S7," :4")))))))) | F7: =CONCATENATE(IF(F$2>=List!$G7,IF(F$2<=List!$H7,List!$F7,""),""),IF(F$2>=List!$L7,IF(F$2<=List!$M7,List!$K7,""),""),IF(F$2>=List!$Q7,IF(F$2<=List!$R7,List!$P7,""),""),IF(F$2>=List!$V7,IF(F$2<=List!$W7,List!$U7,""),""),IF(F$2>=List!$Z7,IF(F$2<=List!$AA7,"()",""),"")) | G7: =CONCATENATE(IF(G$2>=List!$G7,IF(G$2<=List!$H7,List!$F7,""),""),IF(G$2>=List!$L7,IF(G$2<=List!$M7,List!$K7,""),""),IF(G$2>=List!$Q7,IF(G$2<=List!$R7,List!$P7,""),""),IF(G$2>=List!$V7,IF(G$2<=List!$W7,List!$U7,""),""),IF(G$2>=List!$Z7,IF(G$2<=List!$AA7,"()",""),"")) | H7: =CONCATENATE(IF(H$2>=List!$G7,IF(H$2<=List!$H7,List!$F7,""),""),IF(H$2>=List!$L7,IF(H$2<=List!$M7,List!$K7,""),""),IF(H$2>=List!$Q7,IF(H$2<=List!$R7,List!$P7,""),""),IF(H$2>=List!$V7,IF(H$2<=List!$W7,List!$U7,""),""),IF(H$2>=List!$Z7,IF(H$2<=List!$AA7,"()",""),"")) | I7: =CONCATENATE(IF(I$2>=List!$G7,IF(I$2<=List!$H7,List!$F7,""),""),IF(I$2>=List!$L7,IF(I$2<=List!$M7,List!$K7,""),""),IF(I$2>=List!$Q7,IF(I$2<=List!$R7,List!$P7,""),""),IF(I$2>=List!$V7,IF(I$2<=List!$W7,List!$U7,""),""),IF(I$2>=List!$Z7,IF(I$2<=List!$AA7,"()",""),"")) | J7: =CONCATENATE(IF(J$2>=List!$G7,IF(J$2<=List!$H7,List!$F7,""),""),IF(J$2>=List!$L7,IF(J$2<=List!$M7,List!$K7,""),""),IF(J$2>=List!$Q7,IF(J$2<=List!$R7,List!$P7,""),""),IF(J$2>=List!$V7,IF(J$2<=List!$W7,List!$U7,""),""),IF(J$2>=List!$Z7,IF(J$2<=List!$AA7,"()",""),"")) | K7: =CONCATENATE(IF(K$2>=List!$G7,IF(K$2<=List!$H7,List!$F7,""),""),IF(K$2>=List!$L7,IF(K$2<=List!$M7,List!$K7,""),""),IF(K$2>=List!$Q7,IF(K$2<=List!$R7,List!$P7,""),""),IF(K$2>=List!$V7,IF(K$2<=List!$W7,List!$U7,""),""),IF(K$2>=List!$Z7,IF(K$2<=List!$AA7,"()",""),"")) | L7: =CONCATENATE(IF(L$2>=List!$G7,IF(L$2<=List!$H7,List!$F7,""),""),IF(L$2>=List!$L7,IF(L$2<=List!$M7,List!$K7,""),""),IF(L$2>=List!$Q7,IF(L$2<=List!$R7,List!$P7,""),""),IF(L$2>=List!$V7,IF(L$2<=List!$W7,List!$U7,""),""),IF(L$2>=List!$Z7,IF(L$2<=List!$AA7,"()",""),"")) -> B | M7: =CONCATENATE(IF(M$2>=List!$G7,IF(M$2<=List!$H7,List!$F7,""),""),IF(M$2>=List!$L7,IF(M$2<=List!$M7,List!$K7,""),""),IF(M$2>=List!$Q7,IF(M$2<=List!$R7,List!$P7,""),""),IF(M$2>=List!$V7,IF(M$2<=List!$W7,List!$U7,""),""),IF(M$2>=List!$Z7,IF(M$2<=List!$AA7,"()",""),"")) -> B | ... BF7: =CONCATENATE(IF(BF$2>=List!$G7,IF(BF$2<=List!$H7,List!$F7,""),""),IF(BF$2>=List!$L7,IF(BF$2<=List!$M7,List!$K7,""),""),IF(BF$2>=List!$Q7,IF(BF$2<=List!$R7,List!$P7,""),""),IF(BF$2>=List!$V7,IF(BF$2<=List!$W7,List!$U7,""),""),IF(BF$2>=List!$Z7,IF(BF$2<=List!$AA7,"()",""),"")) | BH7: =List!D222 -> Boj | BI7: =List!E222 -> Boxwood | BJ7: =List!F222 -> B | BK7: =List!G222 -> Buchsbaumholz
A8: =List!B8 -> 1c | B8: =List!C8 -> 25 | C8: =List!D8 -> Mannheim | D8: =IF(List!I8<>"",IF(List!D8=List!I8,IF(List!N8<>"",IF(List!N8=List!I8,IF(List!S8<>"",IF(List!S8=List!N8,"",CONCATENATE(List!S8," :4")),""),CONCATENATE(List!N8," :3")),""),CONCATENATE(List!I8," :2")),"") | E8: =IF(D8="","",IF(RIGHT(D8,1)="4","",IF(RIGHT(D8,1)="3",IF(List!S8="","",IF(List!S8=List!N8,"",CONCATENATE(List!S8," :4"))),IF(List!N8="","",IF(List!N8<>List!I8,CONCATENATE(List!N8," :3"),IF(List!S8="","",IF(List!S8=List!N8,"",CONCATENATE(List!S8," :4")))))))) | F8: =CONCATENATE(IF(F$2>=List!$G8,IF(F$2<=List!$H8,List!$F8,""),""),IF(F$2>=List!$L8,IF(F$2<=List!$M8,List!$K8,""),""),IF(F$2>=List!$Q8,IF(F$2<=List!$R8,List!$P8,""),""),IF(F$2>=List!$V8,IF(F$2<=List!$W8,List!$U8,""),""),IF(F$2>=List!$Z8,IF(F$2<=List!$AA8,"()",""),"")) | G8: =CONCATENATE(IF(G$2>=List!$G8,IF(G$2<=List!$H8,List!$F8,""),""),IF(G$2>=List!$L8,IF(G$2<=List!$M8,List!$K8,""),""),IF(G$2>=List!$Q8,IF(G$2<=List!$R8,List!$P8,""),""),IF(G$2>=List!$V8,IF(G$2<=List!$W8,List!$U8,""),""),IF(G$2>=List!$Z8,IF(G$2<=List!$AA8,"()",""),"")) | H8: =CONCATENATE(IF(H$2>=List!$G8,IF(H$2<=List!$H8,List!$F8,""),""),IF(H$2>=List!$L8,IF(H$2<=List!$M8,List!$K8,""),""),IF(H$2>=List!$Q8,IF(H$2<=List!$R8,List!$P8,""),""),IF(H$2>=List!$V8,IF(H$2<=List!$W8,List!$U8,""),""),IF(H$2>=List!$Z8,IF(H$2<=List!$AA8,"()",""),"")) | I8: =CONCATENATE(IF(I$2>=List!$G8,IF(I$2<=List!$H8,List!$F8,""),""),IF(I$2>=List!$L8,IF(I$2<=List!$M8,List!$K8,""),""),IF(I$2>=List!$Q8,IF(I$2<=List!$R8,List!$P8,""),""),IF(I$2>=List!$V8,IF(I$2<=List!$W8,List!$U8,""),""),IF(I$2>=List!$Z8,IF(I$2<=List!$AA8,"()",""),"")) | J8: =CONCATENATE(IF(J$2>=List!$G8,IF(J$2<=List!$H8,List!$F8,""),""),IF(J$2>=List!$L8,IF(J$2<=List!$M8,List!$K8,""),""),IF(J$2>=List!$Q8,IF(J$2<=List!$R8,List!$P8,""),""),IF(J$2>=List!$V8,IF(J$2<=List!$W8,List!$U8,""),""),IF(J$2>=List!$Z8,IF(J$2<=List!$AA8,"()",""),"")) | K8: =CONCATENATE(IF(K$2>=List!$G8,IF(K$2<=List!$H8,List!$F8,""),""),IF(K$2>=List!$L8,IF(K$2<=List!$M8,List!$K8,""),""),IF(K$2>=List!$Q8,IF(K$2<=List!$R8,List!$P8,""),""),IF(K$2>=List!$V8,IF(K$2<=List!$W8,List!$U8,""),""),IF(K$2>=List!$Z8,IF(K$2<=List!$AA8,"()",""),"")) | L8: =CONCATENATE(IF(L$2>=List!$G8,IF(L$2<=List!$H8,List!$F8,""),""),IF(L$2>=List!$L8,IF(L$2<=List!$M8,List!$K8,""),""),IF(L$2>=List!$Q8,IF(L$2<=List!$R8,List!$P8,""),""),IF(L$2>=List!$V8,IF(L$2<=List!$W8,List!$U8,""),""),IF(L$2>=List!$Z8,IF(L$2<=List!$AA8,"()",""),"")) | M8: =CONCATENATE(IF(M$2>=List!$G8,IF(M$2<=List!$H8,List!$F8,""),""),IF(M$2>=List!$L8,IF(M$2<=List!$M8,List!$K8,""),""),IF(M$2>=List!$Q8,IF(M$2<=List!$R8,List!$P8,""),""),IF(M$2>=List!$V8,IF(M$2<=List!$W8,List!$U8,""),""),IF(M$2>=List!$Z8,IF(M$2<=List!$AA8,"()",""),"")) | ... BF8: =CONCATENATE(IF(BF$2>=List!$G8,IF(BF$2<=List!$H8,List!$F8,""),""),IF(BF$2>=List!$L8,IF(BF$2<=List!$M8,List!$K8,""),""),IF(BF$2>=List!$Q8,IF(BF$2<=List!$R8,List!$P8,""),""),IF(BF$2>=List!$V8,IF(BF$2<=List!$W8,List!$U8,""),""),IF(BF$2>=List!$Z8,IF(BF$2<=List!$AA8,"()",""),"")) | BH8: =List!D223 -> Cartón | BI8: =List!E223 -> Cardboard | BJ8: =List!F223 -> D | BK8: =List!G223 -> Karton
A9: =List!B9 -> 1Z | B9: =List!C9 -> 12.5 | C9: =List!D9 -> Mannheim | D9: =IF(List!I9<>"",IF(List!D9=List!I9,IF(List!N9<>"",IF(List!N9=List!I9,IF(List!S9<>"",IF(List!S9=List!N9,"",CONCATENATE(List!S9," :4")),""),CONCATENATE(List!N9," :3")),""),CONCATENATE(List!I9," :2")),"") | E9: =IF(D9="","",IF(RIGHT(D9,1)="4","",IF(RIGHT(D9,1)="3",IF(List!S9="","",IF(List!S9=List!N9,"",CONCATENATE(List!S9," :4"))),IF(List!N9="","",IF(List!N9<>List!I9,CONCATENATE(List!N9," :3"),IF(List!S9="","",IF(List!S9=List!N9,"",CONCATENATE(List!S9," :4")))))))) | F9: =CONCATENATE(IF(F$2>=List!$G9,IF(F$2<=List!$H9,List!$F9,""),""),IF(F$2>=List!$L9,IF(F$2<=List!$M9,List!$K9,""),""),IF(F$2>=List!$Q9,IF(F$2<=List!$R9,List!$P9,""),""),IF(F$2>=List!$V9,IF(F$2<=List!$W9,List!$U9,""),""),IF(F$2>=List!$Z9,IF(F$2<=List!$AA9,"()",""),"")) | G9: =CONCATENATE(IF(G$2>=List!$G9,IF(G$2<=List!$H9,List!$F9,""),""),IF(G$2>=List!$L9,IF(G$2<=List!$M9,List!$K9,""),""),IF(G$2>=List!$Q9,IF(G$2<=List!$R9,List!$P9,""),""),IF(G$2>=List!$V9,IF(G$2<=List!$W9,List!$U9,""),""),IF(G$2>=List!$Z9,IF(G$2<=List!$AA9,"()",""),"")) | H9: =CONCATENATE(IF(H$2>=List!$G9,IF(H$2<=List!$H9,List!$F9,""),""),IF(H$2>=List!$L9,IF(H$2<=List!$M9,List!$K9,""),""),IF(H$2>=List!$Q9,IF(H$2<=List!$R9,List!$P9,""),""),IF(H$2>=List!$V9,IF(H$2<=List!$W9,List!$U9,""),""),IF(H$2>=List!$Z9,IF(H$2<=List!$AA9,"()",""),"")) | I9: =CONCATENATE(IF(I$2>=List!$G9,IF(I$2<=List!$H9,List!$F9,""),""),IF(I$2>=List!$L9,IF(I$2<=List!$M9,List!$K9,""),""),IF(I$2>=List!$Q9,IF(I$2<=List!$R9,List!$P9,""),""),IF(I$2>=List!$V9,IF(I$2<=List!$W9,List!$U9,""),""),IF(I$2>=List!$Z9,IF(I$2<=List!$AA9,"()",""),"")) | J9: =CONCATENATE(IF(J$2>=List!$G9,IF(J$2<=List!$H9,List!$F9,""),""),IF(J$2>=List!$L9,IF(J$2<=List!$M9,List!$K9,""),""),IF(J$2>=List!$Q9,IF(J$2<=List!$R9,List!$P9,""),""),IF(J$2>=List!$V9,IF(J$2<=List!$W9,List!$U9,""),""),IF(J$2>=List!$Z9,IF(J$2<=List!$AA9,"()",""),"")) | K9: =CONCATENATE(IF(K$2>=List!$G9,IF(K$2<=List!$H9,List!$F9,""),""),IF(K$2>=List!$L9,IF(K$2<=List!$M9,List!$K9,""),""),IF(K$2>=List!$Q9,IF(K$2<=List!$R9,List!$P9,""),""),IF(K$2>=List!$V9,IF(K$2<=List!$W9,List!$U9,""),""),IF(K$2>=List!$Z9,IF(K$2<=List!$AA9,"()",""),"")) | L9: =CONCATENATE(IF(L$2>=List!$G9,IF(L$2<=List!$H9,List!$F9,""),""),IF(L$2>=List!$L9,IF(L$2<=List!$M9,List!$K9,""),""),IF(L$2>=List!$Q9,IF(L$2<=List!$R9,List!$P9,""),""),IF(L$2>=List!$V9,IF(L$2<=List!$W9,List!$U9,""),""),IF(L$2>=List!$Z9,IF(L$2<=List!$AA9,"()",""),"")) | M9: =CONCATENATE(IF(M$2>=List!$G9,IF(M$2<=List!$H9,List!$F9,""),""),IF(M$2>=List!$L9,IF(M$2<=List!$M9,List!$K9,""),""),IF(M$2>=List!$Q9,IF(M$2<=List!$R9,List!$P9,""),""),IF(M$2>=List!$V9,IF(M$2<=List!$W9,List!$U9,""),""),IF(M$2>=List!$Z9,IF(M$2<=List!$AA9,"()",""),"")) | ... BF9: =CONCATENATE(IF(BF$2>=List!$G9,IF(BF$2<=List!$H9,List!$F9,""),""),IF(BF$2>=List!$L9,IF(BF$2<=List!$M9,List!$K9,""),""),IF(BF$2>=List!$Q9,IF(BF$2<=List!$R9,List!$P9,""),""),IF(BF$2>=List!$V9,IF(BF$2<=List!$W9,List!$U9,""),""),IF(BF$2>=List!$Z9,IF(BF$2<=List!$AA9,"()",""),"")) | BH9: =List!D224 -> Celuloide | BI9: =List!E224 -> Celluloid | BJ9: =List!F224 -> C | BK9: =List!G224 -> Zelluloid
A10: =List!B10 -> 2 | B10: =List!C10 -> 12.5 | C10: =List!D10 -> Mannheim | D10: =IF(List!I10<>"",IF(List!D10=List!I10,IF(List!N10<>"",IF(List!N10=List!I10,IF(List!S10<>"",IF(List!S10=List!N10,"",CONCATENATE(List!S10," :4")),""),CONCATENATE(List!N10," :3")),""),CONCATENATE(List!I10," :2")),"") | E10: =IF(D10="","",IF(RIGHT(D10,1)="4","",IF(RIGHT(D10,1)="3",IF(List!S10="","",IF(List!S10=List!N10,"",CONCATENATE(List!S10," :4"))),IF(List!N10="","",IF(List!N10<>List!I10,CONCATENATE(List!N10," :3"),IF(List!S10="","",IF(List!S10=List!N10,"",CONCATENATE(List!S10," :4")))))))) | F10: =CONCATENATE(IF(F$2>=List!$G10,IF(F$2<=List!$H10,List!$F10,""),""),IF(F$2>=List!$L10,IF(F$2<=List!$M10,List!$K10,""),""),IF(F$2>=List!$Q10,IF(F$2<=List!$R10,List!$P10,""),""),IF(F$2>=List!$V10,IF(F$2<=List!$W10,List!$U10,""),""),IF(F$2>=List!$Z10,IF(F$2<=List!$AA10,"()",""),"")) | G10: =CONCATENATE(IF(G$2>=List!$G10,IF(G$2<=List!$H10,List!$F10,""),""),IF(G$2>=List!$L10,IF(G$2<=List!$M10,List!$K10,""),""),IF(G$2>=List!$Q10,IF(G$2<=List!$R10,List!$P10,""),""),IF(G$2>=List!$V10,IF(G$2<=List!$W10,List!$U10,""),""),IF(G$2>=List!$Z10,IF(G$2<=List!$AA10,"()",""),"")) | H10: =CONCATENATE(IF(H$2>=List!$G10,IF(H$2<=List!$H10,List!$F10,""),""),IF(H$2>=List!$L10,IF(H$2<=List!$M10,List!$K10,""),""),IF(H$2>=List!$Q10,IF(H$2<=List!$R10,List!$P10,""),""),IF(H$2>=List!$V10,IF(H$2<=List!$W10,List!$U10,""),""),IF(H$2>=List!$Z10,IF(H$2<=List!$AA10,"()",""),"")) | I10: =CONCATENATE(IF(I$2>=List!$G10,IF(I$2<=List!$H10,List!$F10,""),""),IF(I$2>=List!$L10,IF(I$2<=List!$M10,List!$K10,""),""),IF(I$2>=List!$Q10,IF(I$2<=List!$R10,List!$P10,""),""),IF(I$2>=List!$V10,IF(I$2<=List!$W10,List!$U10,""),""),IF(I$2>=List!$Z10,IF(I$2<=List!$AA10,"()",""),"")) | J10: =CONCATENATE(IF(J$2>=List!$G10,IF(J$2<=List!$H10,List!$F10,""),""),IF(J$2>=List!$L10,IF(J$2<=List!$M10,List!$K10,""),""),IF(J$2>=List!$Q10,IF(J$2<=List!$R10,List!$P10,""),""),IF(J$2>=List!$V10,IF(J$2<=List!$W10,List!$U10,""),""),IF(J$2>=List!$Z10,IF(J$2<=List!$AA10,"()",""),"")) | K10: =CONCATENATE(IF(K$2>=List!$G10,IF(K$2<=List!$H10,List!$F10,""),""),IF(K$2>=List!$L10,IF(K$2<=List!$M10,List!$K10,""),""),IF(K$2>=List!$Q10,IF(K$2<=List!$R10,List!$P10,""),""),IF(K$2>=List!$V10,IF(K$2<=List!$W10,List!$U10,""),""),IF(K$2>=List!$Z10,IF(K$2<=List!$AA10,"()",""),"")) | L10: =CONCATENATE(IF(L$2>=List!$G10,IF(L$2<=List!$H10,List!$F10,""),""),IF(L$2>=List!$L10,IF(L$2<=List!$M10,List!$K10,""),""),IF(L$2>=List!$Q10,IF(L$2<=List!$R10,List!$P10,""),""),IF(L$2>=List!$V10,IF(L$2<=List!$W10,List!$U10,""),""),IF(L$2>=List!$Z10,IF(L$2<=List!$AA10,"()",""),"")) | M10: =CONCATENATE(IF(M$2>=List!$G10,IF(M$2<=List!$H10,List!$F10,""),""),IF(M$2>=List!$L10,IF(M$2<=List!$M10,List!$K10,""),""),IF(M$2>=List!$Q10,IF(M$2<=List!$R10,List!$P10,""),""),IF(M$2>=List!$V10,IF(M$2<=List!$W10,List!$U10,""),""),IF(M$2>=List!$Z10,IF(M$2<=List!$AA10,"()",""),"")) | ... BF10: =CONCATENATE(IF(BF$2>=List!$G10,IF(BF$2<=List!$H10,List!$F10,""),""),IF(BF$2>=List!$L10,IF(BF$2<=List!$M10,List!$K10,""),""),IF(BF$2>=List!$Q10,IF(BF$2<=List!$R10,List!$P10,""),""),IF(BF$2>=List!$V10,IF(BF$2<=List!$W10,List!$U10,""),""),IF(BF$2>=List!$Z10,IF(BF$2<=List!$AA10,"()",""),"")) | BH10: =List!D225 -> Alpaca | BI10: =List!E225 -> German Silver | BJ10: =List!F225 -> G | BK10: =List!G225 -> Neusilber
A11: =List!B11 -> 2 | B11: =List!C11 -> 20 | C11: =List!D11 -> Soho | D11: =IF(List!I11<>"",IF(List!D11=List!I11,IF(List!N11<>"",IF(List!N11=List!I11,IF(List!S11<>"",IF(List!S11=List!N11,"",CONCATENATE(List!S11," :4")),""),CONCATENATE(List!N11," :3")),""),CONCATENATE(List!I11," :2")),"") | E11: =IF(D11="","",IF(RIGHT(D11,1)="4","",IF(RIGHT(D11,1)="3",IF(List!S11="","",IF(List!S11=List!N11,"",CONCATENATE(List!S11," :4"))),IF(List!N11="","",IF(List!N11<>List!I11,CONCATENATE(List!N11," :3"),IF(List!S11="","",IF(List!S11=List!N11,"",CONCATENATE(List!S11," :4")))))))) | F11: =CONCATENATE(IF(F$2>=List!$G11,IF(F$2<=List!$H11,List!$F11,""),""),IF(F$2>=List!$L11,IF(F$2<=List!$M11,List!$K11,""),""),IF(F$2>=List!$Q11,IF(F$2<=List!$R11,List!$P11,""),""),IF(F$2>=List!$V11,IF(F$2<=List!$W11,List!$U11,""),""),IF(F$2>=List!$Z11,IF(F$2<=List!$AA11,"()",""),"")) -> B | G11: =CONCATENATE(IF(G$2>=List!$G11,IF(G$2<=List!$H11,List!$F11,""),""),IF(G$2>=List!$L11,IF(G$2<=List!$M11,List!$K11,""),""),IF(G$2>=List!$Q11,IF(G$2<=List!$R11,List!$P11,""),""),IF(G$2>=List!$V11,IF(G$2<=List!$W11,List!$U11,""),""),IF(G$2>=List!$Z11,IF(G$2<=List!$AA11,"()",""),"")) -> B | H11: =CONCATENATE(IF(H$2>=List!$G11,IF(H$2<=List!$H11,List!$F11,""),""),IF(H$2>=List!$L11,IF(H$2<=List!$M11,List!$K11,""),""),IF(H$2>=List!$Q11,IF(H$2<=List!$R11,List!$P11,""),""),IF(H$2>=List!$V11,IF(H$2<=List!$W11,List!$U11,""),""),IF(H$2>=List!$Z11,IF(H$2<=List!$AA11,"()",""),"")) -> B | I11: =CONCATENATE(IF(I$2>=List!$G11,IF(I$2<=List!$H11,List!$F11,""),""),IF(I$2>=List!$L11,IF(I$2<=List!$M11,List!$K11,""),""),IF(I$2>=List!$Q11,IF(I$2<=List!$R11,List!$P11,""),""),IF(I$2>=List!$V11,IF(I$2<=List!$W11,List!$U11,""),""),IF(I$2>=List!$Z11,IF(I$2<=List!$AA11,"()",""),"")) -> B | J11: =CONCATENATE(IF(J$2>=List!$G11,IF(J$2<=List!$H11,List!$F11,""),""),IF(J$2>=List!$L11,IF(J$2<=List!$M11,List!$K11,""),""),IF(J$2>=List!$Q11,IF(J$2<=List!$R11,List!$P11,""),""),IF(J$2>=List!$V11,IF(J$2<=List!$W11,List!$U11,""),""),IF(J$2>=List!$Z11,IF(J$2<=List!$AA11,"()",""),"")) -> B | K11: =CONCATENATE(IF(K$2>=List!$G11,IF(K$2<=List!$H11,List!$F11,""),""),IF(K$2>=List!$L11,IF(K$2<=List!$M11,List!$K11,""),""),IF(K$2>=List!$Q11,IF(K$2<=List!$R11,List!$P11,""),""),IF(K$2>=List!$V11,IF(K$2<=List!$W11,List!$U11,""),""),IF(K$2>=List!$Z11,IF(K$2<=List!$AA11,"()",""),"")) -> B | L11: =CONCATENATE(IF(L$2>=List!$G11,IF(L$2<=List!$H11,List!$F11,""),""),IF(L$2>=List!$L11,IF(L$2<=List!$M11,List!$K11,""),""),IF(L$2>=List!$Q11,IF(L$2<=List!$R11,List!$P11,""),""),IF(L$2>=List!$V11,IF(L$2<=List!$W11,List!$U11,""),""),IF(L$2>=List!$Z11,IF(L$2<=List!$AA11,"()",""),"")) -> B | M11: =CONCATENATE(IF(M$2>=List!$G11,IF(M$2<=List!$H11,List!$F11,""),""),IF(M$2>=List!$L11,IF(M$2<=List!$M11,List!$K11,""),""),IF(M$2>=List!$Q11,IF(M$2<=List!$R11,List!$P11,""),""),IF(M$2>=List!$V11,IF(M$2<=List!$W11,List!$U11,""),""),IF(M$2>=List!$Z11,IF(M$2<=List!$AA11,"()",""),"")) -> B | ... BF11: =CONCATENATE(IF(BF$2>=List!$G11,IF(BF$2<=List!$H11,List!$F11,""),""),IF(BF$2>=List!$L11,IF(BF$2<=List!$M11,List!$K11,""),""),IF(BF$2>=List!$Q11,IF(BF$2<=List!$R11,List!$P11,""),""),IF(BF$2>=List!$V11,IF(BF$2<=List!$W11,List!$U11,""),""),IF(BF$2>=List!$Z11,IF(BF$2<=List!$AA11,"()",""),"")) | BH11: =List!D226 -> Imitación Marfil | BI11: =List!E226 -> Immitation Ivory | BJ11: =List!F226 -> I | BK11: =List!G226 -> Imitation Elfenbein
A12: =List!B12 -> 2 | B12: =List!C12 -> 25 | C12: =List!D12 -> Mannheim | D12: =IF(List!I12<>"",IF(List!D12=List!I12,IF(List!N12<>"",IF(List!N12=List!I12,IF(List!S12<>"",IF(List!S12=List!N12,"",CONCATENATE(List!S12," :4")),""),CONCATENATE(List!N12," :3")),""),CONCATENATE(List!I12," :2")),"") | E12: =IF(D12="","",IF(RIGHT(D12,1)="4","",IF(RIGHT(D12,1)="3",IF(List!S12="","",IF(List!S12=List!N12,"",CONCATENATE(List!S12," :4"))),IF(List!N12="","",IF(List!N12<>List!I12,CONCATENATE(List!N12," :3"),IF(List!S12="","",IF(List!S12=List!N12,"",CONCATENATE(List!S12," :4")))))))) | F12: =CONCATENATE(IF(F$2>=List!$G12,IF(F$2<=List!$H12,List!$F12,""),""),IF(F$2>=List!$L12,IF(F$2<=List!$M12,List!$K12,""),""),IF(F$2>=List!$Q12,IF(F$2<=List!$R12,List!$P12,""),""),IF(F$2>=List!$V12,IF(F$2<=List!$W12,List!$U12,""),""),IF(F$2>=List!$Z12,IF(F$2<=List!$AA12,"()",""),"")) | G12: =CONCATENATE(IF(G$2>=List!$G12,IF(G$2<=List!$H12,List!$F12,""),""),IF(G$2>=List!$L12,IF(G$2<=List!$M12,List!$K12,""),""),IF(G$2>=List!$Q12,IF(G$2<=List!$R12,List!$P12,""),""),IF(G$2>=List!$V12,IF(G$2<=List!$W12,List!$U12,""),""),IF(G$2>=List!$Z12,IF(G$2<=List!$AA12,"()",""),"")) | H12: =CONCATENATE(IF(H$2>=List!$G12,IF(H$2<=List!$H12,List!$F12,""),""),IF(H$2>=List!$L12,IF(H$2<=List!$M12,List!$K12,""),""),IF(H$2>=List!$Q12,IF(H$2<=List!$R12,List!$P12,""),""),IF(H$2>=List!$V12,IF(H$2<=List!$W12,List!$U12,""),""),IF(H$2>=List!$Z12,IF(H$2<=List!$AA12,"()",""),"")) | I12: =CONCATENATE(IF(I$2>=List!$G12,IF(I$2<=List!$H12,List!$F12,""),""),IF(I$2>=List!$L12,IF(I$2<=List!$M12,List!$K12,""),""),IF(I$2>=List!$Q12,IF(I$2<=List!$R12,List!$P12,""),""),IF(I$2>=List!$V12,IF(I$2<=List!$W12,List!$U12,""),""),IF(I$2>=List!$Z12,IF(I$2<=List!$AA12,"()",""),"")) | J12: =CONCATENATE(IF(J$2>=List!$G12,IF(J$2<=List!$H12,List!$F12,""),""),IF(J$2>=List!$L12,IF(J$2<=List!$M12,List!$K12,""),""),IF(J$2>=List!$Q12,IF(J$2<=List!$R12,List!$P12,""),""),IF(J$2>=List!$V12,IF(J$2<=List!$W12,List!$U12,""),""),IF(J$2>=List!$Z12,IF(J$2<=List!$AA12,"()",""),"")) | K12: =CONCATENATE(IF(K$2>=List!$G12,IF(K$2<=List!$H12,List!$F12,""),""),IF(K$2>=List!$L12,IF(K$2<=List!$M12,List!$K12,""),""),IF(K$2>=List!$Q12,IF(K$2<=List!$R12,List!$P12,""),""),IF(K$2>=List!$V12,IF(K$2<=List!$W12,List!$U12,""),""),IF(K$2>=List!$Z12,IF(K$2<=List!$AA12,"()",""),"")) | L12: =CONCATENATE(IF(L$2>=List!$G12,IF(L$2<=List!$H12,List!$F12,""),""),IF(L$2>=List!$L12,IF(L$2<=List!$M12,List!$K12,""),""),IF(L$2>=List!$Q12,IF(L$2<=List!$R12,List!$P12,""),""),IF(L$2>=List!$V12,IF(L$2<=List!$W12,List!$U12,""),""),IF(L$2>=List!$Z12,IF(L$2<=List!$AA12,"()",""),"")) | M12: =CONCATENATE(IF(M$2>=List!$G12,IF(M$2<=List!$H12,List!$F12,""),""),IF(M$2>=List!$L12,IF(M$2<=List!$M12,List!$K12,""),""),IF(M$2>=List!$Q12,IF(M$2<=List!$R12,List!$P12,""),""),IF(M$2>=List!$V12,IF(M$2<=List!$W12,List!$U12,""),""),IF(M$2>=List!$Z12,IF(M$2<=List!$AA12,"()",""),"")) | ... BF12: =CONCATENATE(IF(BF$2>=List!$G12,IF(BF$2<=List!$H12,List!$F12,""),""),IF(BF$2>=List!$L12,IF(BF$2<=List!$M12,List!$K12,""),""),IF(BF$2>=List!$Q12,IF(BF$2<=List!$R12,List!$P12,""),""),IF(BF$2>=List!$V12,IF(BF$2<=List!$W12,List!$U12,""),""),IF(BF$2>=List!$Z12,IF(BF$2<=List!$AA12,"()",""),"")) | BH12: =List!D227 -> Marfil | BI12: =List!E227 -> Ivory | BJ12: =List!F227 -> E | BK12: =List!G227 -> Elfenbein
A13: =List!B13 -> 2a | B13: =List!C13 -> 25 | C13: =List!D13 -> Mannheim | D13: =IF(List!I13<>"",IF(List!D13=List!I13,IF(List!N13<>"",IF(List!N13=List!I13,IF(List!S13<>"",IF(List!S13=List!N13,"",CONCATENATE(List!S13," :4")),""),CONCATENATE(List!N13," :3")),""),CONCATENATE(List!I13," :2")),"") | E13: =IF(D13="","",IF(RIGHT(D13,1)="4","",IF(RIGHT(D13,1)="3",IF(List!S13="","",IF(List!S13=List!N13,"",CONCATENATE(List!S13," :4"))),IF(List!N13="","",IF(List!N13<>List!I13,CONCATENATE(List!N13," :3"),IF(List!S13="","",IF(List!S13=List!N13,"",CONCATENATE(List!S13," :4")))))))) | F13: =CONCATENATE(IF(F$2>=List!$G13,IF(F$2<=List!$H13,List!$F13,""),""),IF(F$2>=List!$L13,IF(F$2<=List!$M13,List!$K13,""),""),IF(F$2>=List!$Q13,IF(F$2<=List!$R13,List!$P13,""),""),IF(F$2>=List!$V13,IF(F$2<=List!$W13,List!$U13,""),""),IF(F$2>=List!$Z13,IF(F$2<=List!$AA13,"()",""),"")) | G13: =CONCATENATE(IF(G$2>=List!$G13,IF(G$2<=List!$H13,List!$F13,""),""),IF(G$2>=List!$L13,IF(G$2<=List!$M13,List!$K13,""),""),IF(G$2>=List!$Q13,IF(G$2<=List!$R13,List!$P13,""),""),IF(G$2>=List!$V13,IF(G$2<=List!$W13,List!$U13,""),""),IF(G$2>=List!$Z13,IF(G$2<=List!$AA13,"()",""),"")) | H13: =CONCATENATE(IF(H$2>=List!$G13,IF(H$2<=List!$H13,List!$F13,""),""),IF(H$2>=List!$L13,IF(H$2<=List!$M13,List!$K13,""),""),IF(H$2>=List!$Q13,IF(H$2<=List!$R13,List!$P13,""),""),IF(H$2>=List!$V13,IF(H$2<=List!$W13,List!$U13,""),""),IF(H$2>=List!$Z13,IF(H$2<=List!$AA13,"()",""),"")) | I13: =CONCATENATE(IF(I$2>=List!$G13,IF(I$2<=List!$H13,List!$F13,""),""),IF(I$2>=List!$L13,IF(I$2<=List!$M13,List!$K13,""),""),IF(I$2>=List!$Q13,IF(I$2<=List!$R13,List!$P13,""),""),IF(I$2>=List!$V13,IF(I$2<=List!$W13,List!$U13,""),""),IF(I$2>=List!$Z13,IF(I$2<=List!$AA13,"()",""),"")) | J13: =CONCATENATE(IF(J$2>=List!$G13,IF(J$2<=List!$H13,List!$F13,""),""),IF(J$2>=List!$L13,IF(J$2<=List!$M13,List!$K13,""),""),IF(J$2>=List!$Q13,IF(J$2<=List!$R13,List!$P13,""),""),IF(J$2>=List!$V13,IF(J$2<=List!$W13,List!$U13,""),""),IF(J$2>=List!$Z13,IF(J$2<=List!$AA13,"()",""),"")) | K13: =CONCATENATE(IF(K$2>=List!$G13,IF(K$2<=List!$H13,List!$F13,""),""),IF(K$2>=List!$L13,IF(K$2<=List!$M13,List!$K13,""),""),IF(K$2>=List!$Q13,IF(K$2<=List!$R13,List!$P13,""),""),IF(K$2>=List!$V13,IF(K$2<=List!$W13,List!$U13,""),""),IF(K$2>=List!$Z13,IF(K$2<=List!$AA13,"()",""),"")) | L13: =CONCATENATE(IF(L$2>=List!$G13,IF(L$2<=List!$H13,List!$F13,""),""),IF(L$2>=List!$L13,IF(L$2<=List!$M13,List!$K13,""),""),IF(L$2>=List!$Q13,IF(L$2<=List!$R13,List!$P13,""),""),IF(L$2>=List!$V13,IF(L$2<=List!$W13,List!$U13,""),""),IF(L$2>=List!$Z13,IF(L$2<=List!$AA13,"()",""),"")) | M13: =CONCATENATE(IF(M$2>=List!$G13,IF(M$2<=List!$H13,List!$F13,""),""),IF(M$2>=List!$L13,IF(M$2<=List!$M13,List!$K13,""),""),IF(M$2>=List!$Q13,IF(M$2<=List!$R13,List!$P13,""),""),IF(M$2>=List!$V13,IF(M$2<=List!$W13,List!$U13,""),""),IF(M$2>=List!$Z13,IF(M$2<=List!$AA13,"()",""),"")) | ... BF13: =CONCATENATE(IF(BF$2>=List!$G13,IF(BF$2<=List!$H13,List!$F13,""),""),IF(BF$2>=List!$L13,IF(BF$2<=List!$M13,List!$K13,""),""),IF(BF$2>=List!$Q13,IF(BF$2<=List!$R13,List!$P13,""),""),IF(BF$2>=List!$V13,IF(BF$2<=List!$W13,List!$U13,""),""),IF(BF$2>=List!$Z13,IF(BF$2<=List!$AA13,"()",""),"")) | BH13: =List!D228 -> Caoba | BI13: =List!E228 -> Mahogany | BJ13: =List!F228 -> M | BK13: =List!G228 -> Mahagoni
A14: =List!B14 -> 2c | B14: =List!C14 -> 25 | C14: =List!D14 -> Mannheim | D14: =IF(List!I14<>"",IF(List!D14=List!I14,IF(List!N14<>"",IF(List!N14=List!I14,IF(List!S14<>"",IF(List!S14=List!N14,"",CONCATENATE(List!S14," :4")),""),CONCATENATE(List!N14," :3")),""),CONCATENATE(List!I14," :2")),"") | E14: =IF(D14="","",IF(RIGHT(D14,1)="4","",IF(RIGHT(D14,1)="3",IF(List!S14="","",IF(List!S14=List!N14,"",CONCATENATE(List!S14," :4"))),IF(List!N14="","",IF(List!N14<>List!I14,CONCATENATE(List!N14," :3"),IF(List!S14="","",IF(List!S14=List!N14,"",CONCATENATE(List!S14," :4")))))))) | F14: =CONCATENATE(IF(F$2>=List!$G14,IF(F$2<=List!$H14,List!$F14,""),""),IF(F$2>=List!$L14,IF(F$2<=List!$M14,List!$K14,""),""),IF(F$2>=List!$Q14,IF(F$2<=List!$R14,List!$P14,""),""),IF(F$2>=List!$V14,IF(F$2<=List!$W14,List!$U14,""),""),IF(F$2>=List!$Z14,IF(F$2<=List!$AA14,"()",""),"")) | G14: =CONCATENATE(IF(G$2>=List!$G14,IF(G$2<=List!$H14,List!$F14,""),""),IF(G$2>=List!$L14,IF(G$2<=List!$M14,List!$K14,""),""),IF(G$2>=List!$Q14,IF(G$2<=List!$R14,List!$P14,""),""),IF(G$2>=List!$V14,IF(G$2<=List!$W14,List!$U14,""),""),IF(G$2>=List!$Z14,IF(G$2<=List!$AA14,"()",""),"")) | H14: =CONCATENATE(IF(H$2>=List!$G14,IF(H$2<=List!$H14,List!$F14,""),""),IF(H$2>=List!$L14,IF(H$2<=List!$M14,List!$K14,""),""),IF(H$2>=List!$Q14,IF(H$2<=List!$R14,List!$P14,""),""),IF(H$2>=List!$V14,IF(H$2<=List!$W14,List!$U14,""),""),IF(H$2>=List!$Z14,IF(H$2<=List!$AA14,"()",""),"")) | I14: =CONCATENATE(IF(I$2>=List!$G14,IF(I$2<=List!$H14,List!$F14,""),""),IF(I$2>=List!$L14,IF(I$2<=List!$M14,List!$K14,""),""),IF(I$2>=List!$Q14,IF(I$2<=List!$R14,List!$P14,""),""),IF(I$2>=List!$V14,IF(I$2<=List!$W14,List!$U14,""),""),IF(I$2>=List!$Z14,IF(I$2<=List!$AA14,"()",""),"")) | J14: =CONCATENATE(IF(J$2>=List!$G14,IF(J$2<=List!$H14,List!$F14,""),""),IF(J$2>=List!$L14,IF(J$2<=List!$M14,List!$K14,""),""),IF(J$2>=List!$Q14,IF(J$2<=List!$R14,List!$P14,""),""),IF(J$2>=List!$V14,IF(J$2<=List!$W14,List!$U14,""),""),IF(J$2>=List!$Z14,IF(J$2<=List!$AA14,"()",""),"")) | K14: =CONCATENATE(IF(K$2>=List!$G14,IF(K$2<=List!$H14,List!$F14,""),""),IF(K$2>=List!$L14,IF(K$2<=List!$M14,List!$K14,""),""),IF(K$2>=List!$Q14,IF(K$2<=List!$R14,List!$P14,""),""),IF(K$2>=List!$V14,IF(K$2<=List!$W14,List!$U14,""),""),IF(K$2>=List!$Z14,IF(K$2<=List!$AA14,"()",""),"")) | L14: =CONCATENATE(IF(L$2>=List!$G14,IF(L$2<=List!$H14,List!$F14,""),""),IF(L$2>=List!$L14,IF(L$2<=List!$M14,List!$K14,""),""),IF(L$2>=List!$Q14,IF(L$2<=List!$R14,List!$P14,""),""),IF(L$2>=List!$V14,IF(L$2<=List!$W14,List!$U14,""),""),IF(L$2>=List!$Z14,IF(L$2<=List!$AA14,"()",""),"")) | M14: =CONCATENATE(IF(M$2>=List!$G14,IF(M$2<=List!$H14,List!$F14,""),""),IF(M$2>=List!$L14,IF(M$2<=List!$M14,List!$K14,""),""),IF(M$2>=List!$Q14,IF(M$2<=List!$R14,List!$P14,""),""),IF(M$2>=List!$V14,IF(M$2<=List!$W14,List!$U14,""),""),IF(M$2>=List!$Z14,IF(M$2<=List!$AA14,"()",""),"")) | ... BF14: =CONCATENATE(IF(BF$2>=List!$G14,IF(BF$2<=List!$H14,List!$F14,""),""),IF(BF$2>=List!$L14,IF(BF$2<=List!$M14,List!$K14,""),""),IF(BF$2>=List!$Q14,IF(BF$2<=List!$R14,List!$P14,""),""),IF(BF$2>=List!$V14,IF(BF$2<=List!$W14,List!$U14,""),""),IF(BF$2>=List!$Z14,IF(BF$2<=List!$AA14,"()",""),"")) | BH14: =List!D229 -> Caoba/Nogal | BI14: =List!E229 -> Mahogany/Walnut | BJ14: =List!F229 -> O | BK14: =List!G229 -> Mahagoni/Nußbaum
A15: =List!B15 -> 3 | B15: =List!C15 -> 25 | C15: =List!D15 -> Soho | D15: =IF(List!I15<>"",IF(List!D15=List!I15,IF(List!N15<>"",IF(List!N15=List!I15,IF(List!S15<>"",IF(List!S15=List!N15,"",CONCATENATE(List!S15," :4")),""),CONCATENATE(List!N15," :3")),""),CONCATENATE(List!I15," :2")),"") -> Mannheim :2 | E15: =IF(D15="","",IF(RIGHT(D15,1)="4","",IF(RIGHT(D15,1)="3",IF(List!S15="","",IF(List!S15=List!N15,"",CONCATENATE(List!S15," :4"))),IF(List!N15="","",IF(List!N15<>List!I15,CONCATENATE(List!N15," :3"),IF(List!S15="","",IF(List!S15=List!N15,"",CONCATENATE(List!S15," :4")))))))) | F15: =CONCATENATE(IF(F$2>=List!$G15,IF(F$2<=List!$H15,List!$F15,""),""),IF(F$2>=List!$L15,IF(F$2<=List!$M15,List!$K15,""),""),IF(F$2>=List!$Q15,IF(F$2<=List!$R15,List!$P15,""),""),IF(F$2>=List!$V15,IF(F$2<=List!$W15,List!$U15,""),""),IF(F$2>=List!$Z15,IF(F$2<=List!$AA15,"()",""),"")) -> B | G15: =CONCATENATE(IF(G$2>=List!$G15,IF(G$2<=List!$H15,List!$F15,""),""),IF(G$2>=List!$L15,IF(G$2<=List!$M15,List!$K15,""),""),IF(G$2>=List!$Q15,IF(G$2<=List!$R15,List!$P15,""),""),IF(G$2>=List!$V15,IF(G$2<=List!$W15,List!$U15,""),""),IF(G$2>=List!$Z15,IF(G$2<=List!$AA15,"()",""),"")) -> B | H15: =CONCATENATE(IF(H$2>=List!$G15,IF(H$2<=List!$H15,List!$F15,""),""),IF(H$2>=List!$L15,IF(H$2<=List!$M15,List!$K15,""),""),IF(H$2>=List!$Q15,IF(H$2<=List!$R15,List!$P15,""),""),IF(H$2>=List!$V15,IF(H$2<=List!$W15,List!$U15,""),""),IF(H$2>=List!$Z15,IF(H$2<=List!$AA15,"()",""),"")) -> B | I15: =CONCATENATE(IF(I$2>=List!$G15,IF(I$2<=List!$H15,List!$F15,""),""),IF(I$2>=List!$L15,IF(I$2<=List!$M15,List!$K15,""),""),IF(I$2>=List!$Q15,IF(I$2<=List!$R15,List!$P15,""),""),IF(I$2>=List!$V15,IF(I$2<=List!$W15,List!$U15,""),""),IF(I$2>=List!$Z15,IF(I$2<=List!$AA15,"()",""),"")) -> B | J15: =CONCATENATE(IF(J$2>=List!$G15,IF(J$2<=List!$H15,List!$F15,""),""),IF(J$2>=List!$L15,IF(J$2<=List!$M15,List!$K15,""),""),IF(J$2>=List!$Q15,IF(J$2<=List!$R15,List!$P15,""),""),IF(J$2>=List!$V15,IF(J$2<=List!$W15,List!$U15,""),""),IF(J$2>=List!$Z15,IF(J$2<=List!$AA15,"()",""),"")) -> B | K15: =CONCATENATE(IF(K$2>=List!$G15,IF(K$2<=List!$H15,List!$F15,""),""),IF(K$2>=List!$L15,IF(K$2<=List!$M15,List!$K15,""),""),IF(K$2>=List!$Q15,IF(K$2<=List!$R15,List!$P15,""),""),IF(K$2>=List!$V15,IF(K$2<=List!$W15,List!$U15,""),""),IF(K$2>=List!$Z15,IF(K$2<=List!$AA15,"()",""),"")) -> B | L15: =CONCATENATE(IF(L$2>=List!$G15,IF(L$2<=List!$H15,List!$F15,""),""),IF(L$2>=List!$L15,IF(L$2<=List!$M15,List!$K15,""),""),IF(L$2>=List!$Q15,IF(L$2<=List!$R15,List!$P15,""),""),IF(L$2>=List!$V15,IF(L$2<=List!$W15,List!$U15,""),""),IF(L$2>=List!$Z15,IF(L$2<=List!$AA15,"()",""),"")) -> B | M15: =CONCATENATE(IF(M$2>=List!$G15,IF(M$2<=List!$H15,List!$F15,""),""),IF(M$2>=List!$L15,IF(M$2<=List!$M15,List!$K15,""),""),IF(M$2>=List!$Q15,IF(M$2<=List!$R15,List!$P15,""),""),IF(M$2>=List!$V15,IF(M$2<=List!$W15,List!$U15,""),""),IF(M$2>=List!$Z15,IF(M$2<=List!$AA15,"()",""),"")) -> B | ... BF15: =CONCATENATE(IF(BF$2>=List!$G15,IF(BF$2<=List!$H15,List!$F15,""),""),IF(BF$2>=List!$L15,IF(BF$2<=List!$M15,List!$K15,""),""),IF(BF$2>=List!$Q15,IF(BF$2<=List!$R15,List!$P15,""),""),IF(BF$2>=List!$V15,IF(BF$2<=List!$W15,List!$U15,""),""),IF(BF$2>=List!$Z15,IF(BF$2<=List!$AA15,"()",""),"")) | BH15: =List!D230 -> Arce | BI15: =List!E230 -> Maple | BJ15: =List!F230 -> L | BK15: =List!G230 -> Ahorn
A16: =List!B16 -> 4 | B16: =List!C16 -> 20 | C16: =List!D16 -> Mannheim | D16: =IF(List!I16<>"",IF(List!D16=List!I16,IF(List!N16<>"",IF(List!N16=List!I16,IF(List!S16<>"",IF(List!S16=List!N16,"",CONCATENATE(List!S16," :4")),""),CONCATENATE(List!N16," :3")),""),CONCATENATE(List!I16," :2")),"") | E16: =IF(D16="","",IF(RIGHT(D16,1)="4","",IF(RIGHT(D16,1)="3",IF(List!S16="","",IF(List!S16=List!N16,"",CONCATENATE(List!S16," :4"))),IF(List!N16="","",IF(List!N16<>List!I16,CONCATENATE(List!N16," :3"),IF(List!S16="","",IF(List!S16=List!N16,"",CONCATENATE(List!S16," :4")))))))) | F16: =CONCATENATE(IF(F$2>=List!$G16,IF(F$2<=List!$H16,List!$F16,""),""),IF(F$2>=List!$L16,IF(F$2<=List!$M16,List!$K16,""),""),IF(F$2>=List!$Q16,IF(F$2<=List!$R16,List!$P16,""),""),IF(F$2>=List!$V16,IF(F$2<=List!$W16,List!$U16,""),""),IF(F$2>=List!$Z16,IF(F$2<=List!$AA16,"()",""),"")) -> B | G16: =CONCATENATE(IF(G$2>=List!$G16,IF(G$2<=List!$H16,List!$F16,""),""),IF(G$2>=List!$L16,IF(G$2<=List!$M16,List!$K16,""),""),IF(G$2>=List!$Q16,IF(G$2<=List!$R16,List!$P16,""),""),IF(G$2>=List!$V16,IF(G$2<=List!$W16,List!$U16,""),""),IF(G$2>=List!$Z16,IF(G$2<=List!$AA16,"()",""),"")) -> B | H16: =CONCATENATE(IF(H$2>=List!$G16,IF(H$2<=List!$H16,List!$F16,""),""),IF(H$2>=List!$L16,IF(H$2<=List!$M16,List!$K16,""),""),IF(H$2>=List!$Q16,IF(H$2<=List!$R16,List!$P16,""),""),IF(H$2>=List!$V16,IF(H$2<=List!$W16,List!$U16,""),""),IF(H$2>=List!$Z16,IF(H$2<=List!$AA16,"()",""),"")) -> B | I16: =CONCATENATE(IF(I$2>=List!$G16,IF(I$2<=List!$H16,List!$F16,""),""),IF(I$2>=List!$L16,IF(I$2<=List!$M16,List!$K16,""),""),IF(I$2>=List!$Q16,IF(I$2<=List!$R16,List!$P16,""),""),IF(I$2>=List!$V16,IF(I$2<=List!$W16,List!$U16,""),""),IF(I$2>=List!$Z16,IF(I$2<=List!$AA16,"()",""),"")) -> B | J16: =CONCATENATE(IF(J$2>=List!$G16,IF(J$2<=List!$H16,List!$F16,""),""),IF(J$2>=List!$L16,IF(J$2<=List!$M16,List!$K16,""),""),IF(J$2>=List!$Q16,IF(J$2<=List!$R16,List!$P16,""),""),IF(J$2>=List!$V16,IF(J$2<=List!$W16,List!$U16,""),""),IF(J$2>=List!$Z16,IF(J$2<=List!$AA16,"()",""),"")) -> B | K16: =CONCATENATE(IF(K$2>=List!$G16,IF(K$2<=List!$H16,List!$F16,""),""),IF(K$2>=List!$L16,IF(K$2<=List!$M16,List!$K16,""),""),IF(K$2>=List!$Q16,IF(K$2<=List!$R16,List!$P16,""),""),IF(K$2>=List!$V16,IF(K$2<=List!$W16,List!$U16,""),""),IF(K$2>=List!$Z16,IF(K$2<=List!$AA16,"()",""),"")) -> B | L16: =CONCATENATE(IF(L$2>=List!$G16,IF(L$2<=List!$H16,List!$F16,""),""),IF(L$2>=List!$L16,IF(L$2<=List!$M16,List!$K16,""),""),IF(L$2>=List!$Q16,IF(L$2<=List!$R16,List!$P16,""),""),IF(L$2>=List!$V16,IF(L$2<=List!$W16,List!$U16,""),""),IF(L$2>=List!$Z16,IF(L$2<=List!$AA16,"()",""),"")) -> B | M16: =CONCATENATE(IF(M$2>=List!$G16,IF(M$2<=List!$H16,List!$F16,""),""),IF(M$2>=List!$L16,IF(M$2<=List!$M16,List!$K16,""),""),IF(M$2>=List!$Q16,IF(M$2<=List!$R16,List!$P16,""),""),IF(M$2>=List!$V16,IF(M$2<=List!$W16,List!$U16,""),""),IF(M$2>=List!$Z16,IF(M$2<=List!$AA16,"()",""),"")) -> B | ... BF16: =CONCATENATE(IF(BF$2>=List!$G16,IF(BF$2<=List!$H16,List!$F16,""),""),IF(BF$2>=List!$L16,IF(BF$2<=List!$M16,List!$K16,""),""),IF(BF$2>=List!$Q16,IF(BF$2<=List!$R16,List!$P16,""),""),IF(BF$2>=List!$V16,IF(BF$2<=List!$W16,List!$U16,""),""),IF(BF$2>=List!$Z16,IF(BF$2<=List!$AA16,"()",""),"")) | BH16: =List!D231 -> Metal | BI16: =List!E231 -> Metal | BJ16: =List!F231 -> T | BK16: =List!G231 -> Metall
... A20: =List!B20 -> 5 | B20: =List!C20 -> 36 | C20: =List!D20 -> Mannheim | D20: =IF(List!I20<>"",IF(List!D20=List!I20,IF(List!N20<>"",IF(List!N20=List!I20,IF(List!S20<>"",IF(List!S20=List!N20,"",CONCATENATE(List!S20," :4")),""),CONCATENATE(List!N20," :3")),""),CONCATENATE(List!I20," :2")),"") | E20: =IF(D20="","",IF(RIGHT(D20,1)="4","",IF(RIGHT(D20,1)="3",IF(List!S20="","",IF(List!S20=List!N20,"",CONCATENATE(List!S20," :4"))),IF(List!N20="","",IF(List!N20<>List!I20,CONCATENATE(List!N20," :3"),IF(List!S20="","",IF(List!S20=List!N20,"",CONCATENATE(List!S20," :4")))))))) | F20: =CONCATENATE(IF(F$2>=List!$G20,IF(F$2<=List!$H20,List!$F20,""),""),IF(F$2>=List!$L20,IF(F$2<=List!$M20,List!$K20,""),""),IF(F$2>=List!$Q20,IF(F$2<=List!$R20,List!$P20,""),""),IF(F$2>=List!$V20,IF(F$2<=List!$W20,List!$U20,""),""),IF(F$2>=List!$Z20,IF(F$2<=List!$AA20,"()",""),"")) | G20: =CONCATENATE(IF(G$2>=List!$G20,IF(G$2<=List!$H20,List!$F20,""),""),IF(G$2>=List!$L20,IF(G$2<=List!$M20,List!$K20,""),""),IF(G$2>=List!$Q20,IF(G$2<=List!$R20,List!$P20,""),""),IF(G$2>=List!$V20,IF(G$2<=List!$W20,List!$U20,""),""),IF(G$2>=List!$Z20,IF(G$2<=List!$AA20,"()",""),"")) | H20: =CONCATENATE(IF(H$2>=List!$G20,IF(H$2<=List!$H20,List!$F20,""),""),IF(H$2>=List!$L20,IF(H$2<=List!$M20,List!$K20,""),""),IF(H$2>=List!$Q20,IF(H$2<=List!$R20,List!$P20,""),""),IF(H$2>=List!$V20,IF(H$2<=List!$W20,List!$U20,""),""),IF(H$2>=List!$Z20,IF(H$2<=List!$AA20,"()",""),"")) | I20: =CONCATENATE(IF(I$2>=List!$G20,IF(I$2<=List!$H20,List!$F20,""),""),IF(I$2>=List!$L20,IF(I$2<=List!$M20,List!$K20,""),""),IF(I$2>=List!$Q20,IF(I$2<=List!$R20,List!$P20,""),""),IF(I$2>=List!$V20,IF(I$2<=List!$W20,List!$U20,""),""),IF(I$2>=List!$Z20,IF(I$2<=List!$AA20,"()",""),"")) | J20: =CONCATENATE(IF(J$2>=List!$G20,IF(J$2<=List!$H20,List!$F20,""),""),IF(J$2>=List!$L20,IF(J$2<=List!$M20,List!$K20,""),""),IF(J$2>=List!$Q20,IF(J$2<=List!$R20,List!$P20,""),""),IF(J$2>=List!$V20,IF(J$2<=List!$W20,List!$U20,""),""),IF(J$2>=List!$Z20,IF(J$2<=List!$AA20,"()",""),"")) | K20: =CONCATENATE(IF(K$2>=List!$G20,IF(K$2<=List!$H20,List!$F20,""),""),IF(K$2>=List!$L20,IF(K$2<=List!$M20,List!$K20,""),""),IF(K$2>=List!$Q20,IF(K$2<=List!$R20,List!$P20,""),""),IF(K$2>=List!$V20,IF(K$2<=List!$W20,List!$U20,""),""),IF(K$2>=List!$Z20,IF(K$2<=List!$AA20,"()",""),"")) | L20: =CONCATENATE(IF(L$2>=List!$G20,IF(L$2<=List!$H20,List!$F20,""),""),IF(L$2>=List!$L20,IF(L$2<=List!$M20,List!$K20,""),""),IF(L$2>=List!$Q20,IF(L$2<=List!$R20,List!$P20,""),""),IF(L$2>=List!$V20,IF(L$2<=List!$W20,List!$U20,""),""),IF(L$2>=List!$Z20,IF(L$2<=List!$AA20,"()",""),"")) | M20: =CONCATENATE(IF(M$2>=List!$G20,IF(M$2<=List!$H20,List!$F20,""),""),IF(M$2>=List!$L20,IF(M$2<=List!$M20,List!$K20,""),""),IF(M$2>=List!$Q20,IF(M$2<=List!$R20,List!$P20,""),""),IF(M$2>=List!$V20,IF(M$2<=List!$W20,List!$U20,""),""),IF(M$2>=List!$Z20,IF(M$2<=List!$AA20,"()",""),"")) | ... BF20: =CONCATENATE(IF(BF$2>=List!$G20,IF(BF$2<=List!$H20,List!$F20,""),""),IF(BF$2>=List!$L20,IF(BF$2<=List!$M20,List!$K20,""),""),IF(BF$2>=List!$Q20,IF(BF$2<=List!$R20,List!$P20,""),""),IF(BF$2>=List!$V20,IF(BF$2<=List!$W20,List!$U20,""),""),IF(BF$2>=List!$Z20,IF(BF$2<=List!$AA20,"()",""),"")) | BH20: =List!D235 -> ¿Madera? | BI20: =List!E235 -> Wood? | BJ20: =List!F235 -> ? | BK20: =List!G235 -> Holz?
A21: =List!B21 -> 5 | B21: =List!C21 -> 50 | C21: =List!D21 -> Mannheim | D21: =IF(List!I21<>"",IF(List!D21=List!I21,IF(List!N21<>"",IF(List!N21=List!I21,IF(List!S21<>"",IF(List!S21=List!N21,"",CONCATENATE(List!S21," :4")),""),CONCATENATE(List!N21," :3")),""),CONCATENATE(List!I21," :2")),"") | E21: =IF(D21="","",IF(RIGHT(D21,1)="4","",IF(RIGHT(D21,1)="3",IF(List!S21="","",IF(List!S21=List!N21,"",CONCATENATE(List!S21," :4"))),IF(List!N21="","",IF(List!N21<>List!I21,CONCATENATE(List!N21," :3"),IF(List!S21="","",IF(List!S21=List!N21,"",CONCATENATE(List!S21," :4")))))))) | F21: =CONCATENATE(IF(F$2>=List!$G21,IF(F$2<=List!$H21,List!$F21,""),""),IF(F$2>=List!$L21,IF(F$2<=List!$M21,List!$K21,""),""),IF(F$2>=List!$Q21,IF(F$2<=List!$R21,List!$P21,""),""),IF(F$2>=List!$V21,IF(F$2<=List!$W21,List!$U21,""),""),IF(F$2>=List!$Z21,IF(F$2<=List!$AA21,"()",""),"")) | G21: =CONCATENATE(IF(G$2>=List!$G21,IF(G$2<=List!$H21,List!$F21,""),""),IF(G$2>=List!$L21,IF(G$2<=List!$M21,List!$K21,""),""),IF(G$2>=List!$Q21,IF(G$2<=List!$R21,List!$P21,""),""),IF(G$2>=List!$V21,IF(G$2<=List!$W21,List!$U21,""),""),IF(G$2>=List!$Z21,IF(G$2<=List!$AA21,"()",""),"")) | H21: =CONCATENATE(IF(H$2>=List!$G21,IF(H$2<=List!$H21,List!$F21,""),""),IF(H$2>=List!$L21,IF(H$2<=List!$M21,List!$K21,""),""),IF(H$2>=List!$Q21,IF(H$2<=List!$R21,List!$P21,""),""),IF(H$2>=List!$V21,IF(H$2<=List!$W21,List!$U21,""),""),IF(H$2>=List!$Z21,IF(H$2<=List!$AA21,"()",""),"")) | I21: =CONCATENATE(IF(I$2>=List!$G21,IF(I$2<=List!$H21,List!$F21,""),""),IF(I$2>=List!$L21,IF(I$2<=List!$M21,List!$K21,""),""),IF(I$2>=List!$Q21,IF(I$2<=List!$R21,List!$P21,""),""),IF(I$2>=List!$V21,IF(I$2<=List!$W21,List!$U21,""),""),IF(I$2>=List!$Z21,IF(I$2<=List!$AA21,"()",""),"")) | J21: =CONCATENATE(IF(J$2>=List!$G21,IF(J$2<=List!$H21,List!$F21,""),""),IF(J$2>=List!$L21,IF(J$2<=List!$M21,List!$K21,""),""),IF(J$2>=List!$Q21,IF(J$2<=List!$R21,List!$P21,""),""),IF(J$2>=List!$V21,IF(J$2<=List!$W21,List!$U21,""),""),IF(J$2>=List!$Z21,IF(J$2<=List!$AA21,"()",""),"")) | K21: =CONCATENATE(IF(K$2>=List!$G21,IF(K$2<=List!$H21,List!$F21,""),""),IF(K$2>=List!$L21,IF(K$2<=List!$M21,List!$K21,""),""),IF(K$2>=List!$Q21,IF(K$2<=List!$R21,List!$P21,""),""),IF(K$2>=List!$V21,IF(K$2<=List!$W21,List!$U21,""),""),IF(K$2>=List!$Z21,IF(K$2<=List!$AA21,"()",""),"")) | L21: =CONCATENATE(IF(L$2>=List!$G21,IF(L$2<=List!$H21,List!$F21,""),""),IF(L$2>=List!$L21,IF(L$2<=List!$M21,List!$K21,""),""),IF(L$2>=List!$Q21,IF(L$2<=List!$R21,List!$P21,""),""),IF(L$2>=List!$V21,IF(L$2<=List!$W21,List!$U21,""),""),IF(L$2>=List!$Z21,IF(L$2<=List!$AA21,"()",""),"")) | M21: =CONCATENATE(IF(M$2>=List!$G21,IF(M$2<=List!$H21,List!$F21,""),""),IF(M$2>=List!$L21,IF(M$2<=List!$M21,List!$K21,""),""),IF(M$2>=List!$Q21,IF(M$2<=List!$R21,List!$P21,""),""),IF(M$2>=List!$V21,IF(M$2<=List!$W21,List!$U21,""),""),IF(M$2>=List!$Z21,IF(M$2<=List!$AA21,"()",""),"")) | ... BF21: =CONCATENATE(IF(BF$2>=List!$G21,IF(BF$2<=List!$H21,List!$F21,""),""),IF(BF$2>=List!$L21,IF(BF$2<=List!$M21,List!$K21,""),""),IF(BF$2>=List!$Q21,IF(BF$2<=List!$R21,List!$P21,""),""),IF(BF$2>=List!$V21,IF(BF$2<=List!$W21,List!$U21,""),""),IF(BF$2>=List!$Z21,IF(BF$2<=List!$AA21,"()",""),""))
